{"text_format":"1","workbook":"xlsx","n_sheets":9,"sheets":["menu","データ入力（児童生徒）","データ入力（保護者）","データ貼付け（児童生徒）","データ貼付け（保護者）","集計結果（児童生徒）","集計結果（保護者）","作業（児童生徒）","作業（保護者）"],"not_rendered":{"charts":0,"images":0,"macros":1,"external_links":0,"defined_names":4,"comments":0,"pivot_tables":0},"unopened":[],"bounds":{"document_bytes":16777216,"sheet_cells":100000,"rows_first":2000,"rows_last":500,"rows_between":2000,"halvings":0,"cell_chars":16384,"cell_head_chars":4096},"cells_cut":0,"cells_raw":0,"read":"whole","date_system":"1900"}

{"sheet":"menu","index":0,"n_rows":23,"n_cols":3,"rows_kept":23,"cut":false,"hidden":false,"merged":[[4,2,4,8],[16,2,16,8],[5,0,13,0],[17,0,25,0],[5,1,8,1],[10,1,13,1],[17,1,20,1],[22,1,25,1]]}
[]
["MENU"]
[]
[]
[null,null,"↓どちらかをお使いになって入力してください↓"]
["児童・生徒用","入力"]
[]
[]
[]
[]
[null,"出力"]
[]
[]
[]
[]
[]
[null,null,"↓どちらかをお使いになって入力してください↓"]
["保護者用","入力"]
[]
[]
[]
[]
[null,"出力"]

{"sheet":"データ入力（児童生徒）","index":1,"n_rows":124,"n_cols":11,"rows_kept":124,"cut":false,"hidden":false,"merged":[[2,9,2,10],[23,1,25,1],[28,1,30,1],[52,1,54,1],[56,2,56,4],[57,0,62,0],[57,1,62,1],[57,2,57,4],[58,2,58,4],[59,2,59,4],[60,2,60,4],[61,2,61,4],[62,2,62,4],[82,2,82,4],[83,0,88,0],[83,1,88,1],[83,2,83,4],[84,2,84,4],[85,2,85,4],[86,2,86,4],[87,2,87,4],[122,2,122,5],[123,2,123,5],[88,2,88,4],[115,2,115,5],[116,0,123,0],[116,1,123,1],[116,2,116,5],[117,2,117,5],[118,2,118,5],[119,2,119,5],[120,2,120,5],[121,2,121,5]]}
[]
["「情報モラルの育成」に関するアンケート集計＜手入力フォーム＞"]
["◆児童・生徒アンケート",null,null,null,null,null,null,null,null,"回答児童・生徒数入力"]
["【日常生活】についての質問"]
[null,"質問","はい","どちらとも\nいえない","いいえ"]
["(1)-1","あなたは、毎日朝食を食べますか（時々食べる場合には「どちらともいえない」）"]
["(1)-2","あなたは、毎日決まった時間に寝ていますか（週に２、３回寝る時間が遅くなる場合は「どちらともいえない」） "]
[]
[null,"質問","４時間未満","４時間～\n６時間未満","６時間～\n８時間未満","８時間以上"]
["(2)","平日の睡眠時間は何時間くらいですか"]
[]
[null,"質問","30分未満","30分～\n１時間未満","１時間～\n２時間未満","２時間～\n３時間未満","３時間以上"]
["(3)","平日の勉強時間（宿題や塾を含む）は何時間くらいですか"]
["【各機器の使い方】についての質問"]
[null,"質問","持っている","持って\nいない"]
["(4)","あなたは自分のスマホを持っていますか"]
[]
[null,"質問","家にない","自分のもので使っている","家族のもので使っている","家にあるが使っていない"]
["(5)-1","あなたはスマホでインターネットを使っていますか（タブレットを除く）"]
["(5)-2","あなたはタブレットやパソコンでインターネットを使っていますか"]
["(5)-3","あなたはゲーム機でインターネットを使っていますか"]
[]
[null,"質問","機器名","家にない","０分","30分未満\n使っている","30分以上\n１時間未満","１時間以上\n２時間未満","２時間以上\n３時間未満","３時間以上\n４時間未満","４時間以上"]
["(6)-1","各機器を使っている平日の平均時間\n（勉強のために使うことも含む）","スマホ・\nタブレット"]
["(6)-2",null,"パソコン"]
["(6)-3",null,"ゲーム機"]
[]
[null,"質問","機器名","家にない","０分","30分未満\n使っている","30分以上\n１時間未満","１時間以上\n２時間未満","２時間以上\n３時間未満","３時間以上\n４時間未満","４時間以上"]
["(7)-1","各機器を勉強のために使っている平日の平均時間","スマホ・\nタブレット"]
["(7)-2",null,"パソコン"]
["(7)-3",null,"ゲーム機"]
[]
["（８）あなたの家庭では、各機器を使う場合のルールとして決めていることはありますか"]
[null,"質問","家にない","決められて\nいる","決められて\nいない"]
["(8)-1","利用時間（何時間以内など）"]
["(8)-2","利用してよい時間帯（何時から何時までなど）"]
["(8)-3","通話やデータ通信などに利用できる金額"]
["(8)-4","有料、無料に限らず、アプリをダウンロードすることについて"]
["(8)-5","お金を払って有料アプリやゲーム内のアイテムを買うことについて"]
["(8)-6","LINE（ﾗｲﾝ）やTwitter（ﾂｲｯﾀｰ）など、インターネットへ書きこむことに\nついて"]
["(8)-7","YouTube（ﾕｰﾁｭｰﾌﾞ）やホームページなど、インターネットを見ることに\nついて"]
["(8)-8","家の中では、リビング（居間）でしか使わないこと"]
["(8)-9","保護者と一緒の時にしか使わない"]
["(8)-10","その他のルール"]
[]
[null,"質問","各機器を\n使っていない","保護者","保護者と自分","自分","ルールは\nない","その他"]
["(9)","ルールは誰が作りましたか"]
[]
[null,"質問","家にない","守っている","だいたい\n守っている","あまり守っていない","ほとんど守っ\nていない","ルールは\nない"]
["(10)","ルールは守っていますか"]
[]
[null,"質問","機器名","家にない","かけられて\nいる","かけられて\nいない","わからない"]
["(11)-1","フィルタリングはかけられていますか","スマホ・\nタブレット"]
["(11)-2",null,"パソコン"]
["(11)-3",null,"ゲーム機"]
["【SNS等の利用】についての質問"]
[null,"質問","アプリケーション名",null,null,"割合"]
["(12)","あなたがよく利用するSNSは何ですか（複数回答可）","使っていない"]
[null,null,"LINE"]
[null,null,"Twitter"]
[null,null,"Instagram"]
[null,null,"TikTok"]
[null,null,"その他"]
["（13）SNSにおいて、利用しているサービスは何ですか（利用していない場合は「いいえ」を選択）"]
[null,"質問","はい","いいえ"]
["(13)-1","家族以外の知り合いと、無料通話をする"]
["(13)-2","家族以外の知り合いと1対1でメッセージのやりとりをする",null,null,null,null,null,null,"　"]
["(13)-3","グループを作って、グループ内でメッセージのやりとりをする"]
["(13)-4","家族と、無料通話やメッセージのやりとりをする"]
["(13)-5","記事を投稿する"]
["(13)-6","アプリを使う"]
["(13)-7","お店からのお知らせを見たり、クーポンをもらったりする"]
[]
[null,"質問","０回\n（または使って\nいない）","１～５回","６～10回","11～30回","31～50回","51回以上"]
["(14)","LINE（ライン）などを使ってメッセージを送る回数の一日平均はどれくらいですか"]
[]
[null,"質問","送らない\n（または使って\nいない）","３分以内","10分以内","30分以内","60分以内","特にイライラしたり\n不安になったりしない"]
["(15)","友だちにメールやメッセージを送って返事が返ってこない時、どれくらいでイライラしたり不安になったりしますか"]
[]
[null,"質問","使っていない","よくある","ときどき","ほとんどない","全くない"]
["(16)","やりたいことがあるのにメールやメッセージが来て困ることがありますか"]
[]
[null,"質問","アプリケーション名",null,null,"割合"]
["(17)","SNSで知り合った人はいますか知り合った人がいる場合は、どのSNSで知り合いましたか","知り合ったことはない"]
[null,null,"LINE"]
[null,null,"Twitter"]
[null,null,"Instagram"]
[null,null,"TikTok"]
[null,null,"その他"]
[]
[null,"質問","知り合ったことはない","ある","ない"]
["(18)","SNSで知り合った人に自分の電話番号、またはラインのアカウントなどを教えたことがありますか"]
["(19)","SNSで知り合った人と実際に会ったことがありますか"]
["【インターネットで起きたトラブル】についての質問"]
[null,"質問","使っていない","はい","いいえ"]
["(20)-1","悪口や嫌がらせのメールを送られたり、SNS・ブログ・プロフなどに書き込まれたりしたことがある"]
["(20)-2"," 悪口や嫌がらせのメールを送ったり、SNS・ブログ・プロフなどに書き込んだりしたことがある"]
["(20)-3","迷惑な内容（アダルトサイトからの通知や、不安になる内容など）が送られてきたことがある"]
["(20)-4","下着姿や裸の動画または画像を送ることを要求されたことがある"]
["(20)-5","有料サイトの利用料金などについて、身に覚えのない支払いを求められたことがある"]
["(20)-6","保護者に話しにくいサイトを見たことがある"]
["(20)-7","自分の情報（名前や写真など）を書き込んだことがある"]
["(20)-8","他人の情報（名前や写真など）を無断で書き込んだことがある"]
["(20)-9","他人に嫌がらせをしている動画や、物を壊すなどのいたずらをしている動画を投稿したことがある"]
["(20)-10","スマホや携帯電話にのめり込んで勉強に集中できなかったり、睡眠不足になったりしたことがある"]
["【動画】についての質問"]
[null,"質問","ある","ない"]
["(21)-1","各機器を使って動画の撮影をしたことがある"]
["(21)-2","YouTube(ﾕｰﾁｭｰﾌﾞ）や、Twitter（ﾂｲｯﾀｰ）、TikTok（ﾃｨｯｸﾄｯｸ）などに\n動画を投稿したことがある"]
[]
[null,"質問","良いと思う","いけないと思う","わからない"]
["(22)-1","BGMはお店で売っているCDを買えば、自分の動画のBGMとして利用し、YouTube（ﾕｰﾁｭｰﾌﾞ）などに投稿してもよい"]
["(22)-2","ダンス動画の投稿は、YouTube（ﾕｰﾁｭｰﾌﾞ）で使われている音楽を使って踊ったものなら、YouTubeなどに投稿してもよい"]
["(22)-3","カラオケ動画の投稿は、カラオケボックスなどで、自分がカラオケに合わせて歌ったものであれば、YouTube（ﾕｰﾁｭｰﾌﾞ）などに投稿してもよい"]
["【情報モラル教育】についての質問"]
[null,"質問","区分",null,null,null,"割合"]
["(23)","インターネットを利用する上での危険性や正しい使い方について、あなたは何によって説明を受けたり学んだりしましたか（複数回答可）","学校（学校内の先生）"]
[null,null,"学校（外部の人）"]
[null,null,"保護者"]
[null,null,"スマホの販売店員"]
[null,null,"友だち"]
[null,null,"テレビや本・雑誌"]
[null,null,"インターネット"]
[null,null,"特にない"]

{"sheet":"データ入力（保護者）","index":2,"n_rows":113,"n_cols":12,"rows_kept":113,"cut":false,"hidden":false,"merged":[[20,1,22,1],[23,1,25,1],[49,2,49,4],[50,0,56,0],[50,1,56,1],[50,2,50,4],[51,2,51,4],[52,2,52,4],[53,2,53,4],[54,2,54,4],[55,2,55,4],[56,2,56,4],[71,0,77,0],[71,1,77,1],[71,2,71,4],[72,2,72,4],[73,2,73,4],[74,2,74,4],[76,2,76,4],[77,2,77,4],[91,0,99,0],[91,1,99,1],[91,2,91,6],[92,2,92,6],[93,2,93,6],[94,2,94,6],[90,2,90,6],[95,2,95,6],[96,2,96,6],[2,9,2,10],[110,2,110,6],[101,2,101,6],[75,2,75,4],[97,2,97,6],[98,2,98,6],[99,2,99,6],[70,2,70,4],[111,2,111,6],[112,2,112,6],[102,0,112,0],[102,1,112,1],[102,2,102,6],[103,2,103,6],[104,2,104,6],[105,2,105,6],[106,2,106,6],[107,2,107,6],[108,2,108,6],[109,2,109,6]]}
[]
["「情報モラルの育成」に関するアンケート集計結果＜手入力フォーム＞"]
["◆保護者アンケート",null,null,null,null,null,null,null,null,"回答保護者数入力"]
["お子様の【日常生活】についての質問"]
[null,"質問","はい","どちらとも\nいえない","いいえ"]
["(1)-1","お子様は、毎日朝食を食べていますか（時々食べている場合は「どちらともいえない」） "]
["(1)-2","お子様は、毎日決まった時間に寝ていますか（週に２、３回寝る時間が遅くなる場合は「どちらともいえない」） "]
[]
[null,"質問","４時間未満","４時間～\n６時間未満","６時間～\n８時間未満","８時間以上","わからない"]
["(2)","お子様の平日の睡眠時間は何時間くらいだと思いますか"]
[]
[null,"質問","30分未満","30分～\n１時間未満","１時間～\n２時間未満","２時間～\n３時間未満","３時間以上","わからない"]
["(3)","お子様の平日の家庭学習の時間（宿題や塾を含む）は何時間くらいだと思いますか"]
["お子様の【各機器の使い方】についての質問"]
[null,"質問","家にない","自分のもので使っている","家族のもので\n使っている","家にあるが\n使っていない"]
["(4)-1","お子様はスマホでインターネットを使っていますか"]
["(4)-2","お子様はタブレットやパソコンでインターネットを使っていますか"]
["(4)-3","お子様はゲーム機でインターネットを使っていますか"]
[]
[null,"質問","機器名","家にない","０分","30分未満\n使っている","30分以上\n１時間未満","１時間以上\n２時間未満","２時間以上\n３時間未満","３時間以上\n４時間未満","４時間以上","わからない"]
["(5)-1","子どもの平日の平均使用時間（勉強のために使うことも含む）","スマホ・\nタブレット"]
["(5)-2",null,"パソコン"]
["(5)-3",null,"ゲーム機"]
["(6)-1","勉強のために使っている時間 ","スマホ・\nタブレット"]
["(6)-2",null,"パソコン"]
["(6)-3",null,"ゲーム機"]
["（7）ご家庭で、各機器を使う場合のルールとして決めていることはありますか"]
[null,"質問","機器を\n使わせていない","決められて\nいる","決められて\nいない"]
["(7)-1","利用時間（何時間以内など）"]
["(7)-2","利用してよい時間帯（何時から何時までなど）"]
["(7)-3","通話やデータ通信などに利用できる金額"]
["(7)-4","有料、無料に限らず、アプリをダウンロードすることについて"]
["(7)-5","お金を払って有料アプリやゲーム内のアイテムを買うことについて"]
["(7)-6","Twitter（ﾂｲｯﾀｰ）やLINE（ﾗｲﾝ）など、インターネットへ書きこむことについて"]
["(7)-7","YouTube（ﾕｰﾁｭｰﾌﾞ）やホームページなど、インターネットを見ることについて"]
["(7)-8","家の中では、リビング（居間）でしか使わないこと"]
["(7)-9","保護者と一緒の時にしか使わない"]
["(7)-10","その他のルール"]
[]
[null,"質問","機器を\n使わせていない","はい","いいえ"]
["(8)-1","お子様は各機器を、使いすぎていると思いますか"]
["(8)-2","各機器にはフィルタリングをかけていますか（使用している機器の１つでもかけてあれば、「はい」）"]
[]
[null,"質問","家にない","守っている","だいたい\n守っている","あまり守っ\nていない","ほとんど\n守っていない","わからない","ルールは\n決めていない"]
["(9)","お子様は、ルールを守っていますか"]
[]
[null,"質問","各機器を\n使わせていない","保護者","保護者と\nお子様","お子様","ルールは\nない","その他"]
["(10)","ルールは誰が作りましたか"]
["お子様の【SNS等の利用】についての質問"]
[null,"質問","アプリケーション名",null,null,"割合"]
["(11)","お子様が使っていると思われるアプリはどれですか（複数回答可）","使わせていない"]
[null,null,"LINE"]
[null,null,"Twitter"]
[null,null,"Instagram"]
[null,null,"TikTok"]
[null,null,"その他"]
[null,null,"わからない"]
["(12)お子様の【インターネットで起きたトラブル】についての質問"]
[null,"質問","使わせて\nいない","ある","あるかも\nしれない","ないと\n思われる","ない","わからない"]
["(12)-1","悪口や嫌がらせのメールを送られたり、SNS・ブログ・プロフなどに書き込まれたりしたことがある"]
["(12)-2","悪口や嫌がらせのメールを送ったり、SNS・ブログ・プロフなどに書き込んだりしたことがある"]
["(12)-3","迷惑な内容（アダルトサイトからの通知、不安になる内容など）が送られてきたことがある"]
["(12)-4","下着姿や裸の動画または画像を送るよう要求されたことがある"]
["(12)-5","有料サイトの利用料金などについて、身に覚えのない支払いを求められたことがある"]
["(12)-6","保護者に話しにくいサイトを見たことがある"]
["(12)-7","お子様自身の情報(名前や写真など）を書き込んだことがある"]
["(12)-8","他人の情報(名前や写真など）を無断で書き込んだことがある"]
["(12)-9","他人に嫌がらせをしている動画や、物を壊すなどのいたずらをしている動画を投稿したことがある"]
["(12)-10","スマホや携帯電話にのめり込んで勉強に集中できなかったり、睡眠不足になったりしたことがある"]
[]
[null,"質問","アプリケーション名",null,null,"割合"]
["(13)","お子様には、SNSを通じて知り合った人がいると思いますか\nいると思われる場合、どのSNSで知り合ったと思いますか","いない"]
[null,null,"LINE"]
[null,null,"Twitter"]
[null,null,"Instagram"]
[null,null,"TikTok"]
[null,null,"その他"]
[null,null,"わからない"]
[]
[null,"質問","ある","ない","わからない"]
["(14)-1","お子様は、SNSで知り合った人に自分の電話番号、またはLINEのアカウントなどを教えたことがあると思いますか"]
["(14)-2","お子様は、SNSで知り合った人と実際に会ったことがあると思いますか"]
[]
[null,"質問","週２回以上","週１回程度","月１回程度","年１回程度","機器の\n購入時のみ","話し合って\nいない"]
["(15)","インターネットやSNSの使い方について、お子様とどの程度話し合いますか"]
["【保護者ご自身のこと】についての質問"]
[null,"質問","ある","ない","わからない"]
["(16)","あなたは、Twitter（ツイッター）やInstagram（インスタグラム）などの誰にでも見られる場所に、他人の画像を本人の許可なくアップしたことがありますか"]
["(17)","あなたはTwitter（ツイッター）やInstagram（インスタグラム）などの誰にでも見られる場所に、自分の画像を許可なくアップされたことがありますか"]
[]
[null,"質問","選択肢",null,null,null,null,"割合"]
["(18)","情報モラル教育として学校で指導してもらいたいこと\n（２つまで回答可）","目的に応じて情報を適切に処理する力を身に付けること"]
[null,null,"パソコン・ネットワークの操作技術を身に付けること"]
[null,null,"パソコン・ネットワークの知識を身に付けること"]
[null,null,"インターネット上でのマナーを身に付けること"]
[null,null,"インターネット上で有害情報や危険なサイトがあることを教え、被害に巻き込まれないようにすること"]
[null,null,"スマホなど、新しい機器の特徴について知ること"]
[null,null,"SNSなど、新しいインターネットの利用形態について知ること",null,null,null,null,null,null,"　"]
[null,null,"その他"]
[null,null,"特にない"]
[]
[null,"質問","選択肢",null,null,null,null,"割合"]
["(19)","お子様がインターネットを利用する上で特に心配なこと\n（2つまで回答可）","利用料金が負担になること"]
[null,null,"勉強の妨げになること"]
[null,null,"子どもの交友関係が分からなくなること"]
[null,null,"生活が不規則になること"]
[null,null,"ネットいじめに遭う恐れがあること"]
[null,null,"詐欺や連れ去りなどの事件に巻き込まれる恐れがあること"]
[null,null,"家族との会話が少なくなること"]
[null,null,"他人と対面でふれあう経験が不足すること"]
[null,null,"ネット依存になる恐れがあること"]
[null,null,"その他"]
[null,null,"特にない"]

{"sheet":"データ貼付け（児童生徒）","index":3,"n_rows":2,"n_cols":80,"rows_kept":2,"cut":false,"hidden":false,"merged":[]}
[null,null,null,null,"あなたは、毎日朝食を食べますか","あなたは、毎日決まった時間に寝ていますか","平日の睡眠時間は何時間くらいですか。","平日の宿題や塾の時間も含めた家庭学習の時間は何時間くらいですか。","あなたは自分のスマホを持っていますか。","あなたはスマホでインターネットを使っていますか（タブレットをのぞく）","あなたはタブレットやパソコンでインターネットを使っていますか択","あなたはゲーム機でインターネットを使っていますか","平日の平均使用時間。（勉強のために使うこともふくむ）　スマホ・タブレット","平日の平均使用時間としてあてはまるものをぬりつぶしてください。（勉強のために使うこともふくむ）　パソコン選択","平日の平均使用時間。（勉強のために使うこともふくむ）　ゲーム機","勉強のために使っている時間　スマホ・タブレット","勉強のために使っている時間　パソコン","勉強のために使っている時間。ゲーム機","ルール　利用時間（何時間以内など）","ルール　利用してよい時間帯（何時から何時までなど）","ルール　通話やデータ通信などに利用できる金額","ルール　有料、無料に限らず、アプリをダウンロードすることについて","ルール　お金を払って有料アプリやゲーム内のアイテムを買うことについて","ルール　インターネットへ書き込み","ルールインターネットを見ること","ルール　家の中では、リビングだけで使うこと","ルール　保護者と一緒の時にしか使わない","ルール　その他","ルールはだれが作りましたか。","各機器を使うときのルールは守っていますか。","あなたの使う機器にはフィルタリングがかけられていますか。　スマホ","あなたの使う機器にはフィルタリングがかけられていますか。　パソコン","あなたの使う機器にはフィルタリングがかけられていますか。　ゲーム機","あなたがよく利用するSNSは何ですか。","あなたがよく利用するSNSは何ですか。","あなたがよく利用するSNSは何ですか。","あなたがよく利用するSNSは何ですか。","あなたがよく利用するSNSは何ですか。","あなたがよく利用するSNSは何ですか。","SNSで利用しているサービス　家族以外の知り合いと、無料通話をする","SNSで利用しているサービス　家族以外の知り合いと1対1でメッセージのやりとりをする","SNSで利用しているサービス　グループを作って、グループ内でメッセージのやりとりをする","SNSで利用しているサービス　家族と、無料通話やメッセージのやりとりをする","SNSで利用しているサービス　記事を投稿する","SNSで利用しているサービス　SNS内のアプリを使う","SNSで利用しているサービス　お店からのお知らせを見たり、クーポンをもらったりする","ラインなどを使ってメッセージを送る回数は、平均すると一日にどれくらいですか","友だちにメールやメッセージを送って返事が返ってこない時、どれくらいでイライラしたり不安になったりしますか","やりたいことがあるのにメールやメッセージがきてこまることがありますか","SNSで知り合った人はいますか。知り合った人がいる場合は、どのSNSで知り合いましたか","SNSで知り合った人はいますか。知り合った人がいる場合は、どのSNSで知り合いましたか","SNSで知り合った人はいますか。知り合った人がいる場合は、どのSNSで知り合いましたか","SNSで知り合った人はいますか。知り合った人がいる場合は、どのSNSで知り合いましたか","SNSで知り合った人はいますか。知り合った人がいる場合は、どのSNSで知り合いましたか","SNSで知り合った人はいますか。知り合った人がいる場合は、どのSNSで知り合いましたか","SNSで知り合った人に自分の電話番号、またはラインのアカウントなどを教えたことがありますか","SNSで知り合った人と実際（じっさい）に会ったことがありますか","SNSで起きたトラブル　悪口やいやがらせのメールを送られたり、SNS・ブログ・プロフなどに書きこまれたりしたことがある","SNSで起きたトラブル　悪口やいやがらせのメールを送ったり、SNS・ブログ・プロフなどに書きこんだりしたことがある","SNSで起きたトラブル　　迷惑な内容が送られてきたことがある","SNSで起きたトラブル　下着すがたや裸の動画または画像を送るように要求されたことがある","SNSで起きたトラブル　有料サイトの利用料金などについて、身に覚えのない支払いを求められたことがある","SNSで起きたトラブル　保護者に話しにくいサイトを見たことがある","SNSで起きたトラブル　自分の情報を書きこんだことがある","SNSで起きたトラブル　　他人の情報を無断で書きこんだことがある","SNSで起きたトラブル　他人に嫌がらせをしている動画や、物を壊すなどのいたずらをしている動画を投稿したことがある","SNSで起きたトラブル　スマホや携帯電話にのめりこんで勉強に集中できなかったり、睡眠不足になったりしたことがある","各機器を使って動画の撮影（さつえい）をしたことがある","ユーチューブやツイッター、ティックトックなどに動画を投稿したことがある","各しつ問に対し、あなたはどう思いますか。あてはまるものをぬりつぶしてください。　BGM（動画につける音楽)はお店で売っているCDを買えば、自分の動画のBGMとして利用し、ユーチューブなどに投稿（とうこう）してもよい選択","ダンス動画は、ユーチューブで使われている音楽を使っておどったものなら、ユーチューブなどに投稿してもよい","カラオケボックスなどで、自分がカラオケに合わせて歌ったものであれば、ユーチューブなどに投稿してもよい","インターネットを利用する上での危険なこと（有害サイトやインターネット上でのやりとりの危険など）や正しい使い方について、あなたは何によって説明を受けたり学んだりしましたか。","インターネットを利用する上での危険なこと（有害サイトやインターネット上でのやりとりの危険など）や正しい使い方について、あなたは何によって説明を受けたり学んだりしましたか。","インターネットを利用する上での危険なこと（有害サイトやインターネット上でのやりとりの危険など）や正しい使い方について、あなたは何によって説明を受けたり学んだりしましたか。","インターネットを利用する上での危険なこと（有害サイトやインターネット上でのやりとりの危険など）や正しい使い方について、あなたは何によって説明を受けたり学んだりしましたか。","インターネットを利用する上での危険なこと（有害サイトやインターネット上でのやりとりの危険など）や正しい使い方について、あなたは何によって説明を受けたり学んだりしましたか。","インターネットを利用する上での危険なこと（有害サイトやインターネット上でのやりとりの危険など）や正しい使い方について、あなたは何によって説明を受けたり学んだりしましたか。","インターネットを利用する上での危険なこと（有害サイトやインターネット上でのやりとりの危険など）や正しい使い方について、あなたは何によって説明を受けたり学んだりしましたか。","インターネットを利用する上での危険なこと（有害サイトやインターネット上でのやりとりの危険など）や正しい使い方について、あなたは何によって説明を受けたり学んだりしましたか。"]
[null,null,null,null,"はい,どちらともいえない,いいえ","はい,どちらともいえない,いいえ","４時間未満,４時間～６時間未満,６時間～８時間未満,８時間以上","30分未満,30分～１時間未満,１時間～２時間未満,２時間～３時間未満,３時間以上","持っている,持っていない","家にない,自分のもので使っている,家族のもので使っている,家にあるが使っていない","家にない,自分のもので使っている,家族のもので使っている,家にあるが使っていない","家にない,自分のもので使っている,家族のもので使っている,家にあるが使っていない","家にない,0分,30分未満使っている,30分以上1時間未満,1時間以上2時間未満,2時間以上3時間未満,3時間以上4時間未満,4時間以上","家にない,0分,30分未満使っている,30分以上1時間未満,1時間以上2時間未満,2時間以上3時間未満,3時間以上4時間未満,4時間以上","家にない,0分,30分未満使っている,30分以上1時間未満,1時間以上2時間未満,2時間以上3時間未満,3時間以上4時間未満,4時間以上","家にない,0分,30分未満使っている,30分以上1時間未満,1時間以上2時間未満,2時間以上3時間未満,3時間以上4時間未満,4時間以上","家にない,0分,30分未満使っている,30分以上1時間未満,1時間以上2時間未満,2時間以上3時間未満,3時間以上4時間未満,4時間以上","家にない,0分,30分未満使っている,30分以上1時間未満,1時間以上2時間未満,2時間以上3時間未満,3時間以上4時間未満,4時間以上","家にない,決められている,決められていない","家にない,決められている,決められていない","家にない,決められている,決められていない","家にない,決められている,決められていない","家にない,決められている,決められていない","家にない,決められている,決められていない","家にない,決められている,決められていない","家にない,決められている,決められていない","家にない,決められている,決められていない","家にない,決められている,決められていない","各機器を使っていない,ほご者,ほご者と自分,自分,ルールはない,その他","家にない,守っている,だいたい守っている,あまり守っていない,ほとんど守っていない,ルールがない","家にない,かけられている,かけられていない,わからない","家にない,かけられている,かけられていない,わからない","家にない,かけられている,かけられていない,わからない","使っていない","ライン","ツイッター","インスタグラム","ティックトック","その他","はい,いいえ","はい,いいえ","はい,いいえ","はい,いいえ","はい,いいえ","はい,いいえ","はい,いいえ","0回（または使っていない）,1～5回,6～10回,11～30回,31～50回,51回以上","送らない（または使っていない）,3分以内,10分以内,30分以内,60分以内,特にイライラしたり不安になったりしない","使っていない,よくある,ときどきある,ほとんどない,全くない","知り合ったことはない","ライン","ツイッター","インスタグラム","ティックトック","その他","ある,ない,知り合ったことはない","ある,ない,知り合ったことはない","利用していない,はい,いいえ","利用していない,はい,いいえ","利用していない,はい,いいえ","利用していない,はい,いいえ","利用していない,はい,いいえ","利用していない,はい,いいえ","利用していない,はい,いいえ","利用していない,はい,いいえ","利用していない,はい,いいえ","利用していない,はい,いいえ","ある,ない","ある,ない","良いと思う,いけないと思う,わからない","良いと思う,いけないと思う,わからない","良いと思う,いけないと思う,わからない","学校（学校内の先生）","学校（学校以外の人）","保護者","スマホの販売店","友だち","テレビや本・雑誌","インターネット","特にない"]

{"sheet":"データ貼付け（保護者）","index":4,"n_rows":2,"n_cols":80,"rows_kept":2,"cut":false,"hidden":false,"merged":[]}
[null,null,null,null,"お子様は、毎日朝食を食べていますか","お子様は、毎日決まった時間に寝ていますか","お子様の平日の睡眠時間は何時間くらいだと思いますか。","お子様の平日の家庭学習の時間は何時間くらいだと思いますか。","お子様のスマホやインターネットの利用について、あてはまるものを塗りつぶしてください。","お子様のスマホやインターネットの利用について、あてはまるものを塗りつぶしてください。","お子様のスマホやインターネットの利用について、あてはまるものを塗りつぶしてください。","平日の平均使用時間　スマホ・タブレット","平日の平均使用時間　パソコン","平日の平均使用時間　ゲーム機選択","お子様が勉強のために各機器を使っている時間　スマホ・タブレット","お子様が勉強のために各機器を使っている時間　パソコン","お子様が勉強のために各機器を使っている時間　ゲーム","ルール　利用時間（何時間以内）選択","ルール　利用してよい時間帯","ルール　電話やデータ通信などに利用できる金額","ルール　有料、無料にかかわらず、アプリをダウンロード","ルール　ゲーム内での課金や有料アプリのダウンロードなど、お金のかかること","ルール　インターネットに書き込みをしない","ルール　インターネットを見ること","ルール　リビングでしか使わない","ルール　保護者と一緒の時にしか使わない","ルール　その他のルール","お子様は各機器を、使いすぎていると思いますか","各機器にはフィルタリングをかけていますか","お子様は、ルールを守っていますか","ルールは誰が作りましたか","お子様が使っていると思われるアプリ","お子様が使っていると思われるアプリ","お子様が使っていると思われるアプリ","お子様が使っていると思われるアプリ","お子様が使っていると思われるアプリ","お子様が使っていると思われるアプリ","お子様が使っていると思われるアプリ","インターネット上のトラブル　書き込まれたりしたことがある","インターネット上のトラブル　書き込んだりしたことがある","インターネット上のトラブル　迷惑な内容が送られてきたことがある","インターネット上のトラブル　下着姿や裸の動画または画像を送るよう要求されたことがある","インターネット上のトラブル　身に覚えのない支払いを求められたことがある","インターネット上のトラブル　保護者に話しにくいサイトを見たことがある","インターネット上のトラブル　お子様自身の情報を書き込んだことがある","インターネット上のトラブル　他人の情報を無断で書き込んだことがある","インターネット上のトラブル　他人に嫌がらせをしている動画や、物を壊すなどのいたずらをしている動画を投稿したことがある","インターネット上のトラブル　スマホや携帯電話にのめり込んで勉強に集中できなかったり、睡眠不足になったりしたことがある","お子様には、SNSを通じて知り合った人がいると思いますか。いると思われる場合、以下のうちどのSNSで知り合ったと思いますか。","お子様には、SNSを通じて知り合った人がいると思いますか。いると思われる場合、以下のうちどのSNSで知り合ったと思いますか。","お子様には、SNSを通じて知り合った人がいると思いますか。いると思われる場合、以下のうちどのSNSで知り合ったと思いますか。","お子様には、SNSを通じて知り合った人がいると思いますか。いると思われる場合、以下のうちどのSNSで知り合ったと思いますか。","お子様には、SNSを通じて知り合った人がいると思いますか。いると思われる場合、以下のうちどのSNSで知り合ったと思いますか。","お子様には、SNSを通じて知り合った人がいると思いますか。いると思われる場合、以下のうちどのSNSで知り合ったと思いますか。","お子様には、SNSを通じて知り合った人がいると思いますか。いると思われる場合、以下のうちどのSNSで知り合ったと思いますか。","お子様は、SNSで知り合った人に自分の電話番号、またはLINEのアカウントなどを教えたことがあると思いますか","お子様は、SNSで知り合った人と実際に会ったことがあると思いますか","インターネットやSNSの使い方について、お子様とどの程度話し合いますか。","あなたは、TwitterやInstagramなどの誰にでも見られる場所に、他人の画像を本人の許可なくアップしたことがありますか。","あなたはTwitterやInstagramなどの誰にでも見られる場所に、自分の画像を許可なくアップされたことがありますか。","あなたのお子様に対して、特に学校で指導してもらいたいことは何ですか（2つまで)","あなたのお子様に対して、特に学校で指導してもらいたいことは何ですか（2つまで)","あなたのお子様に対して、特に学校で指導してもらいたいことは何ですか（2つまで)","あなたのお子様に対して、特に学校で指導してもらいたいことは何ですか（2つまで)","あなたのお子様に対して、特に学校で指導してもらいたいことは何ですか（2つまで)","あなたのお子様に対して、特に学校で指導してもらいたいことは何ですか（2つまで)","あなたのお子様に対して、特に学校で指導してもらいたいことは何ですか（2つまで)","あなたのお子様に対して、特に学校で指導してもらいたいことは何ですか（2つまで)","あなたのお子様に対して、特に学校で指導してもらいたいことは何ですか（2つまで)","お子様がインターネットを利用する上で、あなたが特に心配なことは何ですか。（２つまで)","お子様がインターネットを利用する上で、あなたが特に心配なことは何ですか。（２つまで)","お子様がインターネットを利用する上で、あなたが特に心配なことは何ですか。（２つまで)","お子様がインターネットを利用する上で、あなたが特に心配なことは何ですか。（２つまで)","お子様がインターネットを利用する上で、あなたが特に心配なことは何ですか。（２つまで)","お子様がインターネットを利用する上で、あなたが特に心配なことは何ですか。（２つまで)","お子様がインターネットを利用する上で、あなたが特に心配なことは何ですか。（２つまで)","お子様がインターネットを利用する上で、あなたが特に心配なことは何ですか。（２つまで)","お子様がインターネットを利用する上で、あなたが特に心配なことは何ですか。（２つまで)","お子様がインターネットを利用する上で、あなたが特に心配なことは何ですか。（２つまで)","お子様がインターネットを利用する上で、あなたが特に心配なことは何ですか。（２つまで)"]
[null,null,null,null,"はい,どちらともいえない,いいえ","はい,どちらともいえない,いいえ","４時間未満,４時間～６時間未満,６時間～８時間未満,８時間以上,わからない","30分未満,30分～1時間未満,1時間～2時間未満,2時間～3時間未満,３時間以上,わからない","家にない,自分のもので使っている,家族のもので使っている,家にあるが使っていない","家にない,自分のもので使っている,家族のもので使っている,家にあるが使っていない","家にない,自分のもので使っている,家族のもので使っている,家にあるが使っていない","家にない,0分,30分未満使っている,30分以上1時間未満,1時間以上2時間未満,2時間以上3時間未満,3時間以上4時間未満,4時間以上,わからない","家にない,0分,30分未満使っている,30分以上1時間未満,1時間以上2時間未満,2時間以上3時間未満,3時間以上4時間未満,4時間以上,わからない","家にない,0分,30分未満使っている,30分以上1時間未満,1時間以上2時間未満,2時間以上3時間未満,3時間以上4時間未満,4時間以上,わからない","家にない,0分,30分未満使っている,30分以上1時間未満,1時間以上2時間未満,2時間以上3時間未満,3時間以上4時間未満,4時間以上,わからない","家にない,0分,30分未満使っている,30分以上1時間未満,1時間以上2時間未満,2時間以上3時間未満,3時間以上4時間未満,4時間以上,わからない","家にない,0分,30分未満使っている,30分以上1時間未満,1時間以上2時間未満,2時間以上3時間未満,3時間以上4時間未満,4時間以上,わからない","機器を使わせていない,決めている,決めていない","機器を使わせていない,決めている,決めていない","機器を使わせていない,決めている,決めていない","機器を使わせていない,決めている,決めていない","機器を使わせていない,決めている,決めていない","機器を使わせていない,決めている,決めていない","機器を使わせていない,決めている,決めていない","機器を使わせていない,決めている,決めていない","機器を使わせていない,決めている,決めていない","機器を使わせていない,決めている,決めていない","機器を使わせていない,はい,いいえ","機器を使わせていない,はい,いいえ","家にない,守っている,だいたい守っている,あまり守っていない,ほとんど守っていない,わからない,ルールは決めていない","各機器を使わせていない,保護者,保護者とお子様,お子様,ルールはない,その他","使わせていない","LINE（ﾗｲﾝ）","Twitter（ﾂｲｯﾀｰ）","Instagram（ｲﾝｽﾀｸﾞﾗﾑ）","TickTok（ﾃｨｯｸﾄｯｸ）","その他","わからない","使わせていない,ある,あるかもしれない,ないと思われる,ない,わからない","使わせていない,ある,あるかもしれない,ないと思われる,ない,わからない","使わせていない,ある,あるかもしれない,ないと思われる,ない,わからない","使わせていない,ある,あるかもしれない,ないと思われる,ない,わからない","使わせていない,ある,あるかもしれない,ないと思われる,ない,わからない","使わせていない,ある,あるかもしれない,ないと思われる,ない,わからない","使わせていない,ある,あるかもしれない,ないと思われる,ない,わからない","使わせていない,ある,あるかもしれない,ないと思われる,ない,わからない","使わせていない,ある,あるかもしれない,ないと思われる,ない,わからない","使わせていない,ある,あるかもしれない,ないと思われる,ない,わからない","いない","LINE（ﾗｲﾝ）","Twitter（ﾂｲｯﾀｰ）","Instagram（ｲﾝｽﾀｸﾞﾗﾑ）","TickTok（ﾃｨｯｸﾄｯｸ）","その他","わからない","ある,ない,わからない","ある,ない,わからない","週２回以上,週１回程度,月１回程度,年１回程度,機器の購入時のみ,話し合っていない","ある,ない,わからない","ある,ない,わからない","目的に応じて情報を適切に処理する力を身に付けること","パソコン・ネットワークの操作技術を身に付けること","パソコン・ネットワークの知識を身に付けること","インターネット上でのマナーを身に付けること","インターネット上で有害情報や危険なサイトがあることを教え、被害に巻き込まれないようにすること","スマホなど、新しい機器の特徴について知ること","SNSなど、新しいインターネットの利用形態について知ること","その他","特にない","利用料金が負担になること","勉強の妨げになること","子どもの交友関係が分からなくなること","生活が不規則になること","ネットいじめに遭う恐れがあること","詐欺や連れ去りなどの事件に巻き込まれる恐れがあること","家族との会話が少なくなること","他人と対面でふれあう経験が不足すること","ネット依存になる恐れがあること","その他","特にない"]

{"sheet":"集計結果（児童生徒）","index":5,"n_rows":124,"n_cols":25,"rows_kept":124,"cut":false,"hidden":false,"merged":[[23,1,25,1],[28,1,30,1],[52,1,54,1],[56,2,56,4],[57,0,62,0],[57,1,62,1],[57,2,57,4],[58,2,58,4],[59,2,59,4],[60,2,60,4],[61,2,61,4],[62,2,62,4],[82,2,82,4],[83,0,88,0],[83,1,88,1],[83,2,83,4],[84,2,84,4],[85,2,85,4],[86,2,86,4],[87,2,87,4],[122,2,122,5],[123,2,123,5],[88,2,88,4],[115,2,115,5],[116,0,123,0],[116,1,123,1],[116,2,116,5],[117,2,117,5],[118,2,118,5],[119,2,119,5],[120,2,120,5],[121,2,121,5]]}
[]
["「情報モラルの育成」に関するアンケート集計結果",null,null,null,null,null,null,null,null,null,null,null,null,null,null,"学校データ"]
["◆児童・生徒アンケート",null,null,null,null,null,null,null,null,null,"n=",{"$f":"P3","v":0},null,null,null,{"$f":"IF('データ入力（児童生徒）'!L3=\"\",'作業（児童生徒）'!A3,'データ入力（児童生徒）'!L3)","v":0}]
["【日常生活】についての質問",null,null,null,null,null,null,null,null,null,"※ｎ＝有効回答者数"]
[null,"質問","はい","どちらとも\nいえない","いいえ","無回答",null,null,null,null,null,null,null,null,null,1,2,3,4,5,6,7,8,9,"無回答"]
["(1)-1","あなたは、毎日朝食を食べますか（時々食べる場合には「どちらともいえない」）",{"$f":"IFERROR(ROUND(P6/$P$3*100,1),\"\")","v":""},{"$f":"IFERROR(ROUND(Q6/$P$3*100,1),\"\")","v":""},"",{"$f":"IFERROR(ROUND($Y6/$P$3*100,1),\"\")","v":""},null,null,null,null,null,null,null,1,{"$f":"IF(N6>=1,COUNT($N$6:N6),\"\")","v":1},{"$f":"IF($O6=\"\",\"\",IF('データ入力（児童生徒）'!$L$3=\"\",INDEX('作業（児童生徒）'!$E$3:$CB$11,P$5,$O6),'データ入力（児童生徒）'!C6))","v":0},{"$f":"IF($O6=\"\",\"\",IF('データ入力（児童生徒）'!$L$3=\"\",INDEX('作業（児童生徒）'!$E$3:$CB$11,Q$5,$O6),'データ入力（児童生徒）'!D6))","v":0},{"$f":"IF($O6=\"\",\"\",IF('データ入力（児童生徒）'!$L$3=\"\",INDEX('作業（児童生徒）'!$E$3:$CB$11,R$5,$O6),'データ入力（児童生徒）'!E6))","v":0},{"$f":"IF($O6=\"\",\"\",IF('データ入力（児童生徒）'!$L$3=\"\",INDEX('作業（児童生徒）'!$E$3:$CB$11,S$5,$O6),'データ入力（児童生徒）'!F6))","v":0},{"$f":"IF($O6=\"\",\"\",IF('データ入力（児童生徒）'!$L$3=\"\",INDEX('作業（児童生徒）'!$E$3:$CB$11,T$5,$O6),'データ入力（児童生徒）'!G6))","v":0},{"$f":"IF($O6=\"\",\"\",IF('データ入力（児童生徒）'!$L$3=\"\",INDEX('作業（児童生徒）'!$E$3:$CB$11,U$5,$O6),'データ入力（児童生徒）'!H6))","v":0},{"$f":"IF($O6=\"\",\"\",IF('データ入力（児童生徒）'!$L$3=\"\",INDEX('作業（児童生徒）'!$E$3:$CB$11,V$5,$O6),'データ入力（児童生徒）'!I6))","v":0},{"$f":"IF($O6=\"\",\"\",IF('データ入力（児童生徒）'!$L$3=\"\",INDEX('作業（児童生徒）'!$E$3:$CB$11,W$5,$O6),'データ入力（児童生徒）'!J6))","v":0},{"$f":"IF($O6=\"\",\"\",IF('データ入力（児童生徒）'!$L$3=\"\",INDEX('作業（児童生徒）'!$E$3:$CB$11,X$5,$O6),'データ入力（児童生徒）'!K6))","v":0},{"$f":"IF(O6=\"\",\"\",$P$3-SUM(P6:X6))","v":0}]
["(1)-2","あなたは、毎日決まった時間に寝ていますか（週に２、３回寝る時間が遅くなる場合は「どちらともいえない」） ",{"$f":"IFERROR(ROUND(P7/$P$3*100,1),\"\")","v":""},{"$f":"IFERROR(ROUND(Q7/$P$3*100,1),\"\")","v":""},{"$f":"IFERROR(ROUND(R7/$P$3*100,1),\"\")","v":""},{"$f":"IFERROR(ROUND($Y7/$P$3*100,1),\"\")","v":""},null,null,null,null,null,null,null,1,{"$f":"IF(N7>=1,COUNT($N$6:N7),\"\")","v":2},{"$f":"IF($O7=\"\",\"\",IF('データ入力（児童生徒）'!$L$3=\"\",INDEX('作業（児童生徒）'!$E$3:$CB$11,P$5,$O7),'データ入力（児童生徒）'!C7))","v":0},{"$f":"IF($O7=\"\",\"\",IF('データ入力（児童生徒）'!$L$3=\"\",INDEX('作業（児童生徒）'!$E$3:$CB$11,Q$5,$O7),'データ入力（児童生徒）'!D7))","v":0},{"$f":"IF($O7=\"\",\"\",IF('データ入力（児童生徒）'!$L$3=\"\",INDEX('作業（児童生徒）'!$E$3:$CB$11,R$5,$O7),'データ入力（児童生徒）'!E7))","v":0},{"$f":"IF($O7=\"\",\"\",IF('データ入力（児童生徒）'!$L$3=\"\",INDEX('作業（児童生徒）'!$E$3:$CB$11,S$5,$O7),'データ入力（児童生徒）'!F7))","v":0},{"$f":"IF($O7=\"\",\"\",IF('データ入力（児童生徒）'!$L$3=\"\",INDEX('作業（児童生徒）'!$E$3:$CB$11,T$5,$O7),'データ入力（児童生徒）'!G7))","v":0},{"$f":"IF($O7=\"\",\"\",IF('データ入力（児童生徒）'!$L$3=\"\",INDEX('作業（児童生徒）'!$E$3:$CB$11,U$5,$O7),'データ入力（児童生徒）'!H7))","v":0},{"$f":"IF($O7=\"\",\"\",IF('データ入力（児童生徒）'!$L$3=\"\",INDEX('作業（児童生徒）'!$E$3:$CB$11,V$5,$O7),'データ入力（児童生徒）'!I7))","v":0},{"$f":"IF($O7=\"\",\"\",IF('データ入力（児童生徒）'!$L$3=\"\",INDEX('作業（児童生徒）'!$E$3:$CB$11,W$5,$O7),'データ入力（児童生徒）'!J7))","v":0},{"$f":"IF($O7=\"\",\"\",IF('データ入力（児童生徒）'!$L$3=\"\",INDEX('作業（児童生徒）'!$E$3:$CB$11,X$5,$O7),'データ入力（児童生徒）'!K7))","v":0},{"$f":"IF(O7=\"\",\"\",$P$3-SUM(P7:X7))","v":0}]
[null,null,null,null,null,null,null,null,null,null,null,null,null,null,{"$f":"IF(N8>=1,COUNT($N$6:N8),\"\")","v":""},{"$f":"IF($O8=\"\",\"\",IF('データ入力（児童生徒）'!$L$3=\"\",INDEX('作業（児童生徒）'!$E$3:$CB$11,P$5,$O8),'データ入力（児童生徒）'!C8))","v":""},{"$f":"IF($O8=\"\",\"\",IF('データ入力（児童生徒）'!$L$3=\"\",INDEX('作業（児童生徒）'!$E$3:$CB$11,Q$5,$O8),'データ入力（児童生徒）'!D8))","v":""},{"$f":"IF($O8=\"\",\"\",IF('データ入力（児童生徒）'!$L$3=\"\",INDEX('作業（児童生徒）'!$E$3:$CB$11,R$5,$O8),'データ入力（児童生徒）'!E8))","v":""},{"$f":"IF($O8=\"\",\"\",IF('データ入力（児童生徒）'!$L$3=\"\",INDEX('作業（児童生徒）'!$E$3:$CB$11,S$5,$O8),'データ入力（児童生徒）'!F8))","v":""},{"$f":"IF($O8=\"\",\"\",IF('データ入力（児童生徒）'!$L$3=\"\",INDEX('作業（児童生徒）'!$E$3:$CB$11,T$5,$O8),'データ入力（児童生徒）'!G8))","v":""},{"$f":"IF($O8=\"\",\"\",IF('データ入力（児童生徒）'!$L$3=\"\",INDEX('作業（児童生徒）'!$E$3:$CB$11,U$5,$O8),'データ入力（児童生徒）'!H8))","v":""},{"$f":"IF($O8=\"\",\"\",IF('データ入力（児童生徒）'!$L$3=\"\",INDEX('作業（児童生徒）'!$E$3:$CB$11,V$5,$O8),'データ入力（児童生徒）'!I8))","v":""},{"$f":"IF($O8=\"\",\"\",IF('データ入力（児童生徒）'!$L$3=\"\",INDEX('作業（児童生徒）'!$E$3:$CB$11,W$5,$O8),'データ入力（児童生徒）'!J8))","v":""},{"$f":"IF($O8=\"\",\"\",IF('データ入力（児童生徒）'!$L$3=\"\",INDEX('作業（児童生徒）'!$E$3:$CB$11,X$5,$O8),'データ入力（児童生徒）'!K8))","v":""},""]
[null,"質問","4時間未満","４時間～\n６時間未満","６時間～\n８時間未満","８時間以上","無回答",null,null,null,null,null,null,null,{"$f":"IF(N9>=1,COUNT($N$6:N9),\"\")","v":""},{"$f":"IF($O9=\"\",\"\",IF('データ入力（児童生徒）'!$L$3=\"\",INDEX('作業（児童生徒）'!$E$3:$CB$11,P$5,$O9),'データ入力（児童生徒）'!C9))","v":""},{"$f":"IF($O9=\"\",\"\",IF('データ入力（児童生徒）'!$L$3=\"\",INDEX('作業（児童生徒）'!$E$3:$CB$11,Q$5,$O9),'データ入力（児童生徒）'!D9))","v":""},{"$f":"IF($O9=\"\",\"\",IF('データ入力（児童生徒）'!$L$3=\"\",INDEX('作業（児童生徒）'!$E$3:$CB$11,R$5,$O9),'データ入力（児童生徒）'!E9))","v":""},{"$f":"IF($O9=\"\",\"\",IF('データ入力（児童生徒）'!$L$3=\"\",INDEX('作業（児童生徒）'!$E$3:$CB$11,S$5,$O9),'データ入力（児童生徒）'!F9))","v":""},{"$f":"IF($O9=\"\",\"\",IF('データ入力（児童生徒）'!$L$3=\"\",INDEX('作業（児童生徒）'!$E$3:$CB$11,T$5,$O9),'データ入力（児童生徒）'!G9))","v":""},{"$f":"IF($O9=\"\",\"\",IF('データ入力（児童生徒）'!$L$3=\"\",INDEX('作業（児童生徒）'!$E$3:$CB$11,U$5,$O9),'データ入力（児童生徒）'!H9))","v":""},{"$f":"IF($O9=\"\",\"\",IF('データ入力（児童生徒）'!$L$3=\"\",INDEX('作業（児童生徒）'!$E$3:$CB$11,V$5,$O9),'データ入力（児童生徒）'!I9))","v":""},{"$f":"IF($O9=\"\",\"\",IF('データ入力（児童生徒）'!$L$3=\"\",INDEX('作業（児童生徒）'!$E$3:$CB$11,W$5,$O9),'データ入力（児童生徒）'!J9))","v":""},{"$f":"IF($O9=\"\",\"\",IF('データ入力（児童生徒）'!$L$3=\"\",INDEX('作業（児童生徒）'!$E$3:$CB$11,X$5,$O9),'データ入力（児童生徒）'!K9))","v":""},""]
["(2)","平日の睡眠時間は何時間くらいですか",{"$f":"IFERROR(ROUND(P10/$P$3*100,1),\"\")","v":""},"","","",{"$f":"IFERROR(ROUND($Y10/$P$3*100,1),\"\")","v":""},null,null,null,null,null,null,1,{"$f":"IF(N10>=1,COUNT($N$6:N10),\"\")","v":3},{"$f":"IF($O10=\"\",\"\",IF('データ入力（児童生徒）'!$L$3=\"\",INDEX('作業（児童生徒）'!$E$3:$CB$11,P$5,$O10),'データ入力（児童生徒）'!C10))","v":0},{"$f":"IF($O10=\"\",\"\",IF('データ入力（児童生徒）'!$L$3=\"\",INDEX('作業（児童生徒）'!$E$3:$CB$11,Q$5,$O10),'データ入力（児童生徒）'!D10))","v":0},{"$f":"IF($O10=\"\",\"\",IF('データ入力（児童生徒）'!$L$3=\"\",INDEX('作業（児童生徒）'!$E$3:$CB$11,R$5,$O10),'データ入力（児童生徒）'!E10))","v":0},{"$f":"IF($O10=\"\",\"\",IF('データ入力（児童生徒）'!$L$3=\"\",INDEX('作業（児童生徒）'!$E$3:$CB$11,S$5,$O10),'データ入力（児童生徒）'!F10))","v":0},{"$f":"IF($O10=\"\",\"\",IF('データ入力（児童生徒）'!$L$3=\"\",INDEX('作業（児童生徒）'!$E$3:$CB$11,T$5,$O10),'データ入力（児童生徒）'!G10))","v":0},{"$f":"IF($O10=\"\",\"\",IF('データ入力（児童生徒）'!$L$3=\"\",INDEX('作業（児童生徒）'!$E$3:$CB$11,U$5,$O10),'データ入力（児童生徒）'!H10))","v":0},{"$f":"IF($O10=\"\",\"\",IF('データ入力（児童生徒）'!$L$3=\"\",INDEX('作業（児童生徒）'!$E$3:$CB$11,V$5,$O10),'データ入力（児童生徒）'!I10))","v":0},{"$f":"IF($O10=\"\",\"\",IF('データ入力（児童生徒）'!$L$3=\"\",INDEX('作業（児童生徒）'!$E$3:$CB$11,W$5,$O10),'データ入力（児童生徒）'!J10))","v":0},{"$f":"IF($O10=\"\",\"\",IF('データ入力（児童生徒）'!$L$3=\"\",INDEX('作業（児童生徒）'!$E$3:$CB$11,X$5,$O10),'データ入力（児童生徒）'!K10))","v":0},0]
[null,null,null,null,null,null,null,null,null,null,null,null,null,null,{"$f":"IF(N11>=1,COUNT($N$6:N11),\"\")","v":""},{"$f":"IF($O11=\"\",\"\",IF('データ入力（児童生徒）'!$L$3=\"\",INDEX('作業（児童生徒）'!$E$3:$CB$11,P$5,$O11),'データ入力（児童生徒）'!C11))","v":""},{"$f":"IF($O11=\"\",\"\",IF('データ入力（児童生徒）'!$L$3=\"\",INDEX('作業（児童生徒）'!$E$3:$CB$11,Q$5,$O11),'データ入力（児童生徒）'!D11))","v":""},{"$f":"IF($O11=\"\",\"\",IF('データ入力（児童生徒）'!$L$3=\"\",INDEX('作業（児童生徒）'!$E$3:$CB$11,R$5,$O11),'データ入力（児童生徒）'!E11))","v":""},{"$f":"IF($O11=\"\",\"\",IF('データ入力（児童生徒）'!$L$3=\"\",INDEX('作業（児童生徒）'!$E$3:$CB$11,S$5,$O11),'データ入力（児童生徒）'!F11))","v":""},{"$f":"IF($O11=\"\",\"\",IF('データ入力（児童生徒）'!$L$3=\"\",INDEX('作業（児童生徒）'!$E$3:$CB$11,T$5,$O11),'データ入力（児童生徒）'!G11))","v":""},{"$f":"IF($O11=\"\",\"\",IF('データ入力（児童生徒）'!$L$3=\"\",INDEX('作業（児童生徒）'!$E$3:$CB$11,U$5,$O11),'データ入力（児童生徒）'!H11))","v":""},{"$f":"IF($O11=\"\",\"\",IF('データ入力（児童生徒）'!$L$3=\"\",INDEX('作業（児童生徒）'!$E$3:$CB$11,V$5,$O11),'データ入力（児童生徒）'!I11))","v":""},{"$f":"IF($O11=\"\",\"\",IF('データ入力（児童生徒）'!$L$3=\"\",INDEX('作業（児童生徒）'!$E$3:$CB$11,W$5,$O11),'データ入力（児童生徒）'!J11))","v":""},{"$f":"IF($O11=\"\",\"\",IF('データ入力（児童生徒）'!$L$3=\"\",INDEX('作業（児童生徒）'!$E$3:$CB$11,X$5,$O11),'データ入力（児童生徒）'!K11))","v":""},""]
[null,"質問","30分未満","30分～\n１時間未満","１時間～\n２時間未満","２時間～\n３時間未満","３時間以上","無回答",null,null,null,null,null,null,{"$f":"IF(N12>=1,COUNT($N$6:N12),\"\")","v":""},{"$f":"IF($O12=\"\",\"\",IF('データ入力（児童生徒）'!$L$3=\"\",INDEX('作業（児童生徒）'!$E$3:$CB$11,P$5,$O12),'データ入力（児童生徒）'!C12))","v":""},{"$f":"IF($O12=\"\",\"\",IF('データ入力（児童生徒）'!$L$3=\"\",INDEX('作業（児童生徒）'!$E$3:$CB$11,Q$5,$O12),'データ入力（児童生徒）'!D12))","v":""},{"$f":"IF($O12=\"\",\"\",IF('データ入力（児童生徒）'!$L$3=\"\",INDEX('作業（児童生徒）'!$E$3:$CB$11,R$5,$O12),'データ入力（児童生徒）'!E12))","v":""},{"$f":"IF($O12=\"\",\"\",IF('データ入力（児童生徒）'!$L$3=\"\",INDEX('作業（児童生徒）'!$E$3:$CB$11,S$5,$O12),'データ入力（児童生徒）'!F12))","v":""},{"$f":"IF($O12=\"\",\"\",IF('データ入力（児童生徒）'!$L$3=\"\",INDEX('作業（児童生徒）'!$E$3:$CB$11,T$5,$O12),'データ入力（児童生徒）'!G12))","v":""},{"$f":"IF($O12=\"\",\"\",IF('データ入力（児童生徒）'!$L$3=\"\",INDEX('作業（児童生徒）'!$E$3:$CB$11,U$5,$O12),'データ入力（児童生徒）'!H12))","v":""},{"$f":"IF($O12=\"\",\"\",IF('データ入力（児童生徒）'!$L$3=\"\",INDEX('作業（児童生徒）'!$E$3:$CB$11,V$5,$O12),'データ入力（児童生徒）'!I12))","v":""},{"$f":"IF($O12=\"\",\"\",IF('データ入力（児童生徒）'!$L$3=\"\",INDEX('作業（児童生徒）'!$E$3:$CB$11,W$5,$O12),'データ入力（児童生徒）'!J12))","v":""},{"$f":"IF($O12=\"\",\"\",IF('データ入力（児童生徒）'!$L$3=\"\",INDEX('作業（児童生徒）'!$E$3:$CB$11,X$5,$O12),'データ入力（児童生徒）'!K12))","v":""},""]
["(3)","平日の勉強時間（宿題や塾を含む）は何時間くらいですか",{"$f":"IFERROR(ROUND(P13/$P$3*100,1),\"\")","v":""},"","","","",{"$f":"IFERROR(ROUND($Y13/$P$3*100,1),\"\")","v":""},null,null,null,null,null,1,{"$f":"IF(N13>=1,COUNT($N$6:N13),\"\")","v":4},{"$f":"IF($O13=\"\",\"\",IF('データ入力（児童生徒）'!$L$3=\"\",INDEX('作業（児童生徒）'!$E$3:$CB$11,P$5,$O13),'データ入力（児童生徒）'!C13))","v":0},{"$f":"IF($O13=\"\",\"\",IF('データ入力（児童生徒）'!$L$3=\"\",INDEX('作業（児童生徒）'!$E$3:$CB$11,Q$5,$O13),'データ入力（児童生徒）'!D13))","v":0},{"$f":"IF($O13=\"\",\"\",IF('データ入力（児童生徒）'!$L$3=\"\",INDEX('作業（児童生徒）'!$E$3:$CB$11,R$5,$O13),'データ入力（児童生徒）'!E13))","v":0},{"$f":"IF($O13=\"\",\"\",IF('データ入力（児童生徒）'!$L$3=\"\",INDEX('作業（児童生徒）'!$E$3:$CB$11,S$5,$O13),'データ入力（児童生徒）'!F13))","v":0},{"$f":"IF($O13=\"\",\"\",IF('データ入力（児童生徒）'!$L$3=\"\",INDEX('作業（児童生徒）'!$E$3:$CB$11,T$5,$O13),'データ入力（児童生徒）'!G13))","v":0},{"$f":"IF($O13=\"\",\"\",IF('データ入力（児童生徒）'!$L$3=\"\",INDEX('作業（児童生徒）'!$E$3:$CB$11,U$5,$O13),'データ入力（児童生徒）'!H13))","v":0},{"$f":"IF($O13=\"\",\"\",IF('データ入力（児童生徒）'!$L$3=\"\",INDEX('作業（児童生徒）'!$E$3:$CB$11,V$5,$O13),'データ入力（児童生徒）'!I13))","v":0},{"$f":"IF($O13=\"\",\"\",IF('データ入力（児童生徒）'!$L$3=\"\",INDEX('作業（児童生徒）'!$E$3:$CB$11,W$5,$O13),'データ入力（児童生徒）'!J13))","v":0},{"$f":"IF($O13=\"\",\"\",IF('データ入力（児童生徒）'!$L$3=\"\",INDEX('作業（児童生徒）'!$E$3:$CB$11,X$5,$O13),'データ入力（児童生徒）'!K13))","v":0},0]
["【各機器の使い方】についての質問",null,null,null,null,null,null,null,null,null,null,null,null,null,{"$f":"IF(N14>=1,COUNT($N$6:N14),\"\")","v":""},{"$f":"IF($O14=\"\",\"\",IF('データ入力（児童生徒）'!$L$3=\"\",INDEX('作業（児童生徒）'!$E$3:$CB$11,P$5,$O14),'データ入力（児童生徒）'!C14))","v":""},{"$f":"IF($O14=\"\",\"\",IF('データ入力（児童生徒）'!$L$3=\"\",INDEX('作業（児童生徒）'!$E$3:$CB$11,Q$5,$O14),'データ入力（児童生徒）'!D14))","v":""},{"$f":"IF($O14=\"\",\"\",IF('データ入力（児童生徒）'!$L$3=\"\",INDEX('作業（児童生徒）'!$E$3:$CB$11,R$5,$O14),'データ入力（児童生徒）'!E14))","v":""},{"$f":"IF($O14=\"\",\"\",IF('データ入力（児童生徒）'!$L$3=\"\",INDEX('作業（児童生徒）'!$E$3:$CB$11,S$5,$O14),'データ入力（児童生徒）'!F14))","v":""},{"$f":"IF($O14=\"\",\"\",IF('データ入力（児童生徒）'!$L$3=\"\",INDEX('作業（児童生徒）'!$E$3:$CB$11,T$5,$O14),'データ入力（児童生徒）'!G14))","v":""},{"$f":"IF($O14=\"\",\"\",IF('データ入力（児童生徒）'!$L$3=\"\",INDEX('作業（児童生徒）'!$E$3:$CB$11,U$5,$O14),'データ入力（児童生徒）'!H14))","v":""},{"$f":"IF($O14=\"\",\"\",IF('データ入力（児童生徒）'!$L$3=\"\",INDEX('作業（児童生徒）'!$E$3:$CB$11,V$5,$O14),'データ入力（児童生徒）'!I14))","v":""},{"$f":"IF($O14=\"\",\"\",IF('データ入力（児童生徒）'!$L$3=\"\",INDEX('作業（児童生徒）'!$E$3:$CB$11,W$5,$O14),'データ入力（児童生徒）'!J14))","v":""},{"$f":"IF($O14=\"\",\"\",IF('データ入力（児童生徒）'!$L$3=\"\",INDEX('作業（児童生徒）'!$E$3:$CB$11,X$5,$O14),'データ入力（児童生徒）'!K14))","v":""},""]
[null,"質問","持っている","持って\nいない","無回答",null,null,null,null,null,null,null,null,null,{"$f":"IF(N15>=1,COUNT($N$6:N15),\"\")","v":""},{"$f":"IF($O15=\"\",\"\",IF('データ入力（児童生徒）'!$L$3=\"\",INDEX('作業（児童生徒）'!$E$3:$CB$11,P$5,$O15),'データ入力（児童生徒）'!C15))","v":""},{"$f":"IF($O15=\"\",\"\",IF('データ入力（児童生徒）'!$L$3=\"\",INDEX('作業（児童生徒）'!$E$3:$CB$11,Q$5,$O15),'データ入力（児童生徒）'!D15))","v":""},{"$f":"IF($O15=\"\",\"\",IF('データ入力（児童生徒）'!$L$3=\"\",INDEX('作業（児童生徒）'!$E$3:$CB$11,R$5,$O15),'データ入力（児童生徒）'!E15))","v":""},{"$f":"IF($O15=\"\",\"\",IF('データ入力（児童生徒）'!$L$3=\"\",INDEX('作業（児童生徒）'!$E$3:$CB$11,S$5,$O15),'データ入力（児童生徒）'!F15))","v":""},{"$f":"IF($O15=\"\",\"\",IF('データ入力（児童生徒）'!$L$3=\"\",INDEX('作業（児童生徒）'!$E$3:$CB$11,T$5,$O15),'データ入力（児童生徒）'!G15))","v":""},{"$f":"IF($O15=\"\",\"\",IF('データ入力（児童生徒）'!$L$3=\"\",INDEX('作業（児童生徒）'!$E$3:$CB$11,U$5,$O15),'データ入力（児童生徒）'!H15))","v":""},{"$f":"IF($O15=\"\",\"\",IF('データ入力（児童生徒）'!$L$3=\"\",INDEX('作業（児童生徒）'!$E$3:$CB$11,V$5,$O15),'データ入力（児童生徒）'!I15))","v":""},{"$f":"IF($O15=\"\",\"\",IF('データ入力（児童生徒）'!$L$3=\"\",INDEX('作業（児童生徒）'!$E$3:$CB$11,W$5,$O15),'データ入力（児童生徒）'!J15))","v":""},{"$f":"IF($O15=\"\",\"\",IF('データ入力（児童生徒）'!$L$3=\"\",INDEX('作業（児童生徒）'!$E$3:$CB$11,X$5,$O15),'データ入力（児童生徒）'!K15))","v":""},""]
["(4)","あなたは自分のスマホを持っていますか",{"$f":"IFERROR(ROUND(P16/$P$3*100,1),\"\")","v":""},"",{"$f":"IFERROR(ROUND($Y16/$P$3*100,1),\"\")","v":""},null,null,null,null,null,null,null,null,1,{"$f":"IF(N16>=1,COUNT($N$6:N16),\"\")","v":5},{"$f":"IF($O16=\"\",\"\",IF('データ入力（児童生徒）'!$L$3=\"\",INDEX('作業（児童生徒）'!$E$3:$CB$11,P$5,$O16),'データ入力（児童生徒）'!C16))","v":0},{"$f":"IF($O16=\"\",\"\",IF('データ入力（児童生徒）'!$L$3=\"\",INDEX('作業（児童生徒）'!$E$3:$CB$11,Q$5,$O16),'データ入力（児童生徒）'!D16))","v":0},{"$f":"IF($O16=\"\",\"\",IF('データ入力（児童生徒）'!$L$3=\"\",INDEX('作業（児童生徒）'!$E$3:$CB$11,R$5,$O16),'データ入力（児童生徒）'!E16))","v":0},{"$f":"IF($O16=\"\",\"\",IF('データ入力（児童生徒）'!$L$3=\"\",INDEX('作業（児童生徒）'!$E$3:$CB$11,S$5,$O16),'データ入力（児童生徒）'!F16))","v":0},{"$f":"IF($O16=\"\",\"\",IF('データ入力（児童生徒）'!$L$3=\"\",INDEX('作業（児童生徒）'!$E$3:$CB$11,T$5,$O16),'データ入力（児童生徒）'!G16))","v":0},{"$f":"IF($O16=\"\",\"\",IF('データ入力（児童生徒）'!$L$3=\"\",INDEX('作業（児童生徒）'!$E$3:$CB$11,U$5,$O16),'データ入力（児童生徒）'!H16))","v":0},{"$f":"IF($O16=\"\",\"\",IF('データ入力（児童生徒）'!$L$3=\"\",INDEX('作業（児童生徒）'!$E$3:$CB$11,V$5,$O16),'データ入力（児童生徒）'!I16))","v":0},{"$f":"IF($O16=\"\",\"\",IF('データ入力（児童生徒）'!$L$3=\"\",INDEX('作業（児童生徒）'!$E$3:$CB$11,W$5,$O16),'データ入力（児童生徒）'!J16))","v":0},{"$f":"IF($O16=\"\",\"\",IF('データ入力（児童生徒）'!$L$3=\"\",INDEX('作業（児童生徒）'!$E$3:$CB$11,X$5,$O16),'データ入力（児童生徒）'!K16))","v":0},0]
[null,null,null,null,null,null,null,null,null,null,null,null,null,null,{"$f":"IF(N17>=1,COUNT($N$6:N17),\"\")","v":""},{"$f":"IF($O17=\"\",\"\",IF('データ入力（児童生徒）'!$L$3=\"\",INDEX('作業（児童生徒）'!$E$3:$CB$11,P$5,$O17),'データ入力（児童生徒）'!C17))","v":""},{"$f":"IF($O17=\"\",\"\",IF('データ入力（児童生徒）'!$L$3=\"\",INDEX('作業（児童生徒）'!$E$3:$CB$11,Q$5,$O17),'データ入力（児童生徒）'!D17))","v":""},{"$f":"IF($O17=\"\",\"\",IF('データ入力（児童生徒）'!$L$3=\"\",INDEX('作業（児童生徒）'!$E$3:$CB$11,R$5,$O17),'データ入力（児童生徒）'!E17))","v":""},{"$f":"IF($O17=\"\",\"\",IF('データ入力（児童生徒）'!$L$3=\"\",INDEX('作業（児童生徒）'!$E$3:$CB$11,S$5,$O17),'データ入力（児童生徒）'!F17))","v":""},{"$f":"IF($O17=\"\",\"\",IF('データ入力（児童生徒）'!$L$3=\"\",INDEX('作業（児童生徒）'!$E$3:$CB$11,T$5,$O17),'データ入力（児童生徒）'!G17))","v":""},{"$f":"IF($O17=\"\",\"\",IF('データ入力（児童生徒）'!$L$3=\"\",INDEX('作業（児童生徒）'!$E$3:$CB$11,U$5,$O17),'データ入力（児童生徒）'!H17))","v":""},{"$f":"IF($O17=\"\",\"\",IF('データ入力（児童生徒）'!$L$3=\"\",INDEX('作業（児童生徒）'!$E$3:$CB$11,V$5,$O17),'データ入力（児童生徒）'!I17))","v":""},{"$f":"IF($O17=\"\",\"\",IF('データ入力（児童生徒）'!$L$3=\"\",INDEX('作業（児童生徒）'!$E$3:$CB$11,W$5,$O17),'データ入力（児童生徒）'!J17))","v":""},{"$f":"IF($O17=\"\",\"\",IF('データ入力（児童生徒）'!$L$3=\"\",INDEX('作業（児童生徒）'!$E$3:$CB$11,X$5,$O17),'データ入力（児童生徒）'!K17))","v":""},""]
[null,"質問","家にない","自分のもので使っている","家族のもので使っている","家にあるが使っていない","無回答",null,null,null,null,null,null,null,{"$f":"IF(N18>=1,COUNT($N$6:N18),\"\")","v":""},{"$f":"IF($O18=\"\",\"\",IF('データ入力（児童生徒）'!$L$3=\"\",INDEX('作業（児童生徒）'!$E$3:$CB$11,P$5,$O18),'データ入力（児童生徒）'!C18))","v":""},{"$f":"IF($O18=\"\",\"\",IF('データ入力（児童生徒）'!$L$3=\"\",INDEX('作業（児童生徒）'!$E$3:$CB$11,Q$5,$O18),'データ入力（児童生徒）'!D18))","v":""},{"$f":"IF($O18=\"\",\"\",IF('データ入力（児童生徒）'!$L$3=\"\",INDEX('作業（児童生徒）'!$E$3:$CB$11,R$5,$O18),'データ入力（児童生徒）'!E18))","v":""},{"$f":"IF($O18=\"\",\"\",IF('データ入力（児童生徒）'!$L$3=\"\",INDEX('作業（児童生徒）'!$E$3:$CB$11,S$5,$O18),'データ入力（児童生徒）'!F18))","v":""},{"$f":"IF($O18=\"\",\"\",IF('データ入力（児童生徒）'!$L$3=\"\",INDEX('作業（児童生徒）'!$E$3:$CB$11,T$5,$O18),'データ入力（児童生徒）'!G18))","v":""},{"$f":"IF($O18=\"\",\"\",IF('データ入力（児童生徒）'!$L$3=\"\",INDEX('作業（児童生徒）'!$E$3:$CB$11,U$5,$O18),'データ入力（児童生徒）'!H18))","v":""},{"$f":"IF($O18=\"\",\"\",IF('データ入力（児童生徒）'!$L$3=\"\",INDEX('作業（児童生徒）'!$E$3:$CB$11,V$5,$O18),'データ入力（児童生徒）'!I18))","v":""},{"$f":"IF($O18=\"\",\"\",IF('データ入力（児童生徒）'!$L$3=\"\",INDEX('作業（児童生徒）'!$E$3:$CB$11,W$5,$O18),'データ入力（児童生徒）'!J18))","v":""},{"$f":"IF($O18=\"\",\"\",IF('データ入力（児童生徒）'!$L$3=\"\",INDEX('作業（児童生徒）'!$E$3:$CB$11,X$5,$O18),'データ入力（児童生徒）'!K18))","v":""},""]
["(5)-1","あなたはスマホでインターネットを使っていますか（タブレットを除く）",{"$f":"IFERROR(ROUND(P19/$P$3*100,1),\"\")","v":""},{"$f":"IFERROR(ROUND(Q19/$P$3*100,1),\"\")","v":""},{"$f":"IFERROR(ROUND(R19/$P$3*100,1),\"\")","v":""},{"$f":"IFERROR(ROUND(S19/$P$3*100,1),\"\")","v":""},{"$f":"IFERROR(ROUND($Y19/$P$3*100,1),\"\")","v":""},null,null,null,null,null,null,1,{"$f":"IF(N19>=1,COUNT($N$6:N19),\"\")","v":6},{"$f":"IF($O19=\"\",\"\",IF('データ入力（児童生徒）'!$L$3=\"\",INDEX('作業（児童生徒）'!$E$3:$CB$11,P$5,$O19),'データ入力（児童生徒）'!C19))","v":0},{"$f":"IF($O19=\"\",\"\",IF('データ入力（児童生徒）'!$L$3=\"\",INDEX('作業（児童生徒）'!$E$3:$CB$11,Q$5,$O19),'データ入力（児童生徒）'!D19))","v":0},{"$f":"IF($O19=\"\",\"\",IF('データ入力（児童生徒）'!$L$3=\"\",INDEX('作業（児童生徒）'!$E$3:$CB$11,R$5,$O19),'データ入力（児童生徒）'!E19))","v":0},{"$f":"IF($O19=\"\",\"\",IF('データ入力（児童生徒）'!$L$3=\"\",INDEX('作業（児童生徒）'!$E$3:$CB$11,S$5,$O19),'データ入力（児童生徒）'!F19))","v":0},{"$f":"IF($O19=\"\",\"\",IF('データ入力（児童生徒）'!$L$3=\"\",INDEX('作業（児童生徒）'!$E$3:$CB$11,T$5,$O19),'データ入力（児童生徒）'!G19))","v":0},{"$f":"IF($O19=\"\",\"\",IF('データ入力（児童生徒）'!$L$3=\"\",INDEX('作業（児童生徒）'!$E$3:$CB$11,U$5,$O19),'データ入力（児童生徒）'!H19))","v":0},{"$f":"IF($O19=\"\",\"\",IF('データ入力（児童生徒）'!$L$3=\"\",INDEX('作業（児童生徒）'!$E$3:$CB$11,V$5,$O19),'データ入力（児童生徒）'!I19))","v":0},{"$f":"IF($O19=\"\",\"\",IF('データ入力（児童生徒）'!$L$3=\"\",INDEX('作業（児童生徒）'!$E$3:$CB$11,W$5,$O19),'データ入力（児童生徒）'!J19))","v":0},{"$f":"IF($O19=\"\",\"\",IF('データ入力（児童生徒）'!$L$3=\"\",INDEX('作業（児童生徒）'!$E$3:$CB$11,X$5,$O19),'データ入力（児童生徒）'!K19))","v":0},0]
["(5)-2","あなたはタブレットやパソコンでインターネットを使っていますか","","","","","",null,null,null,null,null,null,1,{"$f":"IF(N20>=1,COUNT($N$6:N20),\"\")","v":7},{"$f":"IF($O20=\"\",\"\",IF('データ入力（児童生徒）'!$L$3=\"\",INDEX('作業（児童生徒）'!$E$3:$CB$11,P$5,$O20),'データ入力（児童生徒）'!C20))","v":0},{"$f":"IF($O20=\"\",\"\",IF('データ入力（児童生徒）'!$L$3=\"\",INDEX('作業（児童生徒）'!$E$3:$CB$11,Q$5,$O20),'データ入力（児童生徒）'!D20))","v":0},{"$f":"IF($O20=\"\",\"\",IF('データ入力（児童生徒）'!$L$3=\"\",INDEX('作業（児童生徒）'!$E$3:$CB$11,R$5,$O20),'データ入力（児童生徒）'!E20))","v":0},{"$f":"IF($O20=\"\",\"\",IF('データ入力（児童生徒）'!$L$3=\"\",INDEX('作業（児童生徒）'!$E$3:$CB$11,S$5,$O20),'データ入力（児童生徒）'!F20))","v":0},{"$f":"IF($O20=\"\",\"\",IF('データ入力（児童生徒）'!$L$3=\"\",INDEX('作業（児童生徒）'!$E$3:$CB$11,T$5,$O20),'データ入力（児童生徒）'!G20))","v":0},{"$f":"IF($O20=\"\",\"\",IF('データ入力（児童生徒）'!$L$3=\"\",INDEX('作業（児童生徒）'!$E$3:$CB$11,U$5,$O20),'データ入力（児童生徒）'!H20))","v":0},{"$f":"IF($O20=\"\",\"\",IF('データ入力（児童生徒）'!$L$3=\"\",INDEX('作業（児童生徒）'!$E$3:$CB$11,V$5,$O20),'データ入力（児童生徒）'!I20))","v":0},{"$f":"IF($O20=\"\",\"\",IF('データ入力（児童生徒）'!$L$3=\"\",INDEX('作業（児童生徒）'!$E$3:$CB$11,W$5,$O20),'データ入力（児童生徒）'!J20))","v":0},{"$f":"IF($O20=\"\",\"\",IF('データ入力（児童生徒）'!$L$3=\"\",INDEX('作業（児童生徒）'!$E$3:$CB$11,X$5,$O20),'データ入力（児童生徒）'!K20))","v":0},0]
["(5)-3","あなたはゲーム機でインターネットを使っていますか","","","",{"$f":"IFERROR(ROUND(S21/$P$3*100,1),\"\")","v":""},"",null,null,null,null,null,null,1,{"$f":"IF(N21>=1,COUNT($N$6:N21),\"\")","v":8},{"$f":"IF($O21=\"\",\"\",IF('データ入力（児童生徒）'!$L$3=\"\",INDEX('作業（児童生徒）'!$E$3:$CB$11,P$5,$O21),'データ入力（児童生徒）'!C21))","v":0},{"$f":"IF($O21=\"\",\"\",IF('データ入力（児童生徒）'!$L$3=\"\",INDEX('作業（児童生徒）'!$E$3:$CB$11,Q$5,$O21),'データ入力（児童生徒）'!D21))","v":0},{"$f":"IF($O21=\"\",\"\",IF('データ入力（児童生徒）'!$L$3=\"\",INDEX('作業（児童生徒）'!$E$3:$CB$11,R$5,$O21),'データ入力（児童生徒）'!E21))","v":0},{"$f":"IF($O21=\"\",\"\",IF('データ入力（児童生徒）'!$L$3=\"\",INDEX('作業（児童生徒）'!$E$3:$CB$11,S$5,$O21),'データ入力（児童生徒）'!F21))","v":0},{"$f":"IF($O21=\"\",\"\",IF('データ入力（児童生徒）'!$L$3=\"\",INDEX('作業（児童生徒）'!$E$3:$CB$11,T$5,$O21),'データ入力（児童生徒）'!G21))","v":0},{"$f":"IF($O21=\"\",\"\",IF('データ入力（児童生徒）'!$L$3=\"\",INDEX('作業（児童生徒）'!$E$3:$CB$11,U$5,$O21),'データ入力（児童生徒）'!H21))","v":0},{"$f":"IF($O21=\"\",\"\",IF('データ入力（児童生徒）'!$L$3=\"\",INDEX('作業（児童生徒）'!$E$3:$CB$11,V$5,$O21),'データ入力（児童生徒）'!I21))","v":0},{"$f":"IF($O21=\"\",\"\",IF('データ入力（児童生徒）'!$L$3=\"\",INDEX('作業（児童生徒）'!$E$3:$CB$11,W$5,$O21),'データ入力（児童生徒）'!J21))","v":0},{"$f":"IF($O21=\"\",\"\",IF('データ入力（児童生徒）'!$L$3=\"\",INDEX('作業（児童生徒）'!$E$3:$CB$11,X$5,$O21),'データ入力（児童生徒）'!K21))","v":0},0]
[null,null,null,null,null,null,null,null,null,null,null,null,null,null,{"$f":"IF(N22>=1,COUNT($N$6:N22),\"\")","v":""},{"$f":"IF($O22=\"\",\"\",IF('データ入力（児童生徒）'!$L$3=\"\",INDEX('作業（児童生徒）'!$E$3:$CB$11,P$5,$O22),'データ入力（児童生徒）'!C22))","v":""},{"$f":"IF($O22=\"\",\"\",IF('データ入力（児童生徒）'!$L$3=\"\",INDEX('作業（児童生徒）'!$E$3:$CB$11,Q$5,$O22),'データ入力（児童生徒）'!D22))","v":""},{"$f":"IF($O22=\"\",\"\",IF('データ入力（児童生徒）'!$L$3=\"\",INDEX('作業（児童生徒）'!$E$3:$CB$11,R$5,$O22),'データ入力（児童生徒）'!E22))","v":""},{"$f":"IF($O22=\"\",\"\",IF('データ入力（児童生徒）'!$L$3=\"\",INDEX('作業（児童生徒）'!$E$3:$CB$11,S$5,$O22),'データ入力（児童生徒）'!F22))","v":""},{"$f":"IF($O22=\"\",\"\",IF('データ入力（児童生徒）'!$L$3=\"\",INDEX('作業（児童生徒）'!$E$3:$CB$11,T$5,$O22),'データ入力（児童生徒）'!G22))","v":""},{"$f":"IF($O22=\"\",\"\",IF('データ入力（児童生徒）'!$L$3=\"\",INDEX('作業（児童生徒）'!$E$3:$CB$11,U$5,$O22),'データ入力（児童生徒）'!H22))","v":""},{"$f":"IF($O22=\"\",\"\",IF('データ入力（児童生徒）'!$L$3=\"\",INDEX('作業（児童生徒）'!$E$3:$CB$11,V$5,$O22),'データ入力（児童生徒）'!I22))","v":""},{"$f":"IF($O22=\"\",\"\",IF('データ入力（児童生徒）'!$L$3=\"\",INDEX('作業（児童生徒）'!$E$3:$CB$11,W$5,$O22),'データ入力（児童生徒）'!J22))","v":""},{"$f":"IF($O22=\"\",\"\",IF('データ入力（児童生徒）'!$L$3=\"\",INDEX('作業（児童生徒）'!$E$3:$CB$11,X$5,$O22),'データ入力（児童生徒）'!K22))","v":""},""]
[null,"質問","機器名","家にない","０分","30分未満\n使っている","30分以上\n１時間未満","１時間以上\n２時間未満","２時間以上\n３時間未満","３時間以上\n４時間未満","４時間以上","無回答",null,null,{"$f":"IF(N23>=1,COUNT($N$6:N23),\"\")","v":""},{"$f":"IF($O23=\"\",\"\",IF('データ入力（児童生徒）'!$L$3=\"\",INDEX('作業（児童生徒）'!$E$3:$CB$11,P$5,$O23),'データ入力（児童生徒）'!C23))","v":""},{"$f":"IF($O23=\"\",\"\",IF('データ入力（児童生徒）'!$L$3=\"\",INDEX('作業（児童生徒）'!$E$3:$CB$11,Q$5,$O23),'データ入力（児童生徒）'!D23))","v":""},{"$f":"IF($O23=\"\",\"\",IF('データ入力（児童生徒）'!$L$3=\"\",INDEX('作業（児童生徒）'!$E$3:$CB$11,R$5,$O23),'データ入力（児童生徒）'!E23))","v":""},{"$f":"IF($O23=\"\",\"\",IF('データ入力（児童生徒）'!$L$3=\"\",INDEX('作業（児童生徒）'!$E$3:$CB$11,S$5,$O23),'データ入力（児童生徒）'!F23))","v":""},{"$f":"IF($O23=\"\",\"\",IF('データ入力（児童生徒）'!$L$3=\"\",INDEX('作業（児童生徒）'!$E$3:$CB$11,T$5,$O23),'データ入力（児童生徒）'!G23))","v":""},{"$f":"IF($O23=\"\",\"\",IF('データ入力（児童生徒）'!$L$3=\"\",INDEX('作業（児童生徒）'!$E$3:$CB$11,U$5,$O23),'データ入力（児童生徒）'!H23))","v":""},{"$f":"IF($O23=\"\",\"\",IF('データ入力（児童生徒）'!$L$3=\"\",INDEX('作業（児童生徒）'!$E$3:$CB$11,V$5,$O23),'データ入力（児童生徒）'!I23))","v":""},{"$f":"IF($O23=\"\",\"\",IF('データ入力（児童生徒）'!$L$3=\"\",INDEX('作業（児童生徒）'!$E$3:$CB$11,W$5,$O23),'データ入力（児童生徒）'!J23))","v":""},{"$f":"IF($O23=\"\",\"\",IF('データ入力（児童生徒）'!$L$3=\"\",INDEX('作業（児童生徒）'!$E$3:$CB$11,X$5,$O23),'データ入力（児童生徒）'!K23))","v":""},""]
["(6)-1","各機器を使っている平日の平均時間\n（勉強のために使うことも含む）","スマホ・\nタブレット",{"$f":"IFERROR(ROUND(P24/$P$3*100,1),\"\")","v":""},{"$f":"IFERROR(ROUND(Q24/$P$3*100,1),\"\")","v":""},{"$f":"IFERROR(ROUND(R24/$P$3*100,1),\"\")","v":""},{"$f":"IFERROR(ROUND(S24/$P$3*100,1),\"\")","v":""},{"$f":"IFERROR(ROUND(T24/$P$3*100,1),\"\")","v":""},{"$f":"IFERROR(ROUND(U24/$P$3*100,1),\"\")","v":""},{"$f":"IFERROR(ROUND(V24/$P$3*100,1),\"\")","v":""},{"$f":"IFERROR(ROUND(W24/$P$3*100,1),\"\")","v":""},{"$f":"IFERROR(ROUND($Y24/$P$3*100,1),\"\")","v":""},null,1,{"$f":"IF(N24>=1,COUNT($N$6:N24),\"\")","v":9},{"$f":"IF($O24=\"\",\"\",IF('データ入力（児童生徒）'!$L$3=\"\",INDEX('作業（児童生徒）'!$E$3:$CB$11,P$5,$O24),'データ入力（児童生徒）'!D24))","v":0},{"$f":"IF($O24=\"\",\"\",IF('データ入力（児童生徒）'!$L$3=\"\",INDEX('作業（児童生徒）'!$E$3:$CB$11,Q$5,$O24),'データ入力（児童生徒）'!E24))","v":0},{"$f":"IF($O24=\"\",\"\",IF('データ入力（児童生徒）'!$L$3=\"\",INDEX('作業（児童生徒）'!$E$3:$CB$11,R$5,$O24),'データ入力（児童生徒）'!F24))","v":0},{"$f":"IF($O24=\"\",\"\",IF('データ入力（児童生徒）'!$L$3=\"\",INDEX('作業（児童生徒）'!$E$3:$CB$11,S$5,$O24),'データ入力（児童生徒）'!G24))","v":0},{"$f":"IF($O24=\"\",\"\",IF('データ入力（児童生徒）'!$L$3=\"\",INDEX('作業（児童生徒）'!$E$3:$CB$11,T$5,$O24),'データ入力（児童生徒）'!H24))","v":0},{"$f":"IF($O24=\"\",\"\",IF('データ入力（児童生徒）'!$L$3=\"\",INDEX('作業（児童生徒）'!$E$3:$CB$11,U$5,$O24),'データ入力（児童生徒）'!I24))","v":0},{"$f":"IF($O24=\"\",\"\",IF('データ入力（児童生徒）'!$L$3=\"\",INDEX('作業（児童生徒）'!$E$3:$CB$11,V$5,$O24),'データ入力（児童生徒）'!J24))","v":0},{"$f":"IF($O24=\"\",\"\",IF('データ入力（児童生徒）'!$L$3=\"\",INDEX('作業（児童生徒）'!$E$3:$CB$11,W$5,$O24),'データ入力（児童生徒）'!K24))","v":0},{"$f":"IF($O24=\"\",\"\",IF('データ入力（児童生徒）'!$L$3=\"\",INDEX('作業（児童生徒）'!$E$3:$CB$11,X$5,$O24),'データ入力（児童生徒）'!L24))","v":0},0]
["(6)-2",null,"パソコン",{"$f":"IFERROR(ROUND(P25/$P$3*100,1),\"\")","v":""},"","","","","","","","",null,1,{"$f":"IF(N25>=1,COUNT($N$6:N25),\"\")","v":10},{"$f":"IF($O25=\"\",\"\",IF('データ入力（児童生徒）'!$L$3=\"\",INDEX('作業（児童生徒）'!$E$3:$CB$11,P$5,$O25),'データ入力（児童生徒）'!D25))","v":0},{"$f":"IF($O25=\"\",\"\",IF('データ入力（児童生徒）'!$L$3=\"\",INDEX('作業（児童生徒）'!$E$3:$CB$11,Q$5,$O25),'データ入力（児童生徒）'!E25))","v":0},{"$f":"IF($O25=\"\",\"\",IF('データ入力（児童生徒）'!$L$3=\"\",INDEX('作業（児童生徒）'!$E$3:$CB$11,R$5,$O25),'データ入力（児童生徒）'!F25))","v":0},{"$f":"IF($O25=\"\",\"\",IF('データ入力（児童生徒）'!$L$3=\"\",INDEX('作業（児童生徒）'!$E$3:$CB$11,S$5,$O25),'データ入力（児童生徒）'!G25))","v":0},{"$f":"IF($O25=\"\",\"\",IF('データ入力（児童生徒）'!$L$3=\"\",INDEX('作業（児童生徒）'!$E$3:$CB$11,T$5,$O25),'データ入力（児童生徒）'!H25))","v":0},{"$f":"IF($O25=\"\",\"\",IF('データ入力（児童生徒）'!$L$3=\"\",INDEX('作業（児童生徒）'!$E$3:$CB$11,U$5,$O25),'データ入力（児童生徒）'!I25))","v":0},{"$f":"IF($O25=\"\",\"\",IF('データ入力（児童生徒）'!$L$3=\"\",INDEX('作業（児童生徒）'!$E$3:$CB$11,V$5,$O25),'データ入力（児童生徒）'!J25))","v":0},{"$f":"IF($O25=\"\",\"\",IF('データ入力（児童生徒）'!$L$3=\"\",INDEX('作業（児童生徒）'!$E$3:$CB$11,W$5,$O25),'データ入力（児童生徒）'!K25))","v":0},{"$f":"IF($O25=\"\",\"\",IF('データ入力（児童生徒）'!$L$3=\"\",INDEX('作業（児童生徒）'!$E$3:$CB$11,X$5,$O25),'データ入力（児童生徒）'!L25))","v":0},0]
["(6)-3",null,"ゲーム機","","","","","","","","","",null,1,{"$f":"IF(N26>=1,COUNT($N$6:N26),\"\")","v":11},{"$f":"IF($O26=\"\",\"\",IF('データ入力（児童生徒）'!$L$3=\"\",INDEX('作業（児童生徒）'!$E$3:$CB$11,P$5,$O26),'データ入力（児童生徒）'!D26))","v":0},{"$f":"IF($O26=\"\",\"\",IF('データ入力（児童生徒）'!$L$3=\"\",INDEX('作業（児童生徒）'!$E$3:$CB$11,Q$5,$O26),'データ入力（児童生徒）'!E26))","v":0},{"$f":"IF($O26=\"\",\"\",IF('データ入力（児童生徒）'!$L$3=\"\",INDEX('作業（児童生徒）'!$E$3:$CB$11,R$5,$O26),'データ入力（児童生徒）'!F26))","v":0},{"$f":"IF($O26=\"\",\"\",IF('データ入力（児童生徒）'!$L$3=\"\",INDEX('作業（児童生徒）'!$E$3:$CB$11,S$5,$O26),'データ入力（児童生徒）'!G26))","v":0},{"$f":"IF($O26=\"\",\"\",IF('データ入力（児童生徒）'!$L$3=\"\",INDEX('作業（児童生徒）'!$E$3:$CB$11,T$5,$O26),'データ入力（児童生徒）'!H26))","v":0},{"$f":"IF($O26=\"\",\"\",IF('データ入力（児童生徒）'!$L$3=\"\",INDEX('作業（児童生徒）'!$E$3:$CB$11,U$5,$O26),'データ入力（児童生徒）'!I26))","v":0},{"$f":"IF($O26=\"\",\"\",IF('データ入力（児童生徒）'!$L$3=\"\",INDEX('作業（児童生徒）'!$E$3:$CB$11,V$5,$O26),'データ入力（児童生徒）'!J26))","v":0},{"$f":"IF($O26=\"\",\"\",IF('データ入力（児童生徒）'!$L$3=\"\",INDEX('作業（児童生徒）'!$E$3:$CB$11,W$5,$O26),'データ入力（児童生徒）'!K26))","v":0},{"$f":"IF($O26=\"\",\"\",IF('データ入力（児童生徒）'!$L$3=\"\",INDEX('作業（児童生徒）'!$E$3:$CB$11,X$5,$O26),'データ入力（児童生徒）'!L26))","v":0},0]
[null,null,null,null,null,null,null,null,null,null,null,null,null,null,{"$f":"IF(N27>=1,COUNT($N$6:N27),\"\")","v":""},{"$f":"IF($O27=\"\",\"\",IF('データ入力（児童生徒）'!$L$3=\"\",INDEX('作業（児童生徒）'!$E$3:$CB$11,P$5,$O27),'データ入力（児童生徒）'!C27))","v":""},{"$f":"IF($O27=\"\",\"\",IF('データ入力（児童生徒）'!$L$3=\"\",INDEX('作業（児童生徒）'!$E$3:$CB$11,Q$5,$O27),'データ入力（児童生徒）'!D27))","v":""},{"$f":"IF($O27=\"\",\"\",IF('データ入力（児童生徒）'!$L$3=\"\",INDEX('作業（児童生徒）'!$E$3:$CB$11,R$5,$O27),'データ入力（児童生徒）'!E27))","v":""},{"$f":"IF($O27=\"\",\"\",IF('データ入力（児童生徒）'!$L$3=\"\",INDEX('作業（児童生徒）'!$E$3:$CB$11,S$5,$O27),'データ入力（児童生徒）'!F27))","v":""},{"$f":"IF($O27=\"\",\"\",IF('データ入力（児童生徒）'!$L$3=\"\",INDEX('作業（児童生徒）'!$E$3:$CB$11,T$5,$O27),'データ入力（児童生徒）'!G27))","v":""},{"$f":"IF($O27=\"\",\"\",IF('データ入力（児童生徒）'!$L$3=\"\",INDEX('作業（児童生徒）'!$E$3:$CB$11,U$5,$O27),'データ入力（児童生徒）'!H27))","v":""},{"$f":"IF($O27=\"\",\"\",IF('データ入力（児童生徒）'!$L$3=\"\",INDEX('作業（児童生徒）'!$E$3:$CB$11,V$5,$O27),'データ入力（児童生徒）'!I27))","v":""},{"$f":"IF($O27=\"\",\"\",IF('データ入力（児童生徒）'!$L$3=\"\",INDEX('作業（児童生徒）'!$E$3:$CB$11,W$5,$O27),'データ入力（児童生徒）'!J27))","v":""},{"$f":"IF($O27=\"\",\"\",IF('データ入力（児童生徒）'!$L$3=\"\",INDEX('作業（児童生徒）'!$E$3:$CB$11,X$5,$O27),'データ入力（児童生徒）'!K27))","v":""},""]
[null,"質問","機器名","家にない","０分","30分未満\n使っている","30分以上\n１時間未満","１時間以上\n２時間未満","２時間以上\n３時間未満","３時間以上\n４時間未満","４時間以上","無回答",null,null,{"$f":"IF(N28>=1,COUNT($N$6:N28),\"\")","v":""},{"$f":"IF($O28=\"\",\"\",IF('データ入力（児童生徒）'!$L$3=\"\",INDEX('作業（児童生徒）'!$E$3:$CB$11,P$5,$O28),'データ入力（児童生徒）'!C28))","v":""},{"$f":"IF($O28=\"\",\"\",IF('データ入力（児童生徒）'!$L$3=\"\",INDEX('作業（児童生徒）'!$E$3:$CB$11,Q$5,$O28),'データ入力（児童生徒）'!D28))","v":""},{"$f":"IF($O28=\"\",\"\",IF('データ入力（児童生徒）'!$L$3=\"\",INDEX('作業（児童生徒）'!$E$3:$CB$11,R$5,$O28),'データ入力（児童生徒）'!E28))","v":""},{"$f":"IF($O28=\"\",\"\",IF('データ入力（児童生徒）'!$L$3=\"\",INDEX('作業（児童生徒）'!$E$3:$CB$11,S$5,$O28),'データ入力（児童生徒）'!F28))","v":""},{"$f":"IF($O28=\"\",\"\",IF('データ入力（児童生徒）'!$L$3=\"\",INDEX('作業（児童生徒）'!$E$3:$CB$11,T$5,$O28),'データ入力（児童生徒）'!G28))","v":""},{"$f":"IF($O28=\"\",\"\",IF('データ入力（児童生徒）'!$L$3=\"\",INDEX('作業（児童生徒）'!$E$3:$CB$11,U$5,$O28),'データ入力（児童生徒）'!H28))","v":""},{"$f":"IF($O28=\"\",\"\",IF('データ入力（児童生徒）'!$L$3=\"\",INDEX('作業（児童生徒）'!$E$3:$CB$11,V$5,$O28),'データ入力（児童生徒）'!I28))","v":""},{"$f":"IF($O28=\"\",\"\",IF('データ入力（児童生徒）'!$L$3=\"\",INDEX('作業（児童生徒）'!$E$3:$CB$11,W$5,$O28),'データ入力（児童生徒）'!J28))","v":""},{"$f":"IF($O28=\"\",\"\",IF('データ入力（児童生徒）'!$L$3=\"\",INDEX('作業（児童生徒）'!$E$3:$CB$11,X$5,$O28),'データ入力（児童生徒）'!K28))","v":""},""]
["(7)-1","各機器を勉強のために使っている平日の平均時間","スマホ・\nタブレット",{"$f":"IFERROR(ROUND(P29/$P$3*100,1),\"\")","v":""},{"$f":"IFERROR(ROUND(Q29/$P$3*100,1),\"\")","v":""},{"$f":"IFERROR(ROUND(R29/$P$3*100,1),\"\")","v":""},{"$f":"IFERROR(ROUND(S29/$P$3*100,1),\"\")","v":""},{"$f":"IFERROR(ROUND(T29/$P$3*100,1),\"\")","v":""},{"$f":"IFERROR(ROUND(U29/$P$3*100,1),\"\")","v":""},{"$f":"IFERROR(ROUND(V29/$P$3*100,1),\"\")","v":""},{"$f":"IFERROR(ROUND(W29/$P$3*100,1),\"\")","v":""},{"$f":"IFERROR(ROUND($Y29/$P$3*100,1),\"\")","v":""},null,1,{"$f":"IF(N29>=1,COUNT($N$6:N29),\"\")","v":12},{"$f":"IF($O29=\"\",\"\",IF('データ入力（児童生徒）'!$L$3=\"\",INDEX('作業（児童生徒）'!$E$3:$CB$11,P$5,$O29),'データ入力（児童生徒）'!D29))","v":0},{"$f":"IF($O29=\"\",\"\",IF('データ入力（児童生徒）'!$L$3=\"\",INDEX('作業（児童生徒）'!$E$3:$CB$11,Q$5,$O29),'データ入力（児童生徒）'!E29))","v":0},{"$f":"IF($O29=\"\",\"\",IF('データ入力（児童生徒）'!$L$3=\"\",INDEX('作業（児童生徒）'!$E$3:$CB$11,R$5,$O29),'データ入力（児童生徒）'!F29))","v":0},{"$f":"IF($O29=\"\",\"\",IF('データ入力（児童生徒）'!$L$3=\"\",INDEX('作業（児童生徒）'!$E$3:$CB$11,S$5,$O29),'データ入力（児童生徒）'!G29))","v":0},{"$f":"IF($O29=\"\",\"\",IF('データ入力（児童生徒）'!$L$3=\"\",INDEX('作業（児童生徒）'!$E$3:$CB$11,T$5,$O29),'データ入力（児童生徒）'!H29))","v":0},{"$f":"IF($O29=\"\",\"\",IF('データ入力（児童生徒）'!$L$3=\"\",INDEX('作業（児童生徒）'!$E$3:$CB$11,U$5,$O29),'データ入力（児童生徒）'!I29))","v":0},{"$f":"IF($O29=\"\",\"\",IF('データ入力（児童生徒）'!$L$3=\"\",INDEX('作業（児童生徒）'!$E$3:$CB$11,V$5,$O29),'データ入力（児童生徒）'!J29))","v":0},{"$f":"IF($O29=\"\",\"\",IF('データ入力（児童生徒）'!$L$3=\"\",INDEX('作業（児童生徒）'!$E$3:$CB$11,W$5,$O29),'データ入力（児童生徒）'!K29))","v":0},{"$f":"IF($O29=\"\",\"\",IF('データ入力（児童生徒）'!$L$3=\"\",INDEX('作業（児童生徒）'!$E$3:$CB$11,X$5,$O29),'データ入力（児童生徒）'!L29))","v":0},0]
["(7)-2",null,"パソコン","","","","","","","","","",null,1,{"$f":"IF(N30>=1,COUNT($N$6:N30),\"\")","v":13},{"$f":"IF($O30=\"\",\"\",IF('データ入力（児童生徒）'!$L$3=\"\",INDEX('作業（児童生徒）'!$E$3:$CB$11,P$5,$O30),'データ入力（児童生徒）'!D30))","v":0},{"$f":"IF($O30=\"\",\"\",IF('データ入力（児童生徒）'!$L$3=\"\",INDEX('作業（児童生徒）'!$E$3:$CB$11,Q$5,$O30),'データ入力（児童生徒）'!E30))","v":0},{"$f":"IF($O30=\"\",\"\",IF('データ入力（児童生徒）'!$L$3=\"\",INDEX('作業（児童生徒）'!$E$3:$CB$11,R$5,$O30),'データ入力（児童生徒）'!F30))","v":0},{"$f":"IF($O30=\"\",\"\",IF('データ入力（児童生徒）'!$L$3=\"\",INDEX('作業（児童生徒）'!$E$3:$CB$11,S$5,$O30),'データ入力（児童生徒）'!G30))","v":0},{"$f":"IF($O30=\"\",\"\",IF('データ入力（児童生徒）'!$L$3=\"\",INDEX('作業（児童生徒）'!$E$3:$CB$11,T$5,$O30),'データ入力（児童生徒）'!H30))","v":0},{"$f":"IF($O30=\"\",\"\",IF('データ入力（児童生徒）'!$L$3=\"\",INDEX('作業（児童生徒）'!$E$3:$CB$11,U$5,$O30),'データ入力（児童生徒）'!I30))","v":0},{"$f":"IF($O30=\"\",\"\",IF('データ入力（児童生徒）'!$L$3=\"\",INDEX('作業（児童生徒）'!$E$3:$CB$11,V$5,$O30),'データ入力（児童生徒）'!J30))","v":0},{"$f":"IF($O30=\"\",\"\",IF('データ入力（児童生徒）'!$L$3=\"\",INDEX('作業（児童生徒）'!$E$3:$CB$11,W$5,$O30),'データ入力（児童生徒）'!K30))","v":0},{"$f":"IF($O30=\"\",\"\",IF('データ入力（児童生徒）'!$L$3=\"\",INDEX('作業（児童生徒）'!$E$3:$CB$11,X$5,$O30),'データ入力（児童生徒）'!L30))","v":0},0]
["(7)-3",null,"ゲーム機","","","","","","","","","",null,1,{"$f":"IF(N31>=1,COUNT($N$6:N31),\"\")","v":14},{"$f":"IF($O31=\"\",\"\",IF('データ入力（児童生徒）'!$L$3=\"\",INDEX('作業（児童生徒）'!$E$3:$CB$11,P$5,$O31),'データ入力（児童生徒）'!D31))","v":0},{"$f":"IF($O31=\"\",\"\",IF('データ入力（児童生徒）'!$L$3=\"\",INDEX('作業（児童生徒）'!$E$3:$CB$11,Q$5,$O31),'データ入力（児童生徒）'!E31))","v":0},{"$f":"IF($O31=\"\",\"\",IF('データ入力（児童生徒）'!$L$3=\"\",INDEX('作業（児童生徒）'!$E$3:$CB$11,R$5,$O31),'データ入力（児童生徒）'!F31))","v":0},{"$f":"IF($O31=\"\",\"\",IF('データ入力（児童生徒）'!$L$3=\"\",INDEX('作業（児童生徒）'!$E$3:$CB$11,S$5,$O31),'データ入力（児童生徒）'!G31))","v":0},{"$f":"IF($O31=\"\",\"\",IF('データ入力（児童生徒）'!$L$3=\"\",INDEX('作業（児童生徒）'!$E$3:$CB$11,T$5,$O31),'データ入力（児童生徒）'!H31))","v":0},{"$f":"IF($O31=\"\",\"\",IF('データ入力（児童生徒）'!$L$3=\"\",INDEX('作業（児童生徒）'!$E$3:$CB$11,U$5,$O31),'データ入力（児童生徒）'!I31))","v":0},{"$f":"IF($O31=\"\",\"\",IF('データ入力（児童生徒）'!$L$3=\"\",INDEX('作業（児童生徒）'!$E$3:$CB$11,V$5,$O31),'データ入力（児童生徒）'!J31))","v":0},{"$f":"IF($O31=\"\",\"\",IF('データ入力（児童生徒）'!$L$3=\"\",INDEX('作業（児童生徒）'!$E$3:$CB$11,W$5,$O31),'データ入力（児童生徒）'!K31))","v":0},{"$f":"IF($O31=\"\",\"\",IF('データ入力（児童生徒）'!$L$3=\"\",INDEX('作業（児童生徒）'!$E$3:$CB$11,X$5,$O31),'データ入力（児童生徒）'!L31))","v":0},0]
[null,null,null,null,null,null,null,null,null,null,null,null,null,null,{"$f":"IF(N32>=1,COUNT($N$6:N32),\"\")","v":""},{"$f":"IF($O32=\"\",\"\",IF('データ入力（児童生徒）'!$L$3=\"\",INDEX('作業（児童生徒）'!$E$3:$CB$11,P$5,$O32),'データ入力（児童生徒）'!C32))","v":""},{"$f":"IF($O32=\"\",\"\",IF('データ入力（児童生徒）'!$L$3=\"\",INDEX('作業（児童生徒）'!$E$3:$CB$11,Q$5,$O32),'データ入力（児童生徒）'!D32))","v":""},{"$f":"IF($O32=\"\",\"\",IF('データ入力（児童生徒）'!$L$3=\"\",INDEX('作業（児童生徒）'!$E$3:$CB$11,R$5,$O32),'データ入力（児童生徒）'!E32))","v":""},{"$f":"IF($O32=\"\",\"\",IF('データ入力（児童生徒）'!$L$3=\"\",INDEX('作業（児童生徒）'!$E$3:$CB$11,S$5,$O32),'データ入力（児童生徒）'!F32))","v":""},{"$f":"IF($O32=\"\",\"\",IF('データ入力（児童生徒）'!$L$3=\"\",INDEX('作業（児童生徒）'!$E$3:$CB$11,T$5,$O32),'データ入力（児童生徒）'!G32))","v":""},{"$f":"IF($O32=\"\",\"\",IF('データ入力（児童生徒）'!$L$3=\"\",INDEX('作業（児童生徒）'!$E$3:$CB$11,U$5,$O32),'データ入力（児童生徒）'!H32))","v":""},{"$f":"IF($O32=\"\",\"\",IF('データ入力（児童生徒）'!$L$3=\"\",INDEX('作業（児童生徒）'!$E$3:$CB$11,V$5,$O32),'データ入力（児童生徒）'!I32))","v":""},{"$f":"IF($O32=\"\",\"\",IF('データ入力（児童生徒）'!$L$3=\"\",INDEX('作業（児童生徒）'!$E$3:$CB$11,W$5,$O32),'データ入力（児童生徒）'!J32))","v":""},{"$f":"IF($O32=\"\",\"\",IF('データ入力（児童生徒）'!$L$3=\"\",INDEX('作業（児童生徒）'!$E$3:$CB$11,X$5,$O32),'データ入力（児童生徒）'!K32))","v":""},""]
["（８）あなたの家庭では、各機器を使う場合のルールとして決めていることはありますか",null,null,null,null,null,null,null,null,null,null,null,null,null,{"$f":"IF(N33>=1,COUNT($N$6:N33),\"\")","v":""},{"$f":"IF($O33=\"\",\"\",IF('データ入力（児童生徒）'!$L$3=\"\",INDEX('作業（児童生徒）'!$E$3:$CB$11,P$5,$O33),'データ入力（児童生徒）'!C33))","v":""},{"$f":"IF($O33=\"\",\"\",IF('データ入力（児童生徒）'!$L$3=\"\",INDEX('作業（児童生徒）'!$E$3:$CB$11,Q$5,$O33),'データ入力（児童生徒）'!D33))","v":""},{"$f":"IF($O33=\"\",\"\",IF('データ入力（児童生徒）'!$L$3=\"\",INDEX('作業（児童生徒）'!$E$3:$CB$11,R$5,$O33),'データ入力（児童生徒）'!E33))","v":""},{"$f":"IF($O33=\"\",\"\",IF('データ入力（児童生徒）'!$L$3=\"\",INDEX('作業（児童生徒）'!$E$3:$CB$11,S$5,$O33),'データ入力（児童生徒）'!F33))","v":""},{"$f":"IF($O33=\"\",\"\",IF('データ入力（児童生徒）'!$L$3=\"\",INDEX('作業（児童生徒）'!$E$3:$CB$11,T$5,$O33),'データ入力（児童生徒）'!G33))","v":""},{"$f":"IF($O33=\"\",\"\",IF('データ入力（児童生徒）'!$L$3=\"\",INDEX('作業（児童生徒）'!$E$3:$CB$11,U$5,$O33),'データ入力（児童生徒）'!H33))","v":""},{"$f":"IF($O33=\"\",\"\",IF('データ入力（児童生徒）'!$L$3=\"\",INDEX('作業（児童生徒）'!$E$3:$CB$11,V$5,$O33),'データ入力（児童生徒）'!I33))","v":""},{"$f":"IF($O33=\"\",\"\",IF('データ入力（児童生徒）'!$L$3=\"\",INDEX('作業（児童生徒）'!$E$3:$CB$11,W$5,$O33),'データ入力（児童生徒）'!J33))","v":""},{"$f":"IF($O33=\"\",\"\",IF('データ入力（児童生徒）'!$L$3=\"\",INDEX('作業（児童生徒）'!$E$3:$CB$11,X$5,$O33),'データ入力（児童生徒）'!K33))","v":""},""]
[null,"質問","家にない","決められて\nいる","決められて\nいない","無回答",null,null,null,null,null,null,null,null,{"$f":"IF(N34>=1,COUNT($N$6:N34),\"\")","v":""},{"$f":"IF($O34=\"\",\"\",IF('データ入力（児童生徒）'!$L$3=\"\",INDEX('作業（児童生徒）'!$E$3:$CB$11,P$5,$O34),'データ入力（児童生徒）'!C34))","v":""},{"$f":"IF($O34=\"\",\"\",IF('データ入力（児童生徒）'!$L$3=\"\",INDEX('作業（児童生徒）'!$E$3:$CB$11,Q$5,$O34),'データ入力（児童生徒）'!D34))","v":""},{"$f":"IF($O34=\"\",\"\",IF('データ入力（児童生徒）'!$L$3=\"\",INDEX('作業（児童生徒）'!$E$3:$CB$11,R$5,$O34),'データ入力（児童生徒）'!E34))","v":""},{"$f":"IF($O34=\"\",\"\",IF('データ入力（児童生徒）'!$L$3=\"\",INDEX('作業（児童生徒）'!$E$3:$CB$11,S$5,$O34),'データ入力（児童生徒）'!F34))","v":""},{"$f":"IF($O34=\"\",\"\",IF('データ入力（児童生徒）'!$L$3=\"\",INDEX('作業（児童生徒）'!$E$3:$CB$11,T$5,$O34),'データ入力（児童生徒）'!G34))","v":""},{"$f":"IF($O34=\"\",\"\",IF('データ入力（児童生徒）'!$L$3=\"\",INDEX('作業（児童生徒）'!$E$3:$CB$11,U$5,$O34),'データ入力（児童生徒）'!H34))","v":""},{"$f":"IF($O34=\"\",\"\",IF('データ入力（児童生徒）'!$L$3=\"\",INDEX('作業（児童生徒）'!$E$3:$CB$11,V$5,$O34),'データ入力（児童生徒）'!I34))","v":""},{"$f":"IF($O34=\"\",\"\",IF('データ入力（児童生徒）'!$L$3=\"\",INDEX('作業（児童生徒）'!$E$3:$CB$11,W$5,$O34),'データ入力（児童生徒）'!J34))","v":""},{"$f":"IF($O34=\"\",\"\",IF('データ入力（児童生徒）'!$L$3=\"\",INDEX('作業（児童生徒）'!$E$3:$CB$11,X$5,$O34),'データ入力（児童生徒）'!K34))","v":""},""]
["(8)-1","利用時間（何時間以内など）",{"$f":"IFERROR(ROUND(P35/$P$3*100,1),\"\")","v":""},{"$f":"IFERROR(ROUND(Q35/$P$3*100,1),\"\")","v":""},{"$f":"IFERROR(ROUND(R35/$P$3*100,1),\"\")","v":""},{"$f":"IFERROR(ROUND($Y35/$P$3*100,1),\"\")","v":""},null,null,null,null,null,null,null,1,{"$f":"IF(N35>=1,COUNT($N$6:N35),\"\")","v":15},{"$f":"IF($O35=\"\",\"\",IF('データ入力（児童生徒）'!$L$3=\"\",INDEX('作業（児童生徒）'!$E$3:$CB$11,P$5,$O35),'データ入力（児童生徒）'!C35))","v":0},{"$f":"IF($O35=\"\",\"\",IF('データ入力（児童生徒）'!$L$3=\"\",INDEX('作業（児童生徒）'!$E$3:$CB$11,Q$5,$O35),'データ入力（児童生徒）'!D35))","v":0},{"$f":"IF($O35=\"\",\"\",IF('データ入力（児童生徒）'!$L$3=\"\",INDEX('作業（児童生徒）'!$E$3:$CB$11,R$5,$O35),'データ入力（児童生徒）'!E35))","v":0},{"$f":"IF($O35=\"\",\"\",IF('データ入力（児童生徒）'!$L$3=\"\",INDEX('作業（児童生徒）'!$E$3:$CB$11,S$5,$O35),'データ入力（児童生徒）'!F35))","v":0},{"$f":"IF($O35=\"\",\"\",IF('データ入力（児童生徒）'!$L$3=\"\",INDEX('作業（児童生徒）'!$E$3:$CB$11,T$5,$O35),'データ入力（児童生徒）'!G35))","v":0},{"$f":"IF($O35=\"\",\"\",IF('データ入力（児童生徒）'!$L$3=\"\",INDEX('作業（児童生徒）'!$E$3:$CB$11,U$5,$O35),'データ入力（児童生徒）'!H35))","v":0},{"$f":"IF($O35=\"\",\"\",IF('データ入力（児童生徒）'!$L$3=\"\",INDEX('作業（児童生徒）'!$E$3:$CB$11,V$5,$O35),'データ入力（児童生徒）'!I35))","v":0},{"$f":"IF($O35=\"\",\"\",IF('データ入力（児童生徒）'!$L$3=\"\",INDEX('作業（児童生徒）'!$E$3:$CB$11,W$5,$O35),'データ入力（児童生徒）'!J35))","v":0},{"$f":"IF($O35=\"\",\"\",IF('データ入力（児童生徒）'!$L$3=\"\",INDEX('作業（児童生徒）'!$E$3:$CB$11,X$5,$O35),'データ入力（児童生徒）'!K35))","v":0},0]
["(8)-2","利用してよい時間帯（何時から何時までなど）","","","","",null,null,null,null,null,null,null,1,{"$f":"IF(N36>=1,COUNT($N$6:N36),\"\")","v":16},{"$f":"IF($O36=\"\",\"\",IF('データ入力（児童生徒）'!$L$3=\"\",INDEX('作業（児童生徒）'!$E$3:$CB$11,P$5,$O36),'データ入力（児童生徒）'!C36))","v":0},{"$f":"IF($O36=\"\",\"\",IF('データ入力（児童生徒）'!$L$3=\"\",INDEX('作業（児童生徒）'!$E$3:$CB$11,Q$5,$O36),'データ入力（児童生徒）'!D36))","v":0},{"$f":"IF($O36=\"\",\"\",IF('データ入力（児童生徒）'!$L$3=\"\",INDEX('作業（児童生徒）'!$E$3:$CB$11,R$5,$O36),'データ入力（児童生徒）'!E36))","v":0},{"$f":"IF($O36=\"\",\"\",IF('データ入力（児童生徒）'!$L$3=\"\",INDEX('作業（児童生徒）'!$E$3:$CB$11,S$5,$O36),'データ入力（児童生徒）'!F36))","v":0},{"$f":"IF($O36=\"\",\"\",IF('データ入力（児童生徒）'!$L$3=\"\",INDEX('作業（児童生徒）'!$E$3:$CB$11,T$5,$O36),'データ入力（児童生徒）'!G36))","v":0},{"$f":"IF($O36=\"\",\"\",IF('データ入力（児童生徒）'!$L$3=\"\",INDEX('作業（児童生徒）'!$E$3:$CB$11,U$5,$O36),'データ入力（児童生徒）'!H36))","v":0},{"$f":"IF($O36=\"\",\"\",IF('データ入力（児童生徒）'!$L$3=\"\",INDEX('作業（児童生徒）'!$E$3:$CB$11,V$5,$O36),'データ入力（児童生徒）'!I36))","v":0},{"$f":"IF($O36=\"\",\"\",IF('データ入力（児童生徒）'!$L$3=\"\",INDEX('作業（児童生徒）'!$E$3:$CB$11,W$5,$O36),'データ入力（児童生徒）'!J36))","v":0},{"$f":"IF($O36=\"\",\"\",IF('データ入力（児童生徒）'!$L$3=\"\",INDEX('作業（児童生徒）'!$E$3:$CB$11,X$5,$O36),'データ入力（児童生徒）'!K36))","v":0},0]
["(8)-3","通話やデータ通信などに利用できる金額","","","","",null,null,null,null,null,null,null,1,{"$f":"IF(N37>=1,COUNT($N$6:N37),\"\")","v":17},{"$f":"IF($O37=\"\",\"\",IF('データ入力（児童生徒）'!$L$3=\"\",INDEX('作業（児童生徒）'!$E$3:$CB$11,P$5,$O37),'データ入力（児童生徒）'!C37))","v":0},{"$f":"IF($O37=\"\",\"\",IF('データ入力（児童生徒）'!$L$3=\"\",INDEX('作業（児童生徒）'!$E$3:$CB$11,Q$5,$O37),'データ入力（児童生徒）'!D37))","v":0},{"$f":"IF($O37=\"\",\"\",IF('データ入力（児童生徒）'!$L$3=\"\",INDEX('作業（児童生徒）'!$E$3:$CB$11,R$5,$O37),'データ入力（児童生徒）'!E37))","v":0},{"$f":"IF($O37=\"\",\"\",IF('データ入力（児童生徒）'!$L$3=\"\",INDEX('作業（児童生徒）'!$E$3:$CB$11,S$5,$O37),'データ入力（児童生徒）'!F37))","v":0},{"$f":"IF($O37=\"\",\"\",IF('データ入力（児童生徒）'!$L$3=\"\",INDEX('作業（児童生徒）'!$E$3:$CB$11,T$5,$O37),'データ入力（児童生徒）'!G37))","v":0},{"$f":"IF($O37=\"\",\"\",IF('データ入力（児童生徒）'!$L$3=\"\",INDEX('作業（児童生徒）'!$E$3:$CB$11,U$5,$O37),'データ入力（児童生徒）'!H37))","v":0},{"$f":"IF($O37=\"\",\"\",IF('データ入力（児童生徒）'!$L$3=\"\",INDEX('作業（児童生徒）'!$E$3:$CB$11,V$5,$O37),'データ入力（児童生徒）'!I37))","v":0},{"$f":"IF($O37=\"\",\"\",IF('データ入力（児童生徒）'!$L$3=\"\",INDEX('作業（児童生徒）'!$E$3:$CB$11,W$5,$O37),'データ入力（児童生徒）'!J37))","v":0},{"$f":"IF($O37=\"\",\"\",IF('データ入力（児童生徒）'!$L$3=\"\",INDEX('作業（児童生徒）'!$E$3:$CB$11,X$5,$O37),'データ入力（児童生徒）'!K37))","v":0},0]
["(8)-4","有料、無料に限らず、アプリをダウンロードすることについて","","","","",null,null,null,null,null,null,null,1,{"$f":"IF(N38>=1,COUNT($N$6:N38),\"\")","v":18},{"$f":"IF($O38=\"\",\"\",IF('データ入力（児童生徒）'!$L$3=\"\",INDEX('作業（児童生徒）'!$E$3:$CB$11,P$5,$O38),'データ入力（児童生徒）'!C38))","v":0},{"$f":"IF($O38=\"\",\"\",IF('データ入力（児童生徒）'!$L$3=\"\",INDEX('作業（児童生徒）'!$E$3:$CB$11,Q$5,$O38),'データ入力（児童生徒）'!D38))","v":0},{"$f":"IF($O38=\"\",\"\",IF('データ入力（児童生徒）'!$L$3=\"\",INDEX('作業（児童生徒）'!$E$3:$CB$11,R$5,$O38),'データ入力（児童生徒）'!E38))","v":0},{"$f":"IF($O38=\"\",\"\",IF('データ入力（児童生徒）'!$L$3=\"\",INDEX('作業（児童生徒）'!$E$3:$CB$11,S$5,$O38),'データ入力（児童生徒）'!F38))","v":0},{"$f":"IF($O38=\"\",\"\",IF('データ入力（児童生徒）'!$L$3=\"\",INDEX('作業（児童生徒）'!$E$3:$CB$11,T$5,$O38),'データ入力（児童生徒）'!G38))","v":0},{"$f":"IF($O38=\"\",\"\",IF('データ入力（児童生徒）'!$L$3=\"\",INDEX('作業（児童生徒）'!$E$3:$CB$11,U$5,$O38),'データ入力（児童生徒）'!H38))","v":0},{"$f":"IF($O38=\"\",\"\",IF('データ入力（児童生徒）'!$L$3=\"\",INDEX('作業（児童生徒）'!$E$3:$CB$11,V$5,$O38),'データ入力（児童生徒）'!I38))","v":0},{"$f":"IF($O38=\"\",\"\",IF('データ入力（児童生徒）'!$L$3=\"\",INDEX('作業（児童生徒）'!$E$3:$CB$11,W$5,$O38),'データ入力（児童生徒）'!J38))","v":0},{"$f":"IF($O38=\"\",\"\",IF('データ入力（児童生徒）'!$L$3=\"\",INDEX('作業（児童生徒）'!$E$3:$CB$11,X$5,$O38),'データ入力（児童生徒）'!K38))","v":0},0]
["(8)-5","お金を払って有料アプリやゲーム内のアイテムを買うことについて","","","","",null,null,null,null,null,null,null,1,{"$f":"IF(N39>=1,COUNT($N$6:N39),\"\")","v":19},{"$f":"IF($O39=\"\",\"\",IF('データ入力（児童生徒）'!$L$3=\"\",INDEX('作業（児童生徒）'!$E$3:$CB$11,P$5,$O39),'データ入力（児童生徒）'!C39))","v":0},{"$f":"IF($O39=\"\",\"\",IF('データ入力（児童生徒）'!$L$3=\"\",INDEX('作業（児童生徒）'!$E$3:$CB$11,Q$5,$O39),'データ入力（児童生徒）'!D39))","v":0},{"$f":"IF($O39=\"\",\"\",IF('データ入力（児童生徒）'!$L$3=\"\",INDEX('作業（児童生徒）'!$E$3:$CB$11,R$5,$O39),'データ入力（児童生徒）'!E39))","v":0},{"$f":"IF($O39=\"\",\"\",IF('データ入力（児童生徒）'!$L$3=\"\",INDEX('作業（児童生徒）'!$E$3:$CB$11,S$5,$O39),'データ入力（児童生徒）'!F39))","v":0},{"$f":"IF($O39=\"\",\"\",IF('データ入力（児童生徒）'!$L$3=\"\",INDEX('作業（児童生徒）'!$E$3:$CB$11,T$5,$O39),'データ入力（児童生徒）'!G39))","v":0},{"$f":"IF($O39=\"\",\"\",IF('データ入力（児童生徒）'!$L$3=\"\",INDEX('作業（児童生徒）'!$E$3:$CB$11,U$5,$O39),'データ入力（児童生徒）'!H39))","v":0},{"$f":"IF($O39=\"\",\"\",IF('データ入力（児童生徒）'!$L$3=\"\",INDEX('作業（児童生徒）'!$E$3:$CB$11,V$5,$O39),'データ入力（児童生徒）'!I39))","v":0},{"$f":"IF($O39=\"\",\"\",IF('データ入力（児童生徒）'!$L$3=\"\",INDEX('作業（児童生徒）'!$E$3:$CB$11,W$5,$O39),'データ入力（児童生徒）'!J39))","v":0},{"$f":"IF($O39=\"\",\"\",IF('データ入力（児童生徒）'!$L$3=\"\",INDEX('作業（児童生徒）'!$E$3:$CB$11,X$5,$O39),'データ入力（児童生徒）'!K39))","v":0},0]
["(8)-6","LINE（ﾗｲﾝ）やTwitter（ﾂｲｯﾀｰ）など、インターネットへ書きこむことに\nついて","","","","",null,null,null,null,null,null,null,1,{"$f":"IF(N40>=1,COUNT($N$6:N40),\"\")","v":20},{"$f":"IF($O40=\"\",\"\",IF('データ入力（児童生徒）'!$L$3=\"\",INDEX('作業（児童生徒）'!$E$3:$CB$11,P$5,$O40),'データ入力（児童生徒）'!C40))","v":0},{"$f":"IF($O40=\"\",\"\",IF('データ入力（児童生徒）'!$L$3=\"\",INDEX('作業（児童生徒）'!$E$3:$CB$11,Q$5,$O40),'データ入力（児童生徒）'!D40))","v":0},{"$f":"IF($O40=\"\",\"\",IF('データ入力（児童生徒）'!$L$3=\"\",INDEX('作業（児童生徒）'!$E$3:$CB$11,R$5,$O40),'データ入力（児童生徒）'!E40))","v":0},{"$f":"IF($O40=\"\",\"\",IF('データ入力（児童生徒）'!$L$3=\"\",INDEX('作業（児童生徒）'!$E$3:$CB$11,S$5,$O40),'データ入力（児童生徒）'!F40))","v":0},{"$f":"IF($O40=\"\",\"\",IF('データ入力（児童生徒）'!$L$3=\"\",INDEX('作業（児童生徒）'!$E$3:$CB$11,T$5,$O40),'データ入力（児童生徒）'!G40))","v":0},{"$f":"IF($O40=\"\",\"\",IF('データ入力（児童生徒）'!$L$3=\"\",INDEX('作業（児童生徒）'!$E$3:$CB$11,U$5,$O40),'データ入力（児童生徒）'!H40))","v":0},{"$f":"IF($O40=\"\",\"\",IF('データ入力（児童生徒）'!$L$3=\"\",INDEX('作業（児童生徒）'!$E$3:$CB$11,V$5,$O40),'データ入力（児童生徒）'!I40))","v":0},{"$f":"IF($O40=\"\",\"\",IF('データ入力（児童生徒）'!$L$3=\"\",INDEX('作業（児童生徒）'!$E$3:$CB$11,W$5,$O40),'データ入力（児童生徒）'!J40))","v":0},{"$f":"IF($O40=\"\",\"\",IF('データ入力（児童生徒）'!$L$3=\"\",INDEX('作業（児童生徒）'!$E$3:$CB$11,X$5,$O40),'データ入力（児童生徒）'!K40))","v":0},0]
["(8)-7","YouTube（ﾕｰﾁｭｰﾌﾞ）やホームページなど、インターネットを見ることに\nついて","","","","",null,null,null,null,null,null,null,1,{"$f":"IF(N41>=1,COUNT($N$6:N41),\"\")","v":21},{"$f":"IF($O41=\"\",\"\",IF('データ入力（児童生徒）'!$L$3=\"\",INDEX('作業（児童生徒）'!$E$3:$CB$11,P$5,$O41),'データ入力（児童生徒）'!C41))","v":0},{"$f":"IF($O41=\"\",\"\",IF('データ入力（児童生徒）'!$L$3=\"\",INDEX('作業（児童生徒）'!$E$3:$CB$11,Q$5,$O41),'データ入力（児童生徒）'!D41))","v":0},{"$f":"IF($O41=\"\",\"\",IF('データ入力（児童生徒）'!$L$3=\"\",INDEX('作業（児童生徒）'!$E$3:$CB$11,R$5,$O41),'データ入力（児童生徒）'!E41))","v":0},{"$f":"IF($O41=\"\",\"\",IF('データ入力（児童生徒）'!$L$3=\"\",INDEX('作業（児童生徒）'!$E$3:$CB$11,S$5,$O41),'データ入力（児童生徒）'!F41))","v":0},{"$f":"IF($O41=\"\",\"\",IF('データ入力（児童生徒）'!$L$3=\"\",INDEX('作業（児童生徒）'!$E$3:$CB$11,T$5,$O41),'データ入力（児童生徒）'!G41))","v":0},{"$f":"IF($O41=\"\",\"\",IF('データ入力（児童生徒）'!$L$3=\"\",INDEX('作業（児童生徒）'!$E$3:$CB$11,U$5,$O41),'データ入力（児童生徒）'!H41))","v":0},{"$f":"IF($O41=\"\",\"\",IF('データ入力（児童生徒）'!$L$3=\"\",INDEX('作業（児童生徒）'!$E$3:$CB$11,V$5,$O41),'データ入力（児童生徒）'!I41))","v":0},{"$f":"IF($O41=\"\",\"\",IF('データ入力（児童生徒）'!$L$3=\"\",INDEX('作業（児童生徒）'!$E$3:$CB$11,W$5,$O41),'データ入力（児童生徒）'!J41))","v":0},{"$f":"IF($O41=\"\",\"\",IF('データ入力（児童生徒）'!$L$3=\"\",INDEX('作業（児童生徒）'!$E$3:$CB$11,X$5,$O41),'データ入力（児童生徒）'!K41))","v":0},0]
["(8)-8","家の中では、リビング（居間）でしか使わないこと","","","","",null,null,null,null,null,null,null,1,{"$f":"IF(N42>=1,COUNT($N$6:N42),\"\")","v":22},{"$f":"IF($O42=\"\",\"\",IF('データ入力（児童生徒）'!$L$3=\"\",INDEX('作業（児童生徒）'!$E$3:$CB$11,P$5,$O42),'データ入力（児童生徒）'!C42))","v":0},{"$f":"IF($O42=\"\",\"\",IF('データ入力（児童生徒）'!$L$3=\"\",INDEX('作業（児童生徒）'!$E$3:$CB$11,Q$5,$O42),'データ入力（児童生徒）'!D42))","v":0},{"$f":"IF($O42=\"\",\"\",IF('データ入力（児童生徒）'!$L$3=\"\",INDEX('作業（児童生徒）'!$E$3:$CB$11,R$5,$O42),'データ入力（児童生徒）'!E42))","v":0},{"$f":"IF($O42=\"\",\"\",IF('データ入力（児童生徒）'!$L$3=\"\",INDEX('作業（児童生徒）'!$E$3:$CB$11,S$5,$O42),'データ入力（児童生徒）'!F42))","v":0},{"$f":"IF($O42=\"\",\"\",IF('データ入力（児童生徒）'!$L$3=\"\",INDEX('作業（児童生徒）'!$E$3:$CB$11,T$5,$O42),'データ入力（児童生徒）'!G42))","v":0},{"$f":"IF($O42=\"\",\"\",IF('データ入力（児童生徒）'!$L$3=\"\",INDEX('作業（児童生徒）'!$E$3:$CB$11,U$5,$O42),'データ入力（児童生徒）'!H42))","v":0},{"$f":"IF($O42=\"\",\"\",IF('データ入力（児童生徒）'!$L$3=\"\",INDEX('作業（児童生徒）'!$E$3:$CB$11,V$5,$O42),'データ入力（児童生徒）'!I42))","v":0},{"$f":"IF($O42=\"\",\"\",IF('データ入力（児童生徒）'!$L$3=\"\",INDEX('作業（児童生徒）'!$E$3:$CB$11,W$5,$O42),'データ入力（児童生徒）'!J42))","v":0},{"$f":"IF($O42=\"\",\"\",IF('データ入力（児童生徒）'!$L$3=\"\",INDEX('作業（児童生徒）'!$E$3:$CB$11,X$5,$O42),'データ入力（児童生徒）'!K42))","v":0},0]
["(8)-9","保護者と一緒の時にしか使わない","","","","",null,null,null,null,null,null,null,1,{"$f":"IF(N43>=1,COUNT($N$6:N43),\"\")","v":23},{"$f":"IF($O43=\"\",\"\",IF('データ入力（児童生徒）'!$L$3=\"\",INDEX('作業（児童生徒）'!$E$3:$CB$11,P$5,$O43),'データ入力（児童生徒）'!C43))","v":0},{"$f":"IF($O43=\"\",\"\",IF('データ入力（児童生徒）'!$L$3=\"\",INDEX('作業（児童生徒）'!$E$3:$CB$11,Q$5,$O43),'データ入力（児童生徒）'!D43))","v":0},{"$f":"IF($O43=\"\",\"\",IF('データ入力（児童生徒）'!$L$3=\"\",INDEX('作業（児童生徒）'!$E$3:$CB$11,R$5,$O43),'データ入力（児童生徒）'!E43))","v":0},{"$f":"IF($O43=\"\",\"\",IF('データ入力（児童生徒）'!$L$3=\"\",INDEX('作業（児童生徒）'!$E$3:$CB$11,S$5,$O43),'データ入力（児童生徒）'!F43))","v":0},{"$f":"IF($O43=\"\",\"\",IF('データ入力（児童生徒）'!$L$3=\"\",INDEX('作業（児童生徒）'!$E$3:$CB$11,T$5,$O43),'データ入力（児童生徒）'!G43))","v":0},{"$f":"IF($O43=\"\",\"\",IF('データ入力（児童生徒）'!$L$3=\"\",INDEX('作業（児童生徒）'!$E$3:$CB$11,U$5,$O43),'データ入力（児童生徒）'!H43))","v":0},{"$f":"IF($O43=\"\",\"\",IF('データ入力（児童生徒）'!$L$3=\"\",INDEX('作業（児童生徒）'!$E$3:$CB$11,V$5,$O43),'データ入力（児童生徒）'!I43))","v":0},{"$f":"IF($O43=\"\",\"\",IF('データ入力（児童生徒）'!$L$3=\"\",INDEX('作業（児童生徒）'!$E$3:$CB$11,W$5,$O43),'データ入力（児童生徒）'!J43))","v":0},{"$f":"IF($O43=\"\",\"\",IF('データ入力（児童生徒）'!$L$3=\"\",INDEX('作業（児童生徒）'!$E$3:$CB$11,X$5,$O43),'データ入力（児童生徒）'!K43))","v":0},0]
["(8)-10","その他のルール","","","","",null,null,null,null,null,null,null,1,{"$f":"IF(N44>=1,COUNT($N$6:N44),\"\")","v":24},{"$f":"IF($O44=\"\",\"\",IF('データ入力（児童生徒）'!$L$3=\"\",INDEX('作業（児童生徒）'!$E$3:$CB$11,P$5,$O44),'データ入力（児童生徒）'!C44))","v":0},{"$f":"IF($O44=\"\",\"\",IF('データ入力（児童生徒）'!$L$3=\"\",INDEX('作業（児童生徒）'!$E$3:$CB$11,Q$5,$O44),'データ入力（児童生徒）'!D44))","v":0},{"$f":"IF($O44=\"\",\"\",IF('データ入力（児童生徒）'!$L$3=\"\",INDEX('作業（児童生徒）'!$E$3:$CB$11,R$5,$O44),'データ入力（児童生徒）'!E44))","v":0},{"$f":"IF($O44=\"\",\"\",IF('データ入力（児童生徒）'!$L$3=\"\",INDEX('作業（児童生徒）'!$E$3:$CB$11,S$5,$O44),'データ入力（児童生徒）'!F44))","v":0},{"$f":"IF($O44=\"\",\"\",IF('データ入力（児童生徒）'!$L$3=\"\",INDEX('作業（児童生徒）'!$E$3:$CB$11,T$5,$O44),'データ入力（児童生徒）'!G44))","v":0},{"$f":"IF($O44=\"\",\"\",IF('データ入力（児童生徒）'!$L$3=\"\",INDEX('作業（児童生徒）'!$E$3:$CB$11,U$5,$O44),'データ入力（児童生徒）'!H44))","v":0},{"$f":"IF($O44=\"\",\"\",IF('データ入力（児童生徒）'!$L$3=\"\",INDEX('作業（児童生徒）'!$E$3:$CB$11,V$5,$O44),'データ入力（児童生徒）'!I44))","v":0},{"$f":"IF($O44=\"\",\"\",IF('データ入力（児童生徒）'!$L$3=\"\",INDEX('作業（児童生徒）'!$E$3:$CB$11,W$5,$O44),'データ入力（児童生徒）'!J44))","v":0},{"$f":"IF($O44=\"\",\"\",IF('データ入力（児童生徒）'!$L$3=\"\",INDEX('作業（児童生徒）'!$E$3:$CB$11,X$5,$O44),'データ入力（児童生徒）'!K44))","v":0},0]
[null,null,null,null,null,null,null,null,null,null,null,null,null,null,{"$f":"IF(N45>=1,COUNT($N$6:N45),\"\")","v":""},{"$f":"IF($O45=\"\",\"\",IF('データ入力（児童生徒）'!$L$3=\"\",INDEX('作業（児童生徒）'!$E$3:$CB$11,P$5,$O45),'データ入力（児童生徒）'!C45))","v":""},{"$f":"IF($O45=\"\",\"\",IF('データ入力（児童生徒）'!$L$3=\"\",INDEX('作業（児童生徒）'!$E$3:$CB$11,Q$5,$O45),'データ入力（児童生徒）'!D45))","v":""},{"$f":"IF($O45=\"\",\"\",IF('データ入力（児童生徒）'!$L$3=\"\",INDEX('作業（児童生徒）'!$E$3:$CB$11,R$5,$O45),'データ入力（児童生徒）'!E45))","v":""},{"$f":"IF($O45=\"\",\"\",IF('データ入力（児童生徒）'!$L$3=\"\",INDEX('作業（児童生徒）'!$E$3:$CB$11,S$5,$O45),'データ入力（児童生徒）'!F45))","v":""},{"$f":"IF($O45=\"\",\"\",IF('データ入力（児童生徒）'!$L$3=\"\",INDEX('作業（児童生徒）'!$E$3:$CB$11,T$5,$O45),'データ入力（児童生徒）'!G45))","v":""},{"$f":"IF($O45=\"\",\"\",IF('データ入力（児童生徒）'!$L$3=\"\",INDEX('作業（児童生徒）'!$E$3:$CB$11,U$5,$O45),'データ入力（児童生徒）'!H45))","v":""},{"$f":"IF($O45=\"\",\"\",IF('データ入力（児童生徒）'!$L$3=\"\",INDEX('作業（児童生徒）'!$E$3:$CB$11,V$5,$O45),'データ入力（児童生徒）'!I45))","v":""},{"$f":"IF($O45=\"\",\"\",IF('データ入力（児童生徒）'!$L$3=\"\",INDEX('作業（児童生徒）'!$E$3:$CB$11,W$5,$O45),'データ入力（児童生徒）'!J45))","v":""},{"$f":"IF($O45=\"\",\"\",IF('データ入力（児童生徒）'!$L$3=\"\",INDEX('作業（児童生徒）'!$E$3:$CB$11,X$5,$O45),'データ入力（児童生徒）'!K45))","v":""},""]
[null,"質問","各機器を\n使っていない","保護者","保護者と自分","自分","ルールは\nない","その他","無回答",null,null,null,null,null,{"$f":"IF(N46>=1,COUNT($N$6:N46),\"\")","v":""},{"$f":"IF($O46=\"\",\"\",IF('データ入力（児童生徒）'!$L$3=\"\",INDEX('作業（児童生徒）'!$E$3:$CB$11,P$5,$O46),'データ入力（児童生徒）'!C46))","v":""},{"$f":"IF($O46=\"\",\"\",IF('データ入力（児童生徒）'!$L$3=\"\",INDEX('作業（児童生徒）'!$E$3:$CB$11,Q$5,$O46),'データ入力（児童生徒）'!D46))","v":""},{"$f":"IF($O46=\"\",\"\",IF('データ入力（児童生徒）'!$L$3=\"\",INDEX('作業（児童生徒）'!$E$3:$CB$11,R$5,$O46),'データ入力（児童生徒）'!E46))","v":""},{"$f":"IF($O46=\"\",\"\",IF('データ入力（児童生徒）'!$L$3=\"\",INDEX('作業（児童生徒）'!$E$3:$CB$11,S$5,$O46),'データ入力（児童生徒）'!F46))","v":""},{"$f":"IF($O46=\"\",\"\",IF('データ入力（児童生徒）'!$L$3=\"\",INDEX('作業（児童生徒）'!$E$3:$CB$11,T$5,$O46),'データ入力（児童生徒）'!G46))","v":""},{"$f":"IF($O46=\"\",\"\",IF('データ入力（児童生徒）'!$L$3=\"\",INDEX('作業（児童生徒）'!$E$3:$CB$11,U$5,$O46),'データ入力（児童生徒）'!H46))","v":""},{"$f":"IF($O46=\"\",\"\",IF('データ入力（児童生徒）'!$L$3=\"\",INDEX('作業（児童生徒）'!$E$3:$CB$11,V$5,$O46),'データ入力（児童生徒）'!I46))","v":""},{"$f":"IF($O46=\"\",\"\",IF('データ入力（児童生徒）'!$L$3=\"\",INDEX('作業（児童生徒）'!$E$3:$CB$11,W$5,$O46),'データ入力（児童生徒）'!J46))","v":""},{"$f":"IF($O46=\"\",\"\",IF('データ入力（児童生徒）'!$L$3=\"\",INDEX('作業（児童生徒）'!$E$3:$CB$11,X$5,$O46),'データ入力（児童生徒）'!K46))","v":""},""]
["(9)","ルールは誰が作りましたか",{"$f":"IFERROR(ROUND(P47/$P$3*100,1),\"\")","v":""},"","","","","",{"$f":"IFERROR(ROUND($Y47/$P$3*100,1),\"\")","v":""},null,null,null,null,1,{"$f":"IF(N47>=1,COUNT($N$6:N47),\"\")","v":25},{"$f":"IF($O47=\"\",\"\",IF('データ入力（児童生徒）'!$L$3=\"\",INDEX('作業（児童生徒）'!$E$3:$CB$11,P$5,$O47),'データ入力（児童生徒）'!C47))","v":0},{"$f":"IF($O47=\"\",\"\",IF('データ入力（児童生徒）'!$L$3=\"\",INDEX('作業（児童生徒）'!$E$3:$CB$11,Q$5,$O47),'データ入力（児童生徒）'!D47))","v":0},{"$f":"IF($O47=\"\",\"\",IF('データ入力（児童生徒）'!$L$3=\"\",INDEX('作業（児童生徒）'!$E$3:$CB$11,R$5,$O47),'データ入力（児童生徒）'!E47))","v":0},{"$f":"IF($O47=\"\",\"\",IF('データ入力（児童生徒）'!$L$3=\"\",INDEX('作業（児童生徒）'!$E$3:$CB$11,S$5,$O47),'データ入力（児童生徒）'!F47))","v":0},{"$f":"IF($O47=\"\",\"\",IF('データ入力（児童生徒）'!$L$3=\"\",INDEX('作業（児童生徒）'!$E$3:$CB$11,T$5,$O47),'データ入力（児童生徒）'!G47))","v":0},{"$f":"IF($O47=\"\",\"\",IF('データ入力（児童生徒）'!$L$3=\"\",INDEX('作業（児童生徒）'!$E$3:$CB$11,U$5,$O47),'データ入力（児童生徒）'!H47))","v":0},{"$f":"IF($O47=\"\",\"\",IF('データ入力（児童生徒）'!$L$3=\"\",INDEX('作業（児童生徒）'!$E$3:$CB$11,V$5,$O47),'データ入力（児童生徒）'!I47))","v":0},{"$f":"IF($O47=\"\",\"\",IF('データ入力（児童生徒）'!$L$3=\"\",INDEX('作業（児童生徒）'!$E$3:$CB$11,W$5,$O47),'データ入力（児童生徒）'!J47))","v":0},{"$f":"IF($O47=\"\",\"\",IF('データ入力（児童生徒）'!$L$3=\"\",INDEX('作業（児童生徒）'!$E$3:$CB$11,X$5,$O47),'データ入力（児童生徒）'!K47))","v":0},0]
[null,null,null,null,null,null,null,null,null,null,null,null,null,null,{"$f":"IF(N48>=1,COUNT($N$6:N48),\"\")","v":""},{"$f":"IF($O48=\"\",\"\",IF('データ入力（児童生徒）'!$L$3=\"\",INDEX('作業（児童生徒）'!$E$3:$CB$11,P$5,$O48),'データ入力（児童生徒）'!C48))","v":""},{"$f":"IF($O48=\"\",\"\",IF('データ入力（児童生徒）'!$L$3=\"\",INDEX('作業（児童生徒）'!$E$3:$CB$11,Q$5,$O48),'データ入力（児童生徒）'!D48))","v":""},{"$f":"IF($O48=\"\",\"\",IF('データ入力（児童生徒）'!$L$3=\"\",INDEX('作業（児童生徒）'!$E$3:$CB$11,R$5,$O48),'データ入力（児童生徒）'!E48))","v":""},{"$f":"IF($O48=\"\",\"\",IF('データ入力（児童生徒）'!$L$3=\"\",INDEX('作業（児童生徒）'!$E$3:$CB$11,S$5,$O48),'データ入力（児童生徒）'!F48))","v":""},{"$f":"IF($O48=\"\",\"\",IF('データ入力（児童生徒）'!$L$3=\"\",INDEX('作業（児童生徒）'!$E$3:$CB$11,T$5,$O48),'データ入力（児童生徒）'!G48))","v":""},{"$f":"IF($O48=\"\",\"\",IF('データ入力（児童生徒）'!$L$3=\"\",INDEX('作業（児童生徒）'!$E$3:$CB$11,U$5,$O48),'データ入力（児童生徒）'!H48))","v":""},{"$f":"IF($O48=\"\",\"\",IF('データ入力（児童生徒）'!$L$3=\"\",INDEX('作業（児童生徒）'!$E$3:$CB$11,V$5,$O48),'データ入力（児童生徒）'!I48))","v":""},{"$f":"IF($O48=\"\",\"\",IF('データ入力（児童生徒）'!$L$3=\"\",INDEX('作業（児童生徒）'!$E$3:$CB$11,W$5,$O48),'データ入力（児童生徒）'!J48))","v":""},{"$f":"IF($O48=\"\",\"\",IF('データ入力（児童生徒）'!$L$3=\"\",INDEX('作業（児童生徒）'!$E$3:$CB$11,X$5,$O48),'データ入力（児童生徒）'!K48))","v":""},""]
[null,"質問","家にない","守っている","だいたい守っている","あまり守っていない","ほとんど守っていない","ルールがない","無回答",null,null,null,null,null,{"$f":"IF(N49>=1,COUNT($N$6:N49),\"\")","v":""},{"$f":"IF($O49=\"\",\"\",IF('データ入力（児童生徒）'!$L$3=\"\",INDEX('作業（児童生徒）'!$E$3:$CB$11,P$5,$O49),'データ入力（児童生徒）'!C49))","v":""},{"$f":"IF($O49=\"\",\"\",IF('データ入力（児童生徒）'!$L$3=\"\",INDEX('作業（児童生徒）'!$E$3:$CB$11,Q$5,$O49),'データ入力（児童生徒）'!D49))","v":""},{"$f":"IF($O49=\"\",\"\",IF('データ入力（児童生徒）'!$L$3=\"\",INDEX('作業（児童生徒）'!$E$3:$CB$11,R$5,$O49),'データ入力（児童生徒）'!E49))","v":""},{"$f":"IF($O49=\"\",\"\",IF('データ入力（児童生徒）'!$L$3=\"\",INDEX('作業（児童生徒）'!$E$3:$CB$11,S$5,$O49),'データ入力（児童生徒）'!F49))","v":""},{"$f":"IF($O49=\"\",\"\",IF('データ入力（児童生徒）'!$L$3=\"\",INDEX('作業（児童生徒）'!$E$3:$CB$11,T$5,$O49),'データ入力（児童生徒）'!G49))","v":""},{"$f":"IF($O49=\"\",\"\",IF('データ入力（児童生徒）'!$L$3=\"\",INDEX('作業（児童生徒）'!$E$3:$CB$11,U$5,$O49),'データ入力（児童生徒）'!H49))","v":""},{"$f":"IF($O49=\"\",\"\",IF('データ入力（児童生徒）'!$L$3=\"\",INDEX('作業（児童生徒）'!$E$3:$CB$11,V$5,$O49),'データ入力（児童生徒）'!I49))","v":""},{"$f":"IF($O49=\"\",\"\",IF('データ入力（児童生徒）'!$L$3=\"\",INDEX('作業（児童生徒）'!$E$3:$CB$11,W$5,$O49),'データ入力（児童生徒）'!J49))","v":""},{"$f":"IF($O49=\"\",\"\",IF('データ入力（児童生徒）'!$L$3=\"\",INDEX('作業（児童生徒）'!$E$3:$CB$11,X$5,$O49),'データ入力（児童生徒）'!K49))","v":""},""]
["(10)","ルールは守っていますか",{"$f":"IFERROR(ROUND(P50/$P$3*100,1),\"\")","v":""},"","","","","",{"$f":"IFERROR(ROUND($Y50/$P$3*100,1),\"\")","v":""},null,null,null,null,1,{"$f":"IF(N50>=1,COUNT($N$6:N50),\"\")","v":26},{"$f":"IF($O50=\"\",\"\",IF('データ入力（児童生徒）'!$L$3=\"\",INDEX('作業（児童生徒）'!$E$3:$CB$11,P$5,$O50),'データ入力（児童生徒）'!C50))","v":0},{"$f":"IF($O50=\"\",\"\",IF('データ入力（児童生徒）'!$L$3=\"\",INDEX('作業（児童生徒）'!$E$3:$CB$11,Q$5,$O50),'データ入力（児童生徒）'!D50))","v":0},{"$f":"IF($O50=\"\",\"\",IF('データ入力（児童生徒）'!$L$3=\"\",INDEX('作業（児童生徒）'!$E$3:$CB$11,R$5,$O50),'データ入力（児童生徒）'!E50))","v":0},{"$f":"IF($O50=\"\",\"\",IF('データ入力（児童生徒）'!$L$3=\"\",INDEX('作業（児童生徒）'!$E$3:$CB$11,S$5,$O50),'データ入力（児童生徒）'!F50))","v":0},{"$f":"IF($O50=\"\",\"\",IF('データ入力（児童生徒）'!$L$3=\"\",INDEX('作業（児童生徒）'!$E$3:$CB$11,T$5,$O50),'データ入力（児童生徒）'!G50))","v":0},{"$f":"IF($O50=\"\",\"\",IF('データ入力（児童生徒）'!$L$3=\"\",INDEX('作業（児童生徒）'!$E$3:$CB$11,U$5,$O50),'データ入力（児童生徒）'!H50))","v":0},{"$f":"IF($O50=\"\",\"\",IF('データ入力（児童生徒）'!$L$3=\"\",INDEX('作業（児童生徒）'!$E$3:$CB$11,V$5,$O50),'データ入力（児童生徒）'!I50))","v":0},{"$f":"IF($O50=\"\",\"\",IF('データ入力（児童生徒）'!$L$3=\"\",INDEX('作業（児童生徒）'!$E$3:$CB$11,W$5,$O50),'データ入力（児童生徒）'!J50))","v":0},{"$f":"IF($O50=\"\",\"\",IF('データ入力（児童生徒）'!$L$3=\"\",INDEX('作業（児童生徒）'!$E$3:$CB$11,X$5,$O50),'データ入力（児童生徒）'!K50))","v":0},0]
[null,null,null,null,null,null,null,null,null,null,null,null,null,null,{"$f":"IF(N51>=1,COUNT($N$6:N51),\"\")","v":""},{"$f":"IF($O51=\"\",\"\",IF('データ入力（児童生徒）'!$L$3=\"\",INDEX('作業（児童生徒）'!$E$3:$CB$11,P$5,$O51),'データ入力（児童生徒）'!C51))","v":""},{"$f":"IF($O51=\"\",\"\",IF('データ入力（児童生徒）'!$L$3=\"\",INDEX('作業（児童生徒）'!$E$3:$CB$11,Q$5,$O51),'データ入力（児童生徒）'!D51))","v":""},{"$f":"IF($O51=\"\",\"\",IF('データ入力（児童生徒）'!$L$3=\"\",INDEX('作業（児童生徒）'!$E$3:$CB$11,R$5,$O51),'データ入力（児童生徒）'!E51))","v":""},{"$f":"IF($O51=\"\",\"\",IF('データ入力（児童生徒）'!$L$3=\"\",INDEX('作業（児童生徒）'!$E$3:$CB$11,S$5,$O51),'データ入力（児童生徒）'!F51))","v":""},{"$f":"IF($O51=\"\",\"\",IF('データ入力（児童生徒）'!$L$3=\"\",INDEX('作業（児童生徒）'!$E$3:$CB$11,T$5,$O51),'データ入力（児童生徒）'!G51))","v":""},{"$f":"IF($O51=\"\",\"\",IF('データ入力（児童生徒）'!$L$3=\"\",INDEX('作業（児童生徒）'!$E$3:$CB$11,U$5,$O51),'データ入力（児童生徒）'!H51))","v":""},{"$f":"IF($O51=\"\",\"\",IF('データ入力（児童生徒）'!$L$3=\"\",INDEX('作業（児童生徒）'!$E$3:$CB$11,V$5,$O51),'データ入力（児童生徒）'!I51))","v":""},{"$f":"IF($O51=\"\",\"\",IF('データ入力（児童生徒）'!$L$3=\"\",INDEX('作業（児童生徒）'!$E$3:$CB$11,W$5,$O51),'データ入力（児童生徒）'!J51))","v":""},{"$f":"IF($O51=\"\",\"\",IF('データ入力（児童生徒）'!$L$3=\"\",INDEX('作業（児童生徒）'!$E$3:$CB$11,X$5,$O51),'データ入力（児童生徒）'!K51))","v":""},""]
[null,"質問","機器名","家にない","かけられている","かけられていない","わからない","無回答",null,null,null,null,null,null,{"$f":"IF(N52>=1,COUNT($N$6:N52),\"\")","v":""},{"$f":"IF($O52=\"\",\"\",IF('データ入力（児童生徒）'!$L$3=\"\",INDEX('作業（児童生徒）'!$E$3:$CB$11,P$5,$O52),'データ入力（児童生徒）'!C52))","v":""},{"$f":"IF($O52=\"\",\"\",IF('データ入力（児童生徒）'!$L$3=\"\",INDEX('作業（児童生徒）'!$E$3:$CB$11,Q$5,$O52),'データ入力（児童生徒）'!D52))","v":""},{"$f":"IF($O52=\"\",\"\",IF('データ入力（児童生徒）'!$L$3=\"\",INDEX('作業（児童生徒）'!$E$3:$CB$11,R$5,$O52),'データ入力（児童生徒）'!E52))","v":""},{"$f":"IF($O52=\"\",\"\",IF('データ入力（児童生徒）'!$L$3=\"\",INDEX('作業（児童生徒）'!$E$3:$CB$11,S$5,$O52),'データ入力（児童生徒）'!F52))","v":""},{"$f":"IF($O52=\"\",\"\",IF('データ入力（児童生徒）'!$L$3=\"\",INDEX('作業（児童生徒）'!$E$3:$CB$11,T$5,$O52),'データ入力（児童生徒）'!G52))","v":""},{"$f":"IF($O52=\"\",\"\",IF('データ入力（児童生徒）'!$L$3=\"\",INDEX('作業（児童生徒）'!$E$3:$CB$11,U$5,$O52),'データ入力（児童生徒）'!H52))","v":""},{"$f":"IF($O52=\"\",\"\",IF('データ入力（児童生徒）'!$L$3=\"\",INDEX('作業（児童生徒）'!$E$3:$CB$11,V$5,$O52),'データ入力（児童生徒）'!I52))","v":""},{"$f":"IF($O52=\"\",\"\",IF('データ入力（児童生徒）'!$L$3=\"\",INDEX('作業（児童生徒）'!$E$3:$CB$11,W$5,$O52),'データ入力（児童生徒）'!J52))","v":""},{"$f":"IF($O52=\"\",\"\",IF('データ入力（児童生徒）'!$L$3=\"\",INDEX('作業（児童生徒）'!$E$3:$CB$11,X$5,$O52),'データ入力（児童生徒）'!K52))","v":""},""]
["(11)-1","フィルタリングはかけられていますか","スマホ・\nタブレット",{"$f":"IFERROR(ROUND(P53/$P$3*100,1),\"\")","v":""},{"$f":"IFERROR(ROUND(Q53/$P$3*100,1),\"\")","v":""},{"$f":"IFERROR(ROUND(R53/$P$3*100,1),\"\")","v":""},{"$f":"IFERROR(ROUND(S53/$P$3*100,1),\"\")","v":""},{"$f":"IFERROR(ROUND($Y53/$P$3*100,1),\"\")","v":""},null,null,null,null,null,1,{"$f":"IF(N53>=1,COUNT($N$6:N53),\"\")","v":27},{"$f":"IF($O53=\"\",\"\",IF('データ入力（児童生徒）'!$L$3=\"\",INDEX('作業（児童生徒）'!$E$3:$CB$11,P$5,$O53),'データ入力（児童生徒）'!D53))","v":0},{"$f":"IF($O53=\"\",\"\",IF('データ入力（児童生徒）'!$L$3=\"\",INDEX('作業（児童生徒）'!$E$3:$CB$11,Q$5,$O53),'データ入力（児童生徒）'!E53))","v":0},{"$f":"IF($O53=\"\",\"\",IF('データ入力（児童生徒）'!$L$3=\"\",INDEX('作業（児童生徒）'!$E$3:$CB$11,R$5,$O53),'データ入力（児童生徒）'!F53))","v":0},{"$f":"IF($O53=\"\",\"\",IF('データ入力（児童生徒）'!$L$3=\"\",INDEX('作業（児童生徒）'!$E$3:$CB$11,S$5,$O53),'データ入力（児童生徒）'!G53))","v":0},{"$f":"IF($O53=\"\",\"\",IF('データ入力（児童生徒）'!$L$3=\"\",INDEX('作業（児童生徒）'!$E$3:$CB$11,T$5,$O53),'データ入力（児童生徒）'!H53))","v":0},{"$f":"IF($O53=\"\",\"\",IF('データ入力（児童生徒）'!$L$3=\"\",INDEX('作業（児童生徒）'!$E$3:$CB$11,U$5,$O53),'データ入力（児童生徒）'!I53))","v":0},{"$f":"IF($O53=\"\",\"\",IF('データ入力（児童生徒）'!$L$3=\"\",INDEX('作業（児童生徒）'!$E$3:$CB$11,V$5,$O53),'データ入力（児童生徒）'!J53))","v":0},{"$f":"IF($O53=\"\",\"\",IF('データ入力（児童生徒）'!$L$3=\"\",INDEX('作業（児童生徒）'!$E$3:$CB$11,W$5,$O53),'データ入力（児童生徒）'!K53))","v":0},{"$f":"IF($O53=\"\",\"\",IF('データ入力（児童生徒）'!$L$3=\"\",INDEX('作業（児童生徒）'!$E$3:$CB$11,X$5,$O53),'データ入力（児童生徒）'!L53))","v":0},0]
["(11)-2",null,"パソコン","","","","","",null,null,null,null,null,1,{"$f":"IF(N54>=1,COUNT($N$6:N54),\"\")","v":28},{"$f":"IF($O54=\"\",\"\",IF('データ入力（児童生徒）'!$L$3=\"\",INDEX('作業（児童生徒）'!$E$3:$CB$11,P$5,$O54),'データ入力（児童生徒）'!D54))","v":0},{"$f":"IF($O54=\"\",\"\",IF('データ入力（児童生徒）'!$L$3=\"\",INDEX('作業（児童生徒）'!$E$3:$CB$11,Q$5,$O54),'データ入力（児童生徒）'!E54))","v":0},{"$f":"IF($O54=\"\",\"\",IF('データ入力（児童生徒）'!$L$3=\"\",INDEX('作業（児童生徒）'!$E$3:$CB$11,R$5,$O54),'データ入力（児童生徒）'!F54))","v":0},{"$f":"IF($O54=\"\",\"\",IF('データ入力（児童生徒）'!$L$3=\"\",INDEX('作業（児童生徒）'!$E$3:$CB$11,S$5,$O54),'データ入力（児童生徒）'!G54))","v":0},{"$f":"IF($O54=\"\",\"\",IF('データ入力（児童生徒）'!$L$3=\"\",INDEX('作業（児童生徒）'!$E$3:$CB$11,T$5,$O54),'データ入力（児童生徒）'!H54))","v":0},{"$f":"IF($O54=\"\",\"\",IF('データ入力（児童生徒）'!$L$3=\"\",INDEX('作業（児童生徒）'!$E$3:$CB$11,U$5,$O54),'データ入力（児童生徒）'!I54))","v":0},{"$f":"IF($O54=\"\",\"\",IF('データ入力（児童生徒）'!$L$3=\"\",INDEX('作業（児童生徒）'!$E$3:$CB$11,V$5,$O54),'データ入力（児童生徒）'!J54))","v":0},{"$f":"IF($O54=\"\",\"\",IF('データ入力（児童生徒）'!$L$3=\"\",INDEX('作業（児童生徒）'!$E$3:$CB$11,W$5,$O54),'データ入力（児童生徒）'!K54))","v":0},{"$f":"IF($O54=\"\",\"\",IF('データ入力（児童生徒）'!$L$3=\"\",INDEX('作業（児童生徒）'!$E$3:$CB$11,X$5,$O54),'データ入力（児童生徒）'!L54))","v":0},0]
["(11)-3",null,"ゲーム機","","","","","",null,null,null,null,null,1,{"$f":"IF(N55>=1,COUNT($N$6:N55),\"\")","v":29},{"$f":"IF($O55=\"\",\"\",IF('データ入力（児童生徒）'!$L$3=\"\",INDEX('作業（児童生徒）'!$E$3:$CB$11,P$5,$O55),'データ入力（児童生徒）'!D55))","v":0},{"$f":"IF($O55=\"\",\"\",IF('データ入力（児童生徒）'!$L$3=\"\",INDEX('作業（児童生徒）'!$E$3:$CB$11,Q$5,$O55),'データ入力（児童生徒）'!E55))","v":0},{"$f":"IF($O55=\"\",\"\",IF('データ入力（児童生徒）'!$L$3=\"\",INDEX('作業（児童生徒）'!$E$3:$CB$11,R$5,$O55),'データ入力（児童生徒）'!F55))","v":0},{"$f":"IF($O55=\"\",\"\",IF('データ入力（児童生徒）'!$L$3=\"\",INDEX('作業（児童生徒）'!$E$3:$CB$11,S$5,$O55),'データ入力（児童生徒）'!G55))","v":0},{"$f":"IF($O55=\"\",\"\",IF('データ入力（児童生徒）'!$L$3=\"\",INDEX('作業（児童生徒）'!$E$3:$CB$11,T$5,$O55),'データ入力（児童生徒）'!H55))","v":0},{"$f":"IF($O55=\"\",\"\",IF('データ入力（児童生徒）'!$L$3=\"\",INDEX('作業（児童生徒）'!$E$3:$CB$11,U$5,$O55),'データ入力（児童生徒）'!I55))","v":0},{"$f":"IF($O55=\"\",\"\",IF('データ入力（児童生徒）'!$L$3=\"\",INDEX('作業（児童生徒）'!$E$3:$CB$11,V$5,$O55),'データ入力（児童生徒）'!J55))","v":0},{"$f":"IF($O55=\"\",\"\",IF('データ入力（児童生徒）'!$L$3=\"\",INDEX('作業（児童生徒）'!$E$3:$CB$11,W$5,$O55),'データ入力（児童生徒）'!K55))","v":0},{"$f":"IF($O55=\"\",\"\",IF('データ入力（児童生徒）'!$L$3=\"\",INDEX('作業（児童生徒）'!$E$3:$CB$11,X$5,$O55),'データ入力（児童生徒）'!L55))","v":0},0]
["【SNS等の利用】についての質問",null,null,null,null,null,null,null,null,null,null,null,null,null,{"$f":"IF(N56>=1,COUNT($N$6:N56),\"\")","v":""},{"$f":"IF($O56=\"\",\"\",IF('データ入力（児童生徒）'!$L$3=\"\",INDEX('作業（児童生徒）'!$E$3:$CB$11,P$5,$O56),'データ入力（児童生徒）'!C56))","v":""},{"$f":"IF($O56=\"\",\"\",IF('データ入力（児童生徒）'!$L$3=\"\",INDEX('作業（児童生徒）'!$E$3:$CB$11,Q$5,$O56),'データ入力（児童生徒）'!D56))","v":""},{"$f":"IF($O56=\"\",\"\",IF('データ入力（児童生徒）'!$L$3=\"\",INDEX('作業（児童生徒）'!$E$3:$CB$11,R$5,$O56),'データ入力（児童生徒）'!E56))","v":""},{"$f":"IF($O56=\"\",\"\",IF('データ入力（児童生徒）'!$L$3=\"\",INDEX('作業（児童生徒）'!$E$3:$CB$11,S$5,$O56),'データ入力（児童生徒）'!F56))","v":""},{"$f":"IF($O56=\"\",\"\",IF('データ入力（児童生徒）'!$L$3=\"\",INDEX('作業（児童生徒）'!$E$3:$CB$11,T$5,$O56),'データ入力（児童生徒）'!G56))","v":""},{"$f":"IF($O56=\"\",\"\",IF('データ入力（児童生徒）'!$L$3=\"\",INDEX('作業（児童生徒）'!$E$3:$CB$11,U$5,$O56),'データ入力（児童生徒）'!H56))","v":""},{"$f":"IF($O56=\"\",\"\",IF('データ入力（児童生徒）'!$L$3=\"\",INDEX('作業（児童生徒）'!$E$3:$CB$11,V$5,$O56),'データ入力（児童生徒）'!I56))","v":""},{"$f":"IF($O56=\"\",\"\",IF('データ入力（児童生徒）'!$L$3=\"\",INDEX('作業（児童生徒）'!$E$3:$CB$11,W$5,$O56),'データ入力（児童生徒）'!J56))","v":""},{"$f":"IF($O56=\"\",\"\",IF('データ入力（児童生徒）'!$L$3=\"\",INDEX('作業（児童生徒）'!$E$3:$CB$11,X$5,$O56),'データ入力（児童生徒）'!K56))","v":""},""]
[null,"質問","アプリケーション名",null,null,"割合",null,null,null,null,null,null,null,null,{"$f":"IF(N57>=1,COUNT($N$6:N57),\"\")","v":""},{"$f":"IF($O57=\"\",\"\",IF('データ入力（児童生徒）'!$L$3=\"\",INDEX('作業（児童生徒）'!$E$3:$CB$11,P$5,$O57),'データ入力（児童生徒）'!C57))","v":""},{"$f":"IF($O57=\"\",\"\",IF('データ入力（児童生徒）'!$L$3=\"\",INDEX('作業（児童生徒）'!$E$3:$CB$11,Q$5,$O57),'データ入力（児童生徒）'!D57))","v":""},{"$f":"IF($O57=\"\",\"\",IF('データ入力（児童生徒）'!$L$3=\"\",INDEX('作業（児童生徒）'!$E$3:$CB$11,R$5,$O57),'データ入力（児童生徒）'!E57))","v":""},{"$f":"IF($O57=\"\",\"\",IF('データ入力（児童生徒）'!$L$3=\"\",INDEX('作業（児童生徒）'!$E$3:$CB$11,S$5,$O57),'データ入力（児童生徒）'!F57))","v":""},{"$f":"IF($O57=\"\",\"\",IF('データ入力（児童生徒）'!$L$3=\"\",INDEX('作業（児童生徒）'!$E$3:$CB$11,T$5,$O57),'データ入力（児童生徒）'!G57))","v":""},{"$f":"IF($O57=\"\",\"\",IF('データ入力（児童生徒）'!$L$3=\"\",INDEX('作業（児童生徒）'!$E$3:$CB$11,U$5,$O57),'データ入力（児童生徒）'!H57))","v":""},{"$f":"IF($O57=\"\",\"\",IF('データ入力（児童生徒）'!$L$3=\"\",INDEX('作業（児童生徒）'!$E$3:$CB$11,V$5,$O57),'データ入力（児童生徒）'!I57))","v":""},{"$f":"IF($O57=\"\",\"\",IF('データ入力（児童生徒）'!$L$3=\"\",INDEX('作業（児童生徒）'!$E$3:$CB$11,W$5,$O57),'データ入力（児童生徒）'!J57))","v":""},{"$f":"IF($O57=\"\",\"\",IF('データ入力（児童生徒）'!$L$3=\"\",INDEX('作業（児童生徒）'!$E$3:$CB$11,X$5,$O57),'データ入力（児童生徒）'!K57))","v":""},""]
["(12)","あなたがよく利用するSNSは何ですか（複数回答可）","使っていない",null,null,{"$f":"IFERROR(ROUND($P58/$P$3*100,1),\"\")","v":""},null,null,null,null,null,null,null,1,{"$f":"IF(N58>=1,COUNT($N$6:N58),\"\")","v":30},{"$f":"IF($O58=\"\",\"\",IF('データ入力（児童生徒）'!$L$3=\"\",INDEX('作業（児童生徒）'!$E$3:$CB$11,P$5,$O58),'データ入力（児童生徒）'!F58))","v":0},{"$f":"IF($O58=\"\",\"\",IF('データ入力（児童生徒）'!$L$3=\"\",INDEX('作業（児童生徒）'!$E$3:$CB$11,Q$5,$O58),'データ入力（児童生徒）'!D58))","v":0},{"$f":"IF($O58=\"\",\"\",IF('データ入力（児童生徒）'!$L$3=\"\",INDEX('作業（児童生徒）'!$E$3:$CB$11,R$5,$O58),'データ入力（児童生徒）'!E58))","v":0},{"$f":"IF($O58=\"\",\"\",IF('データ入力（児童生徒）'!$L$3=\"\",INDEX('作業（児童生徒）'!$E$3:$CB$11,S$5,$O58),'データ入力（児童生徒）'!F58))","v":0},{"$f":"IF($O58=\"\",\"\",IF('データ入力（児童生徒）'!$L$3=\"\",INDEX('作業（児童生徒）'!$E$3:$CB$11,T$5,$O58),'データ入力（児童生徒）'!G58))","v":0},{"$f":"IF($O58=\"\",\"\",IF('データ入力（児童生徒）'!$L$3=\"\",INDEX('作業（児童生徒）'!$E$3:$CB$11,U$5,$O58),'データ入力（児童生徒）'!H58))","v":0},{"$f":"IF($O58=\"\",\"\",IF('データ入力（児童生徒）'!$L$3=\"\",INDEX('作業（児童生徒）'!$E$3:$CB$11,V$5,$O58),'データ入力（児童生徒）'!I58))","v":0},{"$f":"IF($O58=\"\",\"\",IF('データ入力（児童生徒）'!$L$3=\"\",INDEX('作業（児童生徒）'!$E$3:$CB$11,W$5,$O58),'データ入力（児童生徒）'!J58))","v":0},{"$f":"IF($O58=\"\",\"\",IF('データ入力（児童生徒）'!$L$3=\"\",INDEX('作業（児童生徒）'!$E$3:$CB$11,X$5,$O58),'データ入力（児童生徒）'!K58))","v":0},0]
[null,null,"LINE",null,null,"",null,null,null,null,null,null,null,1,{"$f":"IF(N59>=1,COUNT($N$6:N59),\"\")","v":31},{"$f":"IF($O59=\"\",\"\",IF('データ入力（児童生徒）'!$L$3=\"\",INDEX('作業（児童生徒）'!$E$3:$CB$11,P$5,$O59),'データ入力（児童生徒）'!F59))","v":0},{"$f":"IF($O59=\"\",\"\",IF('データ入力（児童生徒）'!$L$3=\"\",INDEX('作業（児童生徒）'!$E$3:$CB$11,Q$5,$O59),'データ入力（児童生徒）'!D59))","v":0},{"$f":"IF($O59=\"\",\"\",IF('データ入力（児童生徒）'!$L$3=\"\",INDEX('作業（児童生徒）'!$E$3:$CB$11,R$5,$O59),'データ入力（児童生徒）'!E59))","v":0},{"$f":"IF($O59=\"\",\"\",IF('データ入力（児童生徒）'!$L$3=\"\",INDEX('作業（児童生徒）'!$E$3:$CB$11,S$5,$O59),'データ入力（児童生徒）'!F59))","v":0},{"$f":"IF($O59=\"\",\"\",IF('データ入力（児童生徒）'!$L$3=\"\",INDEX('作業（児童生徒）'!$E$3:$CB$11,T$5,$O59),'データ入力（児童生徒）'!G59))","v":0},{"$f":"IF($O59=\"\",\"\",IF('データ入力（児童生徒）'!$L$3=\"\",INDEX('作業（児童生徒）'!$E$3:$CB$11,U$5,$O59),'データ入力（児童生徒）'!H59))","v":0},{"$f":"IF($O59=\"\",\"\",IF('データ入力（児童生徒）'!$L$3=\"\",INDEX('作業（児童生徒）'!$E$3:$CB$11,V$5,$O59),'データ入力（児童生徒）'!I59))","v":0},{"$f":"IF($O59=\"\",\"\",IF('データ入力（児童生徒）'!$L$3=\"\",INDEX('作業（児童生徒）'!$E$3:$CB$11,W$5,$O59),'データ入力（児童生徒）'!J59))","v":0},{"$f":"IF($O59=\"\",\"\",IF('データ入力（児童生徒）'!$L$3=\"\",INDEX('作業（児童生徒）'!$E$3:$CB$11,X$5,$O59),'データ入力（児童生徒）'!K59))","v":0},0]
[null,null,"Twitter",null,null,"",null,null,null,null,null,null,null,1,{"$f":"IF(N60>=1,COUNT($N$6:N60),\"\")","v":32},{"$f":"IF($O60=\"\",\"\",IF('データ入力（児童生徒）'!$L$3=\"\",INDEX('作業（児童生徒）'!$E$3:$CB$11,P$5,$O60),'データ入力（児童生徒）'!F60))","v":0},{"$f":"IF($O60=\"\",\"\",IF('データ入力（児童生徒）'!$L$3=\"\",INDEX('作業（児童生徒）'!$E$3:$CB$11,Q$5,$O60),'データ入力（児童生徒）'!D60))","v":0},{"$f":"IF($O60=\"\",\"\",IF('データ入力（児童生徒）'!$L$3=\"\",INDEX('作業（児童生徒）'!$E$3:$CB$11,R$5,$O60),'データ入力（児童生徒）'!E60))","v":0},{"$f":"IF($O60=\"\",\"\",IF('データ入力（児童生徒）'!$L$3=\"\",INDEX('作業（児童生徒）'!$E$3:$CB$11,S$5,$O60),'データ入力（児童生徒）'!F60))","v":0},{"$f":"IF($O60=\"\",\"\",IF('データ入力（児童生徒）'!$L$3=\"\",INDEX('作業（児童生徒）'!$E$3:$CB$11,T$5,$O60),'データ入力（児童生徒）'!G60))","v":0},{"$f":"IF($O60=\"\",\"\",IF('データ入力（児童生徒）'!$L$3=\"\",INDEX('作業（児童生徒）'!$E$3:$CB$11,U$5,$O60),'データ入力（児童生徒）'!H60))","v":0},{"$f":"IF($O60=\"\",\"\",IF('データ入力（児童生徒）'!$L$3=\"\",INDEX('作業（児童生徒）'!$E$3:$CB$11,V$5,$O60),'データ入力（児童生徒）'!I60))","v":0},{"$f":"IF($O60=\"\",\"\",IF('データ入力（児童生徒）'!$L$3=\"\",INDEX('作業（児童生徒）'!$E$3:$CB$11,W$5,$O60),'データ入力（児童生徒）'!J60))","v":0},{"$f":"IF($O60=\"\",\"\",IF('データ入力（児童生徒）'!$L$3=\"\",INDEX('作業（児童生徒）'!$E$3:$CB$11,X$5,$O60),'データ入力（児童生徒）'!K60))","v":0},0]
[null,null,"Instagram",null,null,"",null,null,null,null,null,null,null,1,{"$f":"IF(N61>=1,COUNT($N$6:N61),\"\")","v":33},{"$f":"IF($O61=\"\",\"\",IF('データ入力（児童生徒）'!$L$3=\"\",INDEX('作業（児童生徒）'!$E$3:$CB$11,P$5,$O61),'データ入力（児童生徒）'!F61))","v":0},{"$f":"IF($O61=\"\",\"\",IF('データ入力（児童生徒）'!$L$3=\"\",INDEX('作業（児童生徒）'!$E$3:$CB$11,Q$5,$O61),'データ入力（児童生徒）'!D61))","v":0},{"$f":"IF($O61=\"\",\"\",IF('データ入力（児童生徒）'!$L$3=\"\",INDEX('作業（児童生徒）'!$E$3:$CB$11,R$5,$O61),'データ入力（児童生徒）'!E61))","v":0},{"$f":"IF($O61=\"\",\"\",IF('データ入力（児童生徒）'!$L$3=\"\",INDEX('作業（児童生徒）'!$E$3:$CB$11,S$5,$O61),'データ入力（児童生徒）'!F61))","v":0},{"$f":"IF($O61=\"\",\"\",IF('データ入力（児童生徒）'!$L$3=\"\",INDEX('作業（児童生徒）'!$E$3:$CB$11,T$5,$O61),'データ入力（児童生徒）'!G61))","v":0},{"$f":"IF($O61=\"\",\"\",IF('データ入力（児童生徒）'!$L$3=\"\",INDEX('作業（児童生徒）'!$E$3:$CB$11,U$5,$O61),'データ入力（児童生徒）'!H61))","v":0},{"$f":"IF($O61=\"\",\"\",IF('データ入力（児童生徒）'!$L$3=\"\",INDEX('作業（児童生徒）'!$E$3:$CB$11,V$5,$O61),'データ入力（児童生徒）'!I61))","v":0},{"$f":"IF($O61=\"\",\"\",IF('データ入力（児童生徒）'!$L$3=\"\",INDEX('作業（児童生徒）'!$E$3:$CB$11,W$5,$O61),'データ入力（児童生徒）'!J61))","v":0},{"$f":"IF($O61=\"\",\"\",IF('データ入力（児童生徒）'!$L$3=\"\",INDEX('作業（児童生徒）'!$E$3:$CB$11,X$5,$O61),'データ入力（児童生徒）'!K61))","v":0},0]
[null,null,"TikTok",null,null,"",null,null,null,null,null,null,null,1,{"$f":"IF(N62>=1,COUNT($N$6:N62),\"\")","v":34},{"$f":"IF($O62=\"\",\"\",IF('データ入力（児童生徒）'!$L$3=\"\",INDEX('作業（児童生徒）'!$E$3:$CB$11,P$5,$O62),'データ入力（児童生徒）'!F62))","v":0},{"$f":"IF($O62=\"\",\"\",IF('データ入力（児童生徒）'!$L$3=\"\",INDEX('作業（児童生徒）'!$E$3:$CB$11,Q$5,$O62),'データ入力（児童生徒）'!D62))","v":0},{"$f":"IF($O62=\"\",\"\",IF('データ入力（児童生徒）'!$L$3=\"\",INDEX('作業（児童生徒）'!$E$3:$CB$11,R$5,$O62),'データ入力（児童生徒）'!E62))","v":0},{"$f":"IF($O62=\"\",\"\",IF('データ入力（児童生徒）'!$L$3=\"\",INDEX('作業（児童生徒）'!$E$3:$CB$11,S$5,$O62),'データ入力（児童生徒）'!F62))","v":0},{"$f":"IF($O62=\"\",\"\",IF('データ入力（児童生徒）'!$L$3=\"\",INDEX('作業（児童生徒）'!$E$3:$CB$11,T$5,$O62),'データ入力（児童生徒）'!G62))","v":0},{"$f":"IF($O62=\"\",\"\",IF('データ入力（児童生徒）'!$L$3=\"\",INDEX('作業（児童生徒）'!$E$3:$CB$11,U$5,$O62),'データ入力（児童生徒）'!H62))","v":0},{"$f":"IF($O62=\"\",\"\",IF('データ入力（児童生徒）'!$L$3=\"\",INDEX('作業（児童生徒）'!$E$3:$CB$11,V$5,$O62),'データ入力（児童生徒）'!I62))","v":0},{"$f":"IF($O62=\"\",\"\",IF('データ入力（児童生徒）'!$L$3=\"\",INDEX('作業（児童生徒）'!$E$3:$CB$11,W$5,$O62),'データ入力（児童生徒）'!J62))","v":0},{"$f":"IF($O62=\"\",\"\",IF('データ入力（児童生徒）'!$L$3=\"\",INDEX('作業（児童生徒）'!$E$3:$CB$11,X$5,$O62),'データ入力（児童生徒）'!K62))","v":0},0]
[null,null,"その他",null,null,"",null,null,null,null,null,null,null,1,{"$f":"IF(N63>=1,COUNT($N$6:N63),\"\")","v":35},{"$f":"IF($O63=\"\",\"\",IF('データ入力（児童生徒）'!$L$3=\"\",INDEX('作業（児童生徒）'!$E$3:$CB$11,P$5,$O63),'データ入力（児童生徒）'!F63))","v":0},{"$f":"IF($O63=\"\",\"\",IF('データ入力（児童生徒）'!$L$3=\"\",INDEX('作業（児童生徒）'!$E$3:$CB$11,Q$5,$O63),'データ入力（児童生徒）'!D63))","v":0},{"$f":"IF($O63=\"\",\"\",IF('データ入力（児童生徒）'!$L$3=\"\",INDEX('作業（児童生徒）'!$E$3:$CB$11,R$5,$O63),'データ入力（児童生徒）'!E63))","v":0},{"$f":"IF($O63=\"\",\"\",IF('データ入力（児童生徒）'!$L$3=\"\",INDEX('作業（児童生徒）'!$E$3:$CB$11,S$5,$O63),'データ入力（児童生徒）'!F63))","v":0},{"$f":"IF($O63=\"\",\"\",IF('データ入力（児童生徒）'!$L$3=\"\",INDEX('作業（児童生徒）'!$E$3:$CB$11,T$5,$O63),'データ入力（児童生徒）'!G63))","v":0},{"$f":"IF($O63=\"\",\"\",IF('データ入力（児童生徒）'!$L$3=\"\",INDEX('作業（児童生徒）'!$E$3:$CB$11,U$5,$O63),'データ入力（児童生徒）'!H63))","v":0},{"$f":"IF($O63=\"\",\"\",IF('データ入力（児童生徒）'!$L$3=\"\",INDEX('作業（児童生徒）'!$E$3:$CB$11,V$5,$O63),'データ入力（児童生徒）'!I63))","v":0},{"$f":"IF($O63=\"\",\"\",IF('データ入力（児童生徒）'!$L$3=\"\",INDEX('作業（児童生徒）'!$E$3:$CB$11,W$5,$O63),'データ入力（児童生徒）'!J63))","v":0},{"$f":"IF($O63=\"\",\"\",IF('データ入力（児童生徒）'!$L$3=\"\",INDEX('作業（児童生徒）'!$E$3:$CB$11,X$5,$O63),'データ入力（児童生徒）'!K63))","v":0},0]
["（13）SNSにおいて、利用しているサービスは何ですか（利用していない場合は「いいえ」を選択）",null,null,null,null,null,null,null,null,null,null,null,null,null,{"$f":"IF(N64>=1,COUNT($N$6:N64),\"\")","v":""},{"$f":"IF($O64=\"\",\"\",IF('データ入力（児童生徒）'!$L$3=\"\",INDEX('作業（児童生徒）'!$E$3:$CB$11,P$5,$O64),'データ入力（児童生徒）'!C64))","v":""},{"$f":"IF($O64=\"\",\"\",IF('データ入力（児童生徒）'!$L$3=\"\",INDEX('作業（児童生徒）'!$E$3:$CB$11,Q$5,$O64),'データ入力（児童生徒）'!D64))","v":""},{"$f":"IF($O64=\"\",\"\",IF('データ入力（児童生徒）'!$L$3=\"\",INDEX('作業（児童生徒）'!$E$3:$CB$11,R$5,$O64),'データ入力（児童生徒）'!E64))","v":""},{"$f":"IF($O64=\"\",\"\",IF('データ入力（児童生徒）'!$L$3=\"\",INDEX('作業（児童生徒）'!$E$3:$CB$11,S$5,$O64),'データ入力（児童生徒）'!F64))","v":""},{"$f":"IF($O64=\"\",\"\",IF('データ入力（児童生徒）'!$L$3=\"\",INDEX('作業（児童生徒）'!$E$3:$CB$11,T$5,$O64),'データ入力（児童生徒）'!G64))","v":""},{"$f":"IF($O64=\"\",\"\",IF('データ入力（児童生徒）'!$L$3=\"\",INDEX('作業（児童生徒）'!$E$3:$CB$11,U$5,$O64),'データ入力（児童生徒）'!H64))","v":""},{"$f":"IF($O64=\"\",\"\",IF('データ入力（児童生徒）'!$L$3=\"\",INDEX('作業（児童生徒）'!$E$3:$CB$11,V$5,$O64),'データ入力（児童生徒）'!I64))","v":""},{"$f":"IF($O64=\"\",\"\",IF('データ入力（児童生徒）'!$L$3=\"\",INDEX('作業（児童生徒）'!$E$3:$CB$11,W$5,$O64),'データ入力（児童生徒）'!J64))","v":""},{"$f":"IF($O64=\"\",\"\",IF('データ入力（児童生徒）'!$L$3=\"\",INDEX('作業（児童生徒）'!$E$3:$CB$11,X$5,$O64),'データ入力（児童生徒）'!K64))","v":""},""]
[null,"質問","はい","いいえ","無回答",null,null,null,null,null,null,null,null,null,{"$f":"IF(N65>=1,COUNT($N$6:N65),\"\")","v":""},{"$f":"IF($O65=\"\",\"\",IF('データ入力（児童生徒）'!$L$3=\"\",INDEX('作業（児童生徒）'!$E$3:$CB$11,P$5,$O65),'データ入力（児童生徒）'!C65))","v":""},{"$f":"IF($O65=\"\",\"\",IF('データ入力（児童生徒）'!$L$3=\"\",INDEX('作業（児童生徒）'!$E$3:$CB$11,Q$5,$O65),'データ入力（児童生徒）'!D65))","v":""},{"$f":"IF($O65=\"\",\"\",IF('データ入力（児童生徒）'!$L$3=\"\",INDEX('作業（児童生徒）'!$E$3:$CB$11,R$5,$O65),'データ入力（児童生徒）'!E65))","v":""},{"$f":"IF($O65=\"\",\"\",IF('データ入力（児童生徒）'!$L$3=\"\",INDEX('作業（児童生徒）'!$E$3:$CB$11,S$5,$O65),'データ入力（児童生徒）'!F65))","v":""},{"$f":"IF($O65=\"\",\"\",IF('データ入力（児童生徒）'!$L$3=\"\",INDEX('作業（児童生徒）'!$E$3:$CB$11,T$5,$O65),'データ入力（児童生徒）'!G65))","v":""},{"$f":"IF($O65=\"\",\"\",IF('データ入力（児童生徒）'!$L$3=\"\",INDEX('作業（児童生徒）'!$E$3:$CB$11,U$5,$O65),'データ入力（児童生徒）'!H65))","v":""},{"$f":"IF($O65=\"\",\"\",IF('データ入力（児童生徒）'!$L$3=\"\",INDEX('作業（児童生徒）'!$E$3:$CB$11,V$5,$O65),'データ入力（児童生徒）'!I65))","v":""},{"$f":"IF($O65=\"\",\"\",IF('データ入力（児童生徒）'!$L$3=\"\",INDEX('作業（児童生徒）'!$E$3:$CB$11,W$5,$O65),'データ入力（児童生徒）'!J65))","v":""},{"$f":"IF($O65=\"\",\"\",IF('データ入力（児童生徒）'!$L$3=\"\",INDEX('作業（児童生徒）'!$E$3:$CB$11,X$5,$O65),'データ入力（児童生徒）'!K65))","v":""},""]
["(13)-1","家族以外の知り合いと、無料通話をする",{"$f":"IFERROR(ROUND(P66/$P$3*100,1),\"\")","v":""},{"$f":"IFERROR(ROUND(Q66/$P$3*100,1),\"\")","v":""},{"$f":"IFERROR(ROUND($Y66/$P$3*100,1),\"\")","v":""},null,null,null,null,null,null,null,null,1,{"$f":"IF(N66>=1,COUNT($N$6:N66),\"\")","v":36},{"$f":"IF($O66=\"\",\"\",IF('データ入力（児童生徒）'!$L$3=\"\",INDEX('作業（児童生徒）'!$E$3:$CB$11,P$5,$O66),'データ入力（児童生徒）'!C66))","v":0},{"$f":"IF($O66=\"\",\"\",IF('データ入力（児童生徒）'!$L$3=\"\",INDEX('作業（児童生徒）'!$E$3:$CB$11,Q$5,$O66),'データ入力（児童生徒）'!D66))","v":0},{"$f":"IF($O66=\"\",\"\",IF('データ入力（児童生徒）'!$L$3=\"\",INDEX('作業（児童生徒）'!$E$3:$CB$11,R$5,$O66),'データ入力（児童生徒）'!E66))","v":0},{"$f":"IF($O66=\"\",\"\",IF('データ入力（児童生徒）'!$L$3=\"\",INDEX('作業（児童生徒）'!$E$3:$CB$11,S$5,$O66),'データ入力（児童生徒）'!F66))","v":0},{"$f":"IF($O66=\"\",\"\",IF('データ入力（児童生徒）'!$L$3=\"\",INDEX('作業（児童生徒）'!$E$3:$CB$11,T$5,$O66),'データ入力（児童生徒）'!G66))","v":0},{"$f":"IF($O66=\"\",\"\",IF('データ入力（児童生徒）'!$L$3=\"\",INDEX('作業（児童生徒）'!$E$3:$CB$11,U$5,$O66),'データ入力（児童生徒）'!H66))","v":0},{"$f":"IF($O66=\"\",\"\",IF('データ入力（児童生徒）'!$L$3=\"\",INDEX('作業（児童生徒）'!$E$3:$CB$11,V$5,$O66),'データ入力（児童生徒）'!I66))","v":0},{"$f":"IF($O66=\"\",\"\",IF('データ入力（児童生徒）'!$L$3=\"\",INDEX('作業（児童生徒）'!$E$3:$CB$11,W$5,$O66),'データ入力（児童生徒）'!J66))","v":0},{"$f":"IF($O66=\"\",\"\",IF('データ入力（児童生徒）'!$L$3=\"\",INDEX('作業（児童生徒）'!$E$3:$CB$11,X$5,$O66),'データ入力（児童生徒）'!K66))","v":0},0]
["(13)-2","家族以外の知り合いと1対1でメッセージのやりとりをする","","","",null,null,null,"　",null,null,null,null,1,{"$f":"IF(N67>=1,COUNT($N$6:N67),\"\")","v":37},{"$f":"IF($O67=\"\",\"\",IF('データ入力（児童生徒）'!$L$3=\"\",INDEX('作業（児童生徒）'!$E$3:$CB$11,P$5,$O67),'データ入力（児童生徒）'!C67))","v":0},{"$f":"IF($O67=\"\",\"\",IF('データ入力（児童生徒）'!$L$3=\"\",INDEX('作業（児童生徒）'!$E$3:$CB$11,Q$5,$O67),'データ入力（児童生徒）'!D67))","v":0},{"$f":"IF($O67=\"\",\"\",IF('データ入力（児童生徒）'!$L$3=\"\",INDEX('作業（児童生徒）'!$E$3:$CB$11,R$5,$O67),'データ入力（児童生徒）'!E67))","v":0},{"$f":"IF($O67=\"\",\"\",IF('データ入力（児童生徒）'!$L$3=\"\",INDEX('作業（児童生徒）'!$E$3:$CB$11,S$5,$O67),'データ入力（児童生徒）'!F67))","v":0},{"$f":"IF($O67=\"\",\"\",IF('データ入力（児童生徒）'!$L$3=\"\",INDEX('作業（児童生徒）'!$E$3:$CB$11,T$5,$O67),'データ入力（児童生徒）'!G67))","v":0},{"$f":"IF($O67=\"\",\"\",IF('データ入力（児童生徒）'!$L$3=\"\",INDEX('作業（児童生徒）'!$E$3:$CB$11,U$5,$O67),'データ入力（児童生徒）'!H67))","v":0},{"$f":"IF($O67=\"\",\"\",IF('データ入力（児童生徒）'!$L$3=\"\",INDEX('作業（児童生徒）'!$E$3:$CB$11,V$5,$O67),'データ入力（児童生徒）'!I67))","v":0},{"$f":"IF($O67=\"\",\"\",IF('データ入力（児童生徒）'!$L$3=\"\",INDEX('作業（児童生徒）'!$E$3:$CB$11,W$5,$O67),'データ入力（児童生徒）'!J67))","v":0},{"$f":"IF($O67=\"\",\"\",IF('データ入力（児童生徒）'!$L$3=\"\",INDEX('作業（児童生徒）'!$E$3:$CB$11,X$5,$O67),'データ入力（児童生徒）'!K67))","v":0},0]
["(13)-3","グループを作って、グループ内でメッセージのやりとりをする","","","",null,null,null,null,null,null,null,null,1,{"$f":"IF(N68>=1,COUNT($N$6:N68),\"\")","v":38},{"$f":"IF($O68=\"\",\"\",IF('データ入力（児童生徒）'!$L$3=\"\",INDEX('作業（児童生徒）'!$E$3:$CB$11,P$5,$O68),'データ入力（児童生徒）'!C68))","v":0},{"$f":"IF($O68=\"\",\"\",IF('データ入力（児童生徒）'!$L$3=\"\",INDEX('作業（児童生徒）'!$E$3:$CB$11,Q$5,$O68),'データ入力（児童生徒）'!D68))","v":0},{"$f":"IF($O68=\"\",\"\",IF('データ入力（児童生徒）'!$L$3=\"\",INDEX('作業（児童生徒）'!$E$3:$CB$11,R$5,$O68),'データ入力（児童生徒）'!E68))","v":0},{"$f":"IF($O68=\"\",\"\",IF('データ入力（児童生徒）'!$L$3=\"\",INDEX('作業（児童生徒）'!$E$3:$CB$11,S$5,$O68),'データ入力（児童生徒）'!F68))","v":0},{"$f":"IF($O68=\"\",\"\",IF('データ入力（児童生徒）'!$L$3=\"\",INDEX('作業（児童生徒）'!$E$3:$CB$11,T$5,$O68),'データ入力（児童生徒）'!G68))","v":0},{"$f":"IF($O68=\"\",\"\",IF('データ入力（児童生徒）'!$L$3=\"\",INDEX('作業（児童生徒）'!$E$3:$CB$11,U$5,$O68),'データ入力（児童生徒）'!H68))","v":0},{"$f":"IF($O68=\"\",\"\",IF('データ入力（児童生徒）'!$L$3=\"\",INDEX('作業（児童生徒）'!$E$3:$CB$11,V$5,$O68),'データ入力（児童生徒）'!I68))","v":0},{"$f":"IF($O68=\"\",\"\",IF('データ入力（児童生徒）'!$L$3=\"\",INDEX('作業（児童生徒）'!$E$3:$CB$11,W$5,$O68),'データ入力（児童生徒）'!J68))","v":0},{"$f":"IF($O68=\"\",\"\",IF('データ入力（児童生徒）'!$L$3=\"\",INDEX('作業（児童生徒）'!$E$3:$CB$11,X$5,$O68),'データ入力（児童生徒）'!K68))","v":0},0]
["(13)-4","家族と、無料通話やメッセージのやりとりをする","","","",null,null,null,null,null,null,null,null,1,{"$f":"IF(N69>=1,COUNT($N$6:N69),\"\")","v":39},{"$f":"IF($O69=\"\",\"\",IF('データ入力（児童生徒）'!$L$3=\"\",INDEX('作業（児童生徒）'!$E$3:$CB$11,P$5,$O69),'データ入力（児童生徒）'!C69))","v":0},{"$f":"IF($O69=\"\",\"\",IF('データ入力（児童生徒）'!$L$3=\"\",INDEX('作業（児童生徒）'!$E$3:$CB$11,Q$5,$O69),'データ入力（児童生徒）'!D69))","v":0},{"$f":"IF($O69=\"\",\"\",IF('データ入力（児童生徒）'!$L$3=\"\",INDEX('作業（児童生徒）'!$E$3:$CB$11,R$5,$O69),'データ入力（児童生徒）'!E69))","v":0},{"$f":"IF($O69=\"\",\"\",IF('データ入力（児童生徒）'!$L$3=\"\",INDEX('作業（児童生徒）'!$E$3:$CB$11,S$5,$O69),'データ入力（児童生徒）'!F69))","v":0},{"$f":"IF($O69=\"\",\"\",IF('データ入力（児童生徒）'!$L$3=\"\",INDEX('作業（児童生徒）'!$E$3:$CB$11,T$5,$O69),'データ入力（児童生徒）'!G69))","v":0},{"$f":"IF($O69=\"\",\"\",IF('データ入力（児童生徒）'!$L$3=\"\",INDEX('作業（児童生徒）'!$E$3:$CB$11,U$5,$O69),'データ入力（児童生徒）'!H69))","v":0},{"$f":"IF($O69=\"\",\"\",IF('データ入力（児童生徒）'!$L$3=\"\",INDEX('作業（児童生徒）'!$E$3:$CB$11,V$5,$O69),'データ入力（児童生徒）'!I69))","v":0},{"$f":"IF($O69=\"\",\"\",IF('データ入力（児童生徒）'!$L$3=\"\",INDEX('作業（児童生徒）'!$E$3:$CB$11,W$5,$O69),'データ入力（児童生徒）'!J69))","v":0},{"$f":"IF($O69=\"\",\"\",IF('データ入力（児童生徒）'!$L$3=\"\",INDEX('作業（児童生徒）'!$E$3:$CB$11,X$5,$O69),'データ入力（児童生徒）'!K69))","v":0},0]
["(13)-5","記事を投稿する","","","",null,null,null,null,null,null,null,null,1,{"$f":"IF(N70>=1,COUNT($N$6:N70),\"\")","v":40},{"$f":"IF($O70=\"\",\"\",IF('データ入力（児童生徒）'!$L$3=\"\",INDEX('作業（児童生徒）'!$E$3:$CB$11,P$5,$O70),'データ入力（児童生徒）'!C70))","v":0},{"$f":"IF($O70=\"\",\"\",IF('データ入力（児童生徒）'!$L$3=\"\",INDEX('作業（児童生徒）'!$E$3:$CB$11,Q$5,$O70),'データ入力（児童生徒）'!D70))","v":0},{"$f":"IF($O70=\"\",\"\",IF('データ入力（児童生徒）'!$L$3=\"\",INDEX('作業（児童生徒）'!$E$3:$CB$11,R$5,$O70),'データ入力（児童生徒）'!E70))","v":0},{"$f":"IF($O70=\"\",\"\",IF('データ入力（児童生徒）'!$L$3=\"\",INDEX('作業（児童生徒）'!$E$3:$CB$11,S$5,$O70),'データ入力（児童生徒）'!F70))","v":0},{"$f":"IF($O70=\"\",\"\",IF('データ入力（児童生徒）'!$L$3=\"\",INDEX('作業（児童生徒）'!$E$3:$CB$11,T$5,$O70),'データ入力（児童生徒）'!G70))","v":0},{"$f":"IF($O70=\"\",\"\",IF('データ入力（児童生徒）'!$L$3=\"\",INDEX('作業（児童生徒）'!$E$3:$CB$11,U$5,$O70),'データ入力（児童生徒）'!H70))","v":0},{"$f":"IF($O70=\"\",\"\",IF('データ入力（児童生徒）'!$L$3=\"\",INDEX('作業（児童生徒）'!$E$3:$CB$11,V$5,$O70),'データ入力（児童生徒）'!I70))","v":0},{"$f":"IF($O70=\"\",\"\",IF('データ入力（児童生徒）'!$L$3=\"\",INDEX('作業（児童生徒）'!$E$3:$CB$11,W$5,$O70),'データ入力（児童生徒）'!J70))","v":0},{"$f":"IF($O70=\"\",\"\",IF('データ入力（児童生徒）'!$L$3=\"\",INDEX('作業（児童生徒）'!$E$3:$CB$11,X$5,$O70),'データ入力（児童生徒）'!K70))","v":0},0]
["(13)-6","アプリを使う","","","",null,null,null,null,null,null,null,null,1,{"$f":"IF(N71>=1,COUNT($N$6:N71),\"\")","v":41},{"$f":"IF($O71=\"\",\"\",IF('データ入力（児童生徒）'!$L$3=\"\",INDEX('作業（児童生徒）'!$E$3:$CB$11,P$5,$O71),'データ入力（児童生徒）'!C71))","v":0},{"$f":"IF($O71=\"\",\"\",IF('データ入力（児童生徒）'!$L$3=\"\",INDEX('作業（児童生徒）'!$E$3:$CB$11,Q$5,$O71),'データ入力（児童生徒）'!D71))","v":0},{"$f":"IF($O71=\"\",\"\",IF('データ入力（児童生徒）'!$L$3=\"\",INDEX('作業（児童生徒）'!$E$3:$CB$11,R$5,$O71),'データ入力（児童生徒）'!E71))","v":0},{"$f":"IF($O71=\"\",\"\",IF('データ入力（児童生徒）'!$L$3=\"\",INDEX('作業（児童生徒）'!$E$3:$CB$11,S$5,$O71),'データ入力（児童生徒）'!F71))","v":0},{"$f":"IF($O71=\"\",\"\",IF('データ入力（児童生徒）'!$L$3=\"\",INDEX('作業（児童生徒）'!$E$3:$CB$11,T$5,$O71),'データ入力（児童生徒）'!G71))","v":0},{"$f":"IF($O71=\"\",\"\",IF('データ入力（児童生徒）'!$L$3=\"\",INDEX('作業（児童生徒）'!$E$3:$CB$11,U$5,$O71),'データ入力（児童生徒）'!H71))","v":0},{"$f":"IF($O71=\"\",\"\",IF('データ入力（児童生徒）'!$L$3=\"\",INDEX('作業（児童生徒）'!$E$3:$CB$11,V$5,$O71),'データ入力（児童生徒）'!I71))","v":0},{"$f":"IF($O71=\"\",\"\",IF('データ入力（児童生徒）'!$L$3=\"\",INDEX('作業（児童生徒）'!$E$3:$CB$11,W$5,$O71),'データ入力（児童生徒）'!J71))","v":0},{"$f":"IF($O71=\"\",\"\",IF('データ入力（児童生徒）'!$L$3=\"\",INDEX('作業（児童生徒）'!$E$3:$CB$11,X$5,$O71),'データ入力（児童生徒）'!K71))","v":0},{"$f":"IF(O71=\"\",\"\",$P$3-SUM(P71:X71))","v":0}]
["(13)-7","お店からのお知らせを見たり、クーポンをもらったりする","","","",null,null,null,null,null,null,null,null,1,{"$f":"IF(N72>=1,COUNT($N$6:N72),\"\")","v":42},{"$f":"IF($O72=\"\",\"\",IF('データ入力（児童生徒）'!$L$3=\"\",INDEX('作業（児童生徒）'!$E$3:$CB$11,P$5,$O72),'データ入力（児童生徒）'!C72))","v":0},{"$f":"IF($O72=\"\",\"\",IF('データ入力（児童生徒）'!$L$3=\"\",INDEX('作業（児童生徒）'!$E$3:$CB$11,Q$5,$O72),'データ入力（児童生徒）'!D72))","v":0},{"$f":"IF($O72=\"\",\"\",IF('データ入力（児童生徒）'!$L$3=\"\",INDEX('作業（児童生徒）'!$E$3:$CB$11,R$5,$O72),'データ入力（児童生徒）'!E72))","v":0},{"$f":"IF($O72=\"\",\"\",IF('データ入力（児童生徒）'!$L$3=\"\",INDEX('作業（児童生徒）'!$E$3:$CB$11,S$5,$O72),'データ入力（児童生徒）'!F72))","v":0},{"$f":"IF($O72=\"\",\"\",IF('データ入力（児童生徒）'!$L$3=\"\",INDEX('作業（児童生徒）'!$E$3:$CB$11,T$5,$O72),'データ入力（児童生徒）'!G72))","v":0},{"$f":"IF($O72=\"\",\"\",IF('データ入力（児童生徒）'!$L$3=\"\",INDEX('作業（児童生徒）'!$E$3:$CB$11,U$5,$O72),'データ入力（児童生徒）'!H72))","v":0},{"$f":"IF($O72=\"\",\"\",IF('データ入力（児童生徒）'!$L$3=\"\",INDEX('作業（児童生徒）'!$E$3:$CB$11,V$5,$O72),'データ入力（児童生徒）'!I72))","v":0},{"$f":"IF($O72=\"\",\"\",IF('データ入力（児童生徒）'!$L$3=\"\",INDEX('作業（児童生徒）'!$E$3:$CB$11,W$5,$O72),'データ入力（児童生徒）'!J72))","v":0},{"$f":"IF($O72=\"\",\"\",IF('データ入力（児童生徒）'!$L$3=\"\",INDEX('作業（児童生徒）'!$E$3:$CB$11,X$5,$O72),'データ入力（児童生徒）'!K72))","v":0},0]
[null,null,null,null,null,null,null,null,null,null,null,null,null,null,{"$f":"IF(N73>=1,COUNT($N$6:N73),\"\")","v":""},{"$f":"IF($O73=\"\",\"\",IF('データ入力（児童生徒）'!$L$3=\"\",INDEX('作業（児童生徒）'!$E$3:$CB$11,P$5,$O73),'データ入力（児童生徒）'!C73))","v":""},{"$f":"IF($O73=\"\",\"\",IF('データ入力（児童生徒）'!$L$3=\"\",INDEX('作業（児童生徒）'!$E$3:$CB$11,Q$5,$O73),'データ入力（児童生徒）'!D73))","v":""},{"$f":"IF($O73=\"\",\"\",IF('データ入力（児童生徒）'!$L$3=\"\",INDEX('作業（児童生徒）'!$E$3:$CB$11,R$5,$O73),'データ入力（児童生徒）'!E73))","v":""},{"$f":"IF($O73=\"\",\"\",IF('データ入力（児童生徒）'!$L$3=\"\",INDEX('作業（児童生徒）'!$E$3:$CB$11,S$5,$O73),'データ入力（児童生徒）'!F73))","v":""},{"$f":"IF($O73=\"\",\"\",IF('データ入力（児童生徒）'!$L$3=\"\",INDEX('作業（児童生徒）'!$E$3:$CB$11,T$5,$O73),'データ入力（児童生徒）'!G73))","v":""},{"$f":"IF($O73=\"\",\"\",IF('データ入力（児童生徒）'!$L$3=\"\",INDEX('作業（児童生徒）'!$E$3:$CB$11,U$5,$O73),'データ入力（児童生徒）'!H73))","v":""},{"$f":"IF($O73=\"\",\"\",IF('データ入力（児童生徒）'!$L$3=\"\",INDEX('作業（児童生徒）'!$E$3:$CB$11,V$5,$O73),'データ入力（児童生徒）'!I73))","v":""},{"$f":"IF($O73=\"\",\"\",IF('データ入力（児童生徒）'!$L$3=\"\",INDEX('作業（児童生徒）'!$E$3:$CB$11,W$5,$O73),'データ入力（児童生徒）'!J73))","v":""},{"$f":"IF($O73=\"\",\"\",IF('データ入力（児童生徒）'!$L$3=\"\",INDEX('作業（児童生徒）'!$E$3:$CB$11,X$5,$O73),'データ入力（児童生徒）'!K73))","v":""},""]
[null,"質問","０回\n（または\n使っていない）","１～５回","６～10回","11～30回","31～50回","51回以上","無回答",null,null,null,null,null,{"$f":"IF(N74>=1,COUNT($N$6:N74),\"\")","v":""},{"$f":"IF($O74=\"\",\"\",IF('データ入力（児童生徒）'!$L$3=\"\",INDEX('作業（児童生徒）'!$E$3:$CB$11,P$5,$O74),'データ入力（児童生徒）'!C74))","v":""},{"$f":"IF($O74=\"\",\"\",IF('データ入力（児童生徒）'!$L$3=\"\",INDEX('作業（児童生徒）'!$E$3:$CB$11,Q$5,$O74),'データ入力（児童生徒）'!D74))","v":""},{"$f":"IF($O74=\"\",\"\",IF('データ入力（児童生徒）'!$L$3=\"\",INDEX('作業（児童生徒）'!$E$3:$CB$11,R$5,$O74),'データ入力（児童生徒）'!E74))","v":""},{"$f":"IF($O74=\"\",\"\",IF('データ入力（児童生徒）'!$L$3=\"\",INDEX('作業（児童生徒）'!$E$3:$CB$11,S$5,$O74),'データ入力（児童生徒）'!F74))","v":""},{"$f":"IF($O74=\"\",\"\",IF('データ入力（児童生徒）'!$L$3=\"\",INDEX('作業（児童生徒）'!$E$3:$CB$11,T$5,$O74),'データ入力（児童生徒）'!G74))","v":""},{"$f":"IF($O74=\"\",\"\",IF('データ入力（児童生徒）'!$L$3=\"\",INDEX('作業（児童生徒）'!$E$3:$CB$11,U$5,$O74),'データ入力（児童生徒）'!H74))","v":""},{"$f":"IF($O74=\"\",\"\",IF('データ入力（児童生徒）'!$L$3=\"\",INDEX('作業（児童生徒）'!$E$3:$CB$11,V$5,$O74),'データ入力（児童生徒）'!I74))","v":""},{"$f":"IF($O74=\"\",\"\",IF('データ入力（児童生徒）'!$L$3=\"\",INDEX('作業（児童生徒）'!$E$3:$CB$11,W$5,$O74),'データ入力（児童生徒）'!J74))","v":""},{"$f":"IF($O74=\"\",\"\",IF('データ入力（児童生徒）'!$L$3=\"\",INDEX('作業（児童生徒）'!$E$3:$CB$11,X$5,$O74),'データ入力（児童生徒）'!K74))","v":""},""]
["(14)","LINE（ライン）などを使ってメッセージを送る回数の一日平均はどれくらいですか",{"$f":"IFERROR(ROUND(P75/$P$3*100,1),\"\")","v":""},"","","","","",{"$f":"IFERROR(ROUND($Y75/$P$3*100,1),\"\")","v":""},null,null,null,null,1,{"$f":"IF(N75>=1,COUNT($N$6:N75),\"\")","v":43},{"$f":"IF($O75=\"\",\"\",IF('データ入力（児童生徒）'!$L$3=\"\",INDEX('作業（児童生徒）'!$E$3:$CB$11,P$5,$O75),'データ入力（児童生徒）'!C75))","v":0},{"$f":"IF($O75=\"\",\"\",IF('データ入力（児童生徒）'!$L$3=\"\",INDEX('作業（児童生徒）'!$E$3:$CB$11,Q$5,$O75),'データ入力（児童生徒）'!D75))","v":0},{"$f":"IF($O75=\"\",\"\",IF('データ入力（児童生徒）'!$L$3=\"\",INDEX('作業（児童生徒）'!$E$3:$CB$11,R$5,$O75),'データ入力（児童生徒）'!E75))","v":0},{"$f":"IF($O75=\"\",\"\",IF('データ入力（児童生徒）'!$L$3=\"\",INDEX('作業（児童生徒）'!$E$3:$CB$11,S$5,$O75),'データ入力（児童生徒）'!F75))","v":0},{"$f":"IF($O75=\"\",\"\",IF('データ入力（児童生徒）'!$L$3=\"\",INDEX('作業（児童生徒）'!$E$3:$CB$11,T$5,$O75),'データ入力（児童生徒）'!G75))","v":0},{"$f":"IF($O75=\"\",\"\",IF('データ入力（児童生徒）'!$L$3=\"\",INDEX('作業（児童生徒）'!$E$3:$CB$11,U$5,$O75),'データ入力（児童生徒）'!H75))","v":0},{"$f":"IF($O75=\"\",\"\",IF('データ入力（児童生徒）'!$L$3=\"\",INDEX('作業（児童生徒）'!$E$3:$CB$11,V$5,$O75),'データ入力（児童生徒）'!I75))","v":0},{"$f":"IF($O75=\"\",\"\",IF('データ入力（児童生徒）'!$L$3=\"\",INDEX('作業（児童生徒）'!$E$3:$CB$11,W$5,$O75),'データ入力（児童生徒）'!J75))","v":0},{"$f":"IF($O75=\"\",\"\",IF('データ入力（児童生徒）'!$L$3=\"\",INDEX('作業（児童生徒）'!$E$3:$CB$11,X$5,$O75),'データ入力（児童生徒）'!K75))","v":0},0]
[null,null,null,null,null,null,null,null,null,null,null,null,null,null,{"$f":"IF(N76>=1,COUNT($N$6:N76),\"\")","v":""},{"$f":"IF($O76=\"\",\"\",IF('データ入力（児童生徒）'!$L$3=\"\",INDEX('作業（児童生徒）'!$E$3:$CB$11,P$5,$O76),'データ入力（児童生徒）'!C76))","v":""},{"$f":"IF($O76=\"\",\"\",IF('データ入力（児童生徒）'!$L$3=\"\",INDEX('作業（児童生徒）'!$E$3:$CB$11,Q$5,$O76),'データ入力（児童生徒）'!D76))","v":""},{"$f":"IF($O76=\"\",\"\",IF('データ入力（児童生徒）'!$L$3=\"\",INDEX('作業（児童生徒）'!$E$3:$CB$11,R$5,$O76),'データ入力（児童生徒）'!E76))","v":""},{"$f":"IF($O76=\"\",\"\",IF('データ入力（児童生徒）'!$L$3=\"\",INDEX('作業（児童生徒）'!$E$3:$CB$11,S$5,$O76),'データ入力（児童生徒）'!F76))","v":""},{"$f":"IF($O76=\"\",\"\",IF('データ入力（児童生徒）'!$L$3=\"\",INDEX('作業（児童生徒）'!$E$3:$CB$11,T$5,$O76),'データ入力（児童生徒）'!G76))","v":""},{"$f":"IF($O76=\"\",\"\",IF('データ入力（児童生徒）'!$L$3=\"\",INDEX('作業（児童生徒）'!$E$3:$CB$11,U$5,$O76),'データ入力（児童生徒）'!H76))","v":""},{"$f":"IF($O76=\"\",\"\",IF('データ入力（児童生徒）'!$L$3=\"\",INDEX('作業（児童生徒）'!$E$3:$CB$11,V$5,$O76),'データ入力（児童生徒）'!I76))","v":""},{"$f":"IF($O76=\"\",\"\",IF('データ入力（児童生徒）'!$L$3=\"\",INDEX('作業（児童生徒）'!$E$3:$CB$11,W$5,$O76),'データ入力（児童生徒）'!J76))","v":""},{"$f":"IF($O76=\"\",\"\",IF('データ入力（児童生徒）'!$L$3=\"\",INDEX('作業（児童生徒）'!$E$3:$CB$11,X$5,$O76),'データ入力（児童生徒）'!K76))","v":""},""]
[null,"質問","送らない\n（または\n使っていない）","３分以内","10分以内","30分以内","60分以内","特にイライラしたり\n不安になったりしない","無回答",null,null,null,null,null,{"$f":"IF(N77>=1,COUNT($N$6:N77),\"\")","v":""},{"$f":"IF($O77=\"\",\"\",IF('データ入力（児童生徒）'!$L$3=\"\",INDEX('作業（児童生徒）'!$E$3:$CB$11,P$5,$O77),'データ入力（児童生徒）'!C77))","v":""},{"$f":"IF($O77=\"\",\"\",IF('データ入力（児童生徒）'!$L$3=\"\",INDEX('作業（児童生徒）'!$E$3:$CB$11,Q$5,$O77),'データ入力（児童生徒）'!D77))","v":""},{"$f":"IF($O77=\"\",\"\",IF('データ入力（児童生徒）'!$L$3=\"\",INDEX('作業（児童生徒）'!$E$3:$CB$11,R$5,$O77),'データ入力（児童生徒）'!E77))","v":""},{"$f":"IF($O77=\"\",\"\",IF('データ入力（児童生徒）'!$L$3=\"\",INDEX('作業（児童生徒）'!$E$3:$CB$11,S$5,$O77),'データ入力（児童生徒）'!F77))","v":""},{"$f":"IF($O77=\"\",\"\",IF('データ入力（児童生徒）'!$L$3=\"\",INDEX('作業（児童生徒）'!$E$3:$CB$11,T$5,$O77),'データ入力（児童生徒）'!G77))","v":""},{"$f":"IF($O77=\"\",\"\",IF('データ入力（児童生徒）'!$L$3=\"\",INDEX('作業（児童生徒）'!$E$3:$CB$11,U$5,$O77),'データ入力（児童生徒）'!H77))","v":""},{"$f":"IF($O77=\"\",\"\",IF('データ入力（児童生徒）'!$L$3=\"\",INDEX('作業（児童生徒）'!$E$3:$CB$11,V$5,$O77),'データ入力（児童生徒）'!I77))","v":""},{"$f":"IF($O77=\"\",\"\",IF('データ入力（児童生徒）'!$L$3=\"\",INDEX('作業（児童生徒）'!$E$3:$CB$11,W$5,$O77),'データ入力（児童生徒）'!J77))","v":""},{"$f":"IF($O77=\"\",\"\",IF('データ入力（児童生徒）'!$L$3=\"\",INDEX('作業（児童生徒）'!$E$3:$CB$11,X$5,$O77),'データ入力（児童生徒）'!K77))","v":""},""]
["(15)","友だちにメールやメッセージを送って返事が返ってこない時、どれくらいでイライラしたり不安になったりしますか",{"$f":"IFERROR(ROUND(P78/$P$3*100,1),\"\")","v":""},"","","","","",{"$f":"IFERROR(ROUND($Y78/$P$3*100,1),\"\")","v":""},null,null,null,null,1,{"$f":"IF(N78>=1,COUNT($N$6:N78),\"\")","v":44},{"$f":"IF($O78=\"\",\"\",IF('データ入力（児童生徒）'!$L$3=\"\",INDEX('作業（児童生徒）'!$E$3:$CB$11,P$5,$O78),'データ入力（児童生徒）'!C78))","v":0},{"$f":"IF($O78=\"\",\"\",IF('データ入力（児童生徒）'!$L$3=\"\",INDEX('作業（児童生徒）'!$E$3:$CB$11,Q$5,$O78),'データ入力（児童生徒）'!D78))","v":0},{"$f":"IF($O78=\"\",\"\",IF('データ入力（児童生徒）'!$L$3=\"\",INDEX('作業（児童生徒）'!$E$3:$CB$11,R$5,$O78),'データ入力（児童生徒）'!E78))","v":0},{"$f":"IF($O78=\"\",\"\",IF('データ入力（児童生徒）'!$L$3=\"\",INDEX('作業（児童生徒）'!$E$3:$CB$11,S$5,$O78),'データ入力（児童生徒）'!F78))","v":0},{"$f":"IF($O78=\"\",\"\",IF('データ入力（児童生徒）'!$L$3=\"\",INDEX('作業（児童生徒）'!$E$3:$CB$11,T$5,$O78),'データ入力（児童生徒）'!G78))","v":0},{"$f":"IF($O78=\"\",\"\",IF('データ入力（児童生徒）'!$L$3=\"\",INDEX('作業（児童生徒）'!$E$3:$CB$11,U$5,$O78),'データ入力（児童生徒）'!H78))","v":0},{"$f":"IF($O78=\"\",\"\",IF('データ入力（児童生徒）'!$L$3=\"\",INDEX('作業（児童生徒）'!$E$3:$CB$11,V$5,$O78),'データ入力（児童生徒）'!I78))","v":0},{"$f":"IF($O78=\"\",\"\",IF('データ入力（児童生徒）'!$L$3=\"\",INDEX('作業（児童生徒）'!$E$3:$CB$11,W$5,$O78),'データ入力（児童生徒）'!J78))","v":0},{"$f":"IF($O78=\"\",\"\",IF('データ入力（児童生徒）'!$L$3=\"\",INDEX('作業（児童生徒）'!$E$3:$CB$11,X$5,$O78),'データ入力（児童生徒）'!K78))","v":0},0]
[null,null,null,null,null,null,null,null,null,null,null,null,null,null,{"$f":"IF(N79>=1,COUNT($N$6:N79),\"\")","v":""},{"$f":"IF($O79=\"\",\"\",IF('データ入力（児童生徒）'!$L$3=\"\",INDEX('作業（児童生徒）'!$E$3:$CB$11,P$5,$O79),'データ入力（児童生徒）'!C79))","v":""},{"$f":"IF($O79=\"\",\"\",IF('データ入力（児童生徒）'!$L$3=\"\",INDEX('作業（児童生徒）'!$E$3:$CB$11,Q$5,$O79),'データ入力（児童生徒）'!D79))","v":""},{"$f":"IF($O79=\"\",\"\",IF('データ入力（児童生徒）'!$L$3=\"\",INDEX('作業（児童生徒）'!$E$3:$CB$11,R$5,$O79),'データ入力（児童生徒）'!E79))","v":""},{"$f":"IF($O79=\"\",\"\",IF('データ入力（児童生徒）'!$L$3=\"\",INDEX('作業（児童生徒）'!$E$3:$CB$11,S$5,$O79),'データ入力（児童生徒）'!F79))","v":""},{"$f":"IF($O79=\"\",\"\",IF('データ入力（児童生徒）'!$L$3=\"\",INDEX('作業（児童生徒）'!$E$3:$CB$11,T$5,$O79),'データ入力（児童生徒）'!G79))","v":""},{"$f":"IF($O79=\"\",\"\",IF('データ入力（児童生徒）'!$L$3=\"\",INDEX('作業（児童生徒）'!$E$3:$CB$11,U$5,$O79),'データ入力（児童生徒）'!H79))","v":""},{"$f":"IF($O79=\"\",\"\",IF('データ入力（児童生徒）'!$L$3=\"\",INDEX('作業（児童生徒）'!$E$3:$CB$11,V$5,$O79),'データ入力（児童生徒）'!I79))","v":""},{"$f":"IF($O79=\"\",\"\",IF('データ入力（児童生徒）'!$L$3=\"\",INDEX('作業（児童生徒）'!$E$3:$CB$11,W$5,$O79),'データ入力（児童生徒）'!J79))","v":""},{"$f":"IF($O79=\"\",\"\",IF('データ入力（児童生徒）'!$L$3=\"\",INDEX('作業（児童生徒）'!$E$3:$CB$11,X$5,$O79),'データ入力（児童生徒）'!K79))","v":""},""]
[null,"質問","使っていない","よくある","ときどきある","ほとんどない","全くない","無回答",null,null,null,null,null,null,{"$f":"IF(N80>=1,COUNT($N$6:N80),\"\")","v":""},{"$f":"IF($O80=\"\",\"\",IF('データ入力（児童生徒）'!$L$3=\"\",INDEX('作業（児童生徒）'!$E$3:$CB$11,P$5,$O80),'データ入力（児童生徒）'!C80))","v":""},{"$f":"IF($O80=\"\",\"\",IF('データ入力（児童生徒）'!$L$3=\"\",INDEX('作業（児童生徒）'!$E$3:$CB$11,Q$5,$O80),'データ入力（児童生徒）'!D80))","v":""},{"$f":"IF($O80=\"\",\"\",IF('データ入力（児童生徒）'!$L$3=\"\",INDEX('作業（児童生徒）'!$E$3:$CB$11,R$5,$O80),'データ入力（児童生徒）'!E80))","v":""},{"$f":"IF($O80=\"\",\"\",IF('データ入力（児童生徒）'!$L$3=\"\",INDEX('作業（児童生徒）'!$E$3:$CB$11,S$5,$O80),'データ入力（児童生徒）'!F80))","v":""},{"$f":"IF($O80=\"\",\"\",IF('データ入力（児童生徒）'!$L$3=\"\",INDEX('作業（児童生徒）'!$E$3:$CB$11,T$5,$O80),'データ入力（児童生徒）'!G80))","v":""},{"$f":"IF($O80=\"\",\"\",IF('データ入力（児童生徒）'!$L$3=\"\",INDEX('作業（児童生徒）'!$E$3:$CB$11,U$5,$O80),'データ入力（児童生徒）'!H80))","v":""},{"$f":"IF($O80=\"\",\"\",IF('データ入力（児童生徒）'!$L$3=\"\",INDEX('作業（児童生徒）'!$E$3:$CB$11,V$5,$O80),'データ入力（児童生徒）'!I80))","v":""},{"$f":"IF($O80=\"\",\"\",IF('データ入力（児童生徒）'!$L$3=\"\",INDEX('作業（児童生徒）'!$E$3:$CB$11,W$5,$O80),'データ入力（児童生徒）'!J80))","v":""},{"$f":"IF($O80=\"\",\"\",IF('データ入力（児童生徒）'!$L$3=\"\",INDEX('作業（児童生徒）'!$E$3:$CB$11,X$5,$O80),'データ入力（児童生徒）'!K80))","v":""},""]
["(16)","やりたいことがあるのにメールやメッセージが来て困ることがありますか",{"$f":"IFERROR(ROUND(P81/$P$3*100,1),\"\")","v":""},"","","","",{"$f":"IFERROR(ROUND($Y81/$P$3*100,1),\"\")","v":""},null,null,null,null,null,1,{"$f":"IF(N81>=1,COUNT($N$6:N81),\"\")","v":45},{"$f":"IF($O81=\"\",\"\",IF('データ入力（児童生徒）'!$L$3=\"\",INDEX('作業（児童生徒）'!$E$3:$CB$11,P$5,$O81),'データ入力（児童生徒）'!C81))","v":0},{"$f":"IF($O81=\"\",\"\",IF('データ入力（児童生徒）'!$L$3=\"\",INDEX('作業（児童生徒）'!$E$3:$CB$11,Q$5,$O81),'データ入力（児童生徒）'!D81))","v":0},{"$f":"IF($O81=\"\",\"\",IF('データ入力（児童生徒）'!$L$3=\"\",INDEX('作業（児童生徒）'!$E$3:$CB$11,R$5,$O81),'データ入力（児童生徒）'!E81))","v":0},{"$f":"IF($O81=\"\",\"\",IF('データ入力（児童生徒）'!$L$3=\"\",INDEX('作業（児童生徒）'!$E$3:$CB$11,S$5,$O81),'データ入力（児童生徒）'!F81))","v":0},{"$f":"IF($O81=\"\",\"\",IF('データ入力（児童生徒）'!$L$3=\"\",INDEX('作業（児童生徒）'!$E$3:$CB$11,T$5,$O81),'データ入力（児童生徒）'!G81))","v":0},{"$f":"IF($O81=\"\",\"\",IF('データ入力（児童生徒）'!$L$3=\"\",INDEX('作業（児童生徒）'!$E$3:$CB$11,U$5,$O81),'データ入力（児童生徒）'!H81))","v":0},{"$f":"IF($O81=\"\",\"\",IF('データ入力（児童生徒）'!$L$3=\"\",INDEX('作業（児童生徒）'!$E$3:$CB$11,V$5,$O81),'データ入力（児童生徒）'!I81))","v":0},{"$f":"IF($O81=\"\",\"\",IF('データ入力（児童生徒）'!$L$3=\"\",INDEX('作業（児童生徒）'!$E$3:$CB$11,W$5,$O81),'データ入力（児童生徒）'!J81))","v":0},{"$f":"IF($O81=\"\",\"\",IF('データ入力（児童生徒）'!$L$3=\"\",INDEX('作業（児童生徒）'!$E$3:$CB$11,X$5,$O81),'データ入力（児童生徒）'!K81))","v":0},0]
[null,null,null,null,null,null,null,null,null,null,null,null,null,null,{"$f":"IF(N82>=1,COUNT($N$6:N82),\"\")","v":""},{"$f":"IF($O82=\"\",\"\",IF('データ入力（児童生徒）'!$L$3=\"\",INDEX('作業（児童生徒）'!$E$3:$CB$11,P$5,$O82),'データ入力（児童生徒）'!C82))","v":""},{"$f":"IF($O82=\"\",\"\",IF('データ入力（児童生徒）'!$L$3=\"\",INDEX('作業（児童生徒）'!$E$3:$CB$11,Q$5,$O82),'データ入力（児童生徒）'!D82))","v":""},{"$f":"IF($O82=\"\",\"\",IF('データ入力（児童生徒）'!$L$3=\"\",INDEX('作業（児童生徒）'!$E$3:$CB$11,R$5,$O82),'データ入力（児童生徒）'!E82))","v":""},{"$f":"IF($O82=\"\",\"\",IF('データ入力（児童生徒）'!$L$3=\"\",INDEX('作業（児童生徒）'!$E$3:$CB$11,S$5,$O82),'データ入力（児童生徒）'!F82))","v":""},{"$f":"IF($O82=\"\",\"\",IF('データ入力（児童生徒）'!$L$3=\"\",INDEX('作業（児童生徒）'!$E$3:$CB$11,T$5,$O82),'データ入力（児童生徒）'!G82))","v":""},{"$f":"IF($O82=\"\",\"\",IF('データ入力（児童生徒）'!$L$3=\"\",INDEX('作業（児童生徒）'!$E$3:$CB$11,U$5,$O82),'データ入力（児童生徒）'!H82))","v":""},{"$f":"IF($O82=\"\",\"\",IF('データ入力（児童生徒）'!$L$3=\"\",INDEX('作業（児童生徒）'!$E$3:$CB$11,V$5,$O82),'データ入力（児童生徒）'!I82))","v":""},{"$f":"IF($O82=\"\",\"\",IF('データ入力（児童生徒）'!$L$3=\"\",INDEX('作業（児童生徒）'!$E$3:$CB$11,W$5,$O82),'データ入力（児童生徒）'!J82))","v":""},{"$f":"IF($O82=\"\",\"\",IF('データ入力（児童生徒）'!$L$3=\"\",INDEX('作業（児童生徒）'!$E$3:$CB$11,X$5,$O82),'データ入力（児童生徒）'!K82))","v":""},""]
[null,"質問","アプリケーション名",null,null,"割合",null,null,null,null,null,null,null,null,{"$f":"IF(N83>=1,COUNT($N$6:N83),\"\")","v":""},{"$f":"IF($O83=\"\",\"\",IF('データ入力（児童生徒）'!$L$3=\"\",INDEX('作業（児童生徒）'!$E$3:$CB$11,P$5,$O83),'データ入力（児童生徒）'!C83))","v":""},{"$f":"IF($O83=\"\",\"\",IF('データ入力（児童生徒）'!$L$3=\"\",INDEX('作業（児童生徒）'!$E$3:$CB$11,Q$5,$O83),'データ入力（児童生徒）'!D83))","v":""},{"$f":"IF($O83=\"\",\"\",IF('データ入力（児童生徒）'!$L$3=\"\",INDEX('作業（児童生徒）'!$E$3:$CB$11,R$5,$O83),'データ入力（児童生徒）'!E83))","v":""},{"$f":"IF($O83=\"\",\"\",IF('データ入力（児童生徒）'!$L$3=\"\",INDEX('作業（児童生徒）'!$E$3:$CB$11,S$5,$O83),'データ入力（児童生徒）'!F83))","v":""},{"$f":"IF($O83=\"\",\"\",IF('データ入力（児童生徒）'!$L$3=\"\",INDEX('作業（児童生徒）'!$E$3:$CB$11,T$5,$O83),'データ入力（児童生徒）'!G83))","v":""},{"$f":"IF($O83=\"\",\"\",IF('データ入力（児童生徒）'!$L$3=\"\",INDEX('作業（児童生徒）'!$E$3:$CB$11,U$5,$O83),'データ入力（児童生徒）'!H83))","v":""},{"$f":"IF($O83=\"\",\"\",IF('データ入力（児童生徒）'!$L$3=\"\",INDEX('作業（児童生徒）'!$E$3:$CB$11,V$5,$O83),'データ入力（児童生徒）'!I83))","v":""},{"$f":"IF($O83=\"\",\"\",IF('データ入力（児童生徒）'!$L$3=\"\",INDEX('作業（児童生徒）'!$E$3:$CB$11,W$5,$O83),'データ入力（児童生徒）'!J83))","v":""},{"$f":"IF($O83=\"\",\"\",IF('データ入力（児童生徒）'!$L$3=\"\",INDEX('作業（児童生徒）'!$E$3:$CB$11,X$5,$O83),'データ入力（児童生徒）'!K83))","v":""},""]
["(17)","SNSで知り合った人はいますか知り合った人がいる場合は、どのSNSで知り合いましたか","知り合ったことはない",null,null,{"$f":"IFERROR(ROUND(P84/$P$3*100,1),\"\")","v":""},null,null,null,null,null,null,null,1,{"$f":"IF(N84>=1,COUNT($N$6:N84),\"\")","v":46},{"$f":"IF($O84=\"\",\"\",IF('データ入力（児童生徒）'!$L$3=\"\",INDEX('作業（児童生徒）'!$E$3:$CB$11,P$5,$O84),'データ入力（児童生徒）'!F84))","v":0},{"$f":"IF($O84=\"\",\"\",IF('データ入力（児童生徒）'!$L$3=\"\",INDEX('作業（児童生徒）'!$E$3:$CB$11,Q$5,$O84),'データ入力（児童生徒）'!G84))","v":0},{"$f":"IF($O84=\"\",\"\",IF('データ入力（児童生徒）'!$L$3=\"\",INDEX('作業（児童生徒）'!$E$3:$CB$11,R$5,$O84),'データ入力（児童生徒）'!H84))","v":0},{"$f":"IF($O84=\"\",\"\",IF('データ入力（児童生徒）'!$L$3=\"\",INDEX('作業（児童生徒）'!$E$3:$CB$11,S$5,$O84),'データ入力（児童生徒）'!I84))","v":0},{"$f":"IF($O84=\"\",\"\",IF('データ入力（児童生徒）'!$L$3=\"\",INDEX('作業（児童生徒）'!$E$3:$CB$11,T$5,$O84),'データ入力（児童生徒）'!J84))","v":0},{"$f":"IF($O84=\"\",\"\",IF('データ入力（児童生徒）'!$L$3=\"\",INDEX('作業（児童生徒）'!$E$3:$CB$11,U$5,$O84),'データ入力（児童生徒）'!K84))","v":0},{"$f":"IF($O84=\"\",\"\",IF('データ入力（児童生徒）'!$L$3=\"\",INDEX('作業（児童生徒）'!$E$3:$CB$11,V$5,$O84),'データ入力（児童生徒）'!L84))","v":0},{"$f":"IF($O84=\"\",\"\",IF('データ入力（児童生徒）'!$L$3=\"\",INDEX('作業（児童生徒）'!$E$3:$CB$11,W$5,$O84),'データ入力（児童生徒）'!M84))","v":0},{"$f":"IF($O84=\"\",\"\",IF('データ入力（児童生徒）'!$L$3=\"\",INDEX('作業（児童生徒）'!$E$3:$CB$11,X$5,$O84),'データ入力（児童生徒）'!N84))","v":0},0]
[null,null,"LINE",null,null,{"$f":"IFERROR(ROUND(P85/$P$3*100,1),\"\")","v":""},null,null,null,null,null,null,null,1,{"$f":"IF(N85>=1,COUNT($N$6:N85),\"\")","v":47},{"$f":"IF($O85=\"\",\"\",IF('データ入力（児童生徒）'!$L$3=\"\",INDEX('作業（児童生徒）'!$E$3:$CB$11,P$5,$O85),'データ入力（児童生徒）'!F85))","v":0},{"$f":"IF($O85=\"\",\"\",IF('データ入力（児童生徒）'!$L$3=\"\",INDEX('作業（児童生徒）'!$E$3:$CB$11,Q$5,$O85),'データ入力（児童生徒）'!G85))","v":0},{"$f":"IF($O85=\"\",\"\",IF('データ入力（児童生徒）'!$L$3=\"\",INDEX('作業（児童生徒）'!$E$3:$CB$11,R$5,$O85),'データ入力（児童生徒）'!H85))","v":0},{"$f":"IF($O85=\"\",\"\",IF('データ入力（児童生徒）'!$L$3=\"\",INDEX('作業（児童生徒）'!$E$3:$CB$11,S$5,$O85),'データ入力（児童生徒）'!I85))","v":0},{"$f":"IF($O85=\"\",\"\",IF('データ入力（児童生徒）'!$L$3=\"\",INDEX('作業（児童生徒）'!$E$3:$CB$11,T$5,$O85),'データ入力（児童生徒）'!J85))","v":0},{"$f":"IF($O85=\"\",\"\",IF('データ入力（児童生徒）'!$L$3=\"\",INDEX('作業（児童生徒）'!$E$3:$CB$11,U$5,$O85),'データ入力（児童生徒）'!K85))","v":0},{"$f":"IF($O85=\"\",\"\",IF('データ入力（児童生徒）'!$L$3=\"\",INDEX('作業（児童生徒）'!$E$3:$CB$11,V$5,$O85),'データ入力（児童生徒）'!L85))","v":0},{"$f":"IF($O85=\"\",\"\",IF('データ入力（児童生徒）'!$L$3=\"\",INDEX('作業（児童生徒）'!$E$3:$CB$11,W$5,$O85),'データ入力（児童生徒）'!M85))","v":0},{"$f":"IF($O85=\"\",\"\",IF('データ入力（児童生徒）'!$L$3=\"\",INDEX('作業（児童生徒）'!$E$3:$CB$11,X$5,$O85),'データ入力（児童生徒）'!N85))","v":0},0]
[null,null,"Twitter",null,null,"",null,null,null,null,null,null,null,1,{"$f":"IF(N86>=1,COUNT($N$6:N86),\"\")","v":48},{"$f":"IF($O86=\"\",\"\",IF('データ入力（児童生徒）'!$L$3=\"\",INDEX('作業（児童生徒）'!$E$3:$CB$11,P$5,$O86),'データ入力（児童生徒）'!F86))","v":0},{"$f":"IF($O86=\"\",\"\",IF('データ入力（児童生徒）'!$L$3=\"\",INDEX('作業（児童生徒）'!$E$3:$CB$11,Q$5,$O86),'データ入力（児童生徒）'!G86))","v":0},{"$f":"IF($O86=\"\",\"\",IF('データ入力（児童生徒）'!$L$3=\"\",INDEX('作業（児童生徒）'!$E$3:$CB$11,R$5,$O86),'データ入力（児童生徒）'!H86))","v":0},{"$f":"IF($O86=\"\",\"\",IF('データ入力（児童生徒）'!$L$3=\"\",INDEX('作業（児童生徒）'!$E$3:$CB$11,S$5,$O86),'データ入力（児童生徒）'!I86))","v":0},{"$f":"IF($O86=\"\",\"\",IF('データ入力（児童生徒）'!$L$3=\"\",INDEX('作業（児童生徒）'!$E$3:$CB$11,T$5,$O86),'データ入力（児童生徒）'!J86))","v":0},{"$f":"IF($O86=\"\",\"\",IF('データ入力（児童生徒）'!$L$3=\"\",INDEX('作業（児童生徒）'!$E$3:$CB$11,U$5,$O86),'データ入力（児童生徒）'!K86))","v":0},{"$f":"IF($O86=\"\",\"\",IF('データ入力（児童生徒）'!$L$3=\"\",INDEX('作業（児童生徒）'!$E$3:$CB$11,V$5,$O86),'データ入力（児童生徒）'!L86))","v":0},{"$f":"IF($O86=\"\",\"\",IF('データ入力（児童生徒）'!$L$3=\"\",INDEX('作業（児童生徒）'!$E$3:$CB$11,W$5,$O86),'データ入力（児童生徒）'!M86))","v":0},{"$f":"IF($O86=\"\",\"\",IF('データ入力（児童生徒）'!$L$3=\"\",INDEX('作業（児童生徒）'!$E$3:$CB$11,X$5,$O86),'データ入力（児童生徒）'!N86))","v":0},0]
[null,null,"Instagram",null,null,"",null,null,null,null,null,null,null,1,{"$f":"IF(N87>=1,COUNT($N$6:N87),\"\")","v":49},{"$f":"IF($O87=\"\",\"\",IF('データ入力（児童生徒）'!$L$3=\"\",INDEX('作業（児童生徒）'!$E$3:$CB$11,P$5,$O87),'データ入力（児童生徒）'!F87))","v":0},{"$f":"IF($O87=\"\",\"\",IF('データ入力（児童生徒）'!$L$3=\"\",INDEX('作業（児童生徒）'!$E$3:$CB$11,Q$5,$O87),'データ入力（児童生徒）'!G87))","v":0},{"$f":"IF($O87=\"\",\"\",IF('データ入力（児童生徒）'!$L$3=\"\",INDEX('作業（児童生徒）'!$E$3:$CB$11,R$5,$O87),'データ入力（児童生徒）'!H87))","v":0},{"$f":"IF($O87=\"\",\"\",IF('データ入力（児童生徒）'!$L$3=\"\",INDEX('作業（児童生徒）'!$E$3:$CB$11,S$5,$O87),'データ入力（児童生徒）'!I87))","v":0},{"$f":"IF($O87=\"\",\"\",IF('データ入力（児童生徒）'!$L$3=\"\",INDEX('作業（児童生徒）'!$E$3:$CB$11,T$5,$O87),'データ入力（児童生徒）'!J87))","v":0},{"$f":"IF($O87=\"\",\"\",IF('データ入力（児童生徒）'!$L$3=\"\",INDEX('作業（児童生徒）'!$E$3:$CB$11,U$5,$O87),'データ入力（児童生徒）'!K87))","v":0},{"$f":"IF($O87=\"\",\"\",IF('データ入力（児童生徒）'!$L$3=\"\",INDEX('作業（児童生徒）'!$E$3:$CB$11,V$5,$O87),'データ入力（児童生徒）'!L87))","v":0},{"$f":"IF($O87=\"\",\"\",IF('データ入力（児童生徒）'!$L$3=\"\",INDEX('作業（児童生徒）'!$E$3:$CB$11,W$5,$O87),'データ入力（児童生徒）'!M87))","v":0},{"$f":"IF($O87=\"\",\"\",IF('データ入力（児童生徒）'!$L$3=\"\",INDEX('作業（児童生徒）'!$E$3:$CB$11,X$5,$O87),'データ入力（児童生徒）'!N87))","v":0},0]
[null,null,"TikTok",null,null,"",null,null,null,null,null,null,null,1,{"$f":"IF(N88>=1,COUNT($N$6:N88),\"\")","v":50},{"$f":"IF($O88=\"\",\"\",IF('データ入力（児童生徒）'!$L$3=\"\",INDEX('作業（児童生徒）'!$E$3:$CB$11,P$5,$O88),'データ入力（児童生徒）'!F88))","v":0},{"$f":"IF($O88=\"\",\"\",IF('データ入力（児童生徒）'!$L$3=\"\",INDEX('作業（児童生徒）'!$E$3:$CB$11,Q$5,$O88),'データ入力（児童生徒）'!G88))","v":0},{"$f":"IF($O88=\"\",\"\",IF('データ入力（児童生徒）'!$L$3=\"\",INDEX('作業（児童生徒）'!$E$3:$CB$11,R$5,$O88),'データ入力（児童生徒）'!H88))","v":0},{"$f":"IF($O88=\"\",\"\",IF('データ入力（児童生徒）'!$L$3=\"\",INDEX('作業（児童生徒）'!$E$3:$CB$11,S$5,$O88),'データ入力（児童生徒）'!I88))","v":0},{"$f":"IF($O88=\"\",\"\",IF('データ入力（児童生徒）'!$L$3=\"\",INDEX('作業（児童生徒）'!$E$3:$CB$11,T$5,$O88),'データ入力（児童生徒）'!J88))","v":0},{"$f":"IF($O88=\"\",\"\",IF('データ入力（児童生徒）'!$L$3=\"\",INDEX('作業（児童生徒）'!$E$3:$CB$11,U$5,$O88),'データ入力（児童生徒）'!K88))","v":0},{"$f":"IF($O88=\"\",\"\",IF('データ入力（児童生徒）'!$L$3=\"\",INDEX('作業（児童生徒）'!$E$3:$CB$11,V$5,$O88),'データ入力（児童生徒）'!L88))","v":0},{"$f":"IF($O88=\"\",\"\",IF('データ入力（児童生徒）'!$L$3=\"\",INDEX('作業（児童生徒）'!$E$3:$CB$11,W$5,$O88),'データ入力（児童生徒）'!M88))","v":0},{"$f":"IF($O88=\"\",\"\",IF('データ入力（児童生徒）'!$L$3=\"\",INDEX('作業（児童生徒）'!$E$3:$CB$11,X$5,$O88),'データ入力（児童生徒）'!N88))","v":0},0]
[null,null,"その他",null,null,"",null,null,null,null,null,null,null,1,{"$f":"IF(N89>=1,COUNT($N$6:N89),\"\")","v":51},{"$f":"IF($O89=\"\",\"\",IF('データ入力（児童生徒）'!$L$3=\"\",INDEX('作業（児童生徒）'!$E$3:$CB$11,P$5,$O89),'データ入力（児童生徒）'!F89))","v":0},{"$f":"IF($O89=\"\",\"\",IF('データ入力（児童生徒）'!$L$3=\"\",INDEX('作業（児童生徒）'!$E$3:$CB$11,Q$5,$O89),'データ入力（児童生徒）'!G89))","v":0},{"$f":"IF($O89=\"\",\"\",IF('データ入力（児童生徒）'!$L$3=\"\",INDEX('作業（児童生徒）'!$E$3:$CB$11,R$5,$O89),'データ入力（児童生徒）'!H89))","v":0},{"$f":"IF($O89=\"\",\"\",IF('データ入力（児童生徒）'!$L$3=\"\",INDEX('作業（児童生徒）'!$E$3:$CB$11,S$5,$O89),'データ入力（児童生徒）'!I89))","v":0},{"$f":"IF($O89=\"\",\"\",IF('データ入力（児童生徒）'!$L$3=\"\",INDEX('作業（児童生徒）'!$E$3:$CB$11,T$5,$O89),'データ入力（児童生徒）'!J89))","v":0},{"$f":"IF($O89=\"\",\"\",IF('データ入力（児童生徒）'!$L$3=\"\",INDEX('作業（児童生徒）'!$E$3:$CB$11,U$5,$O89),'データ入力（児童生徒）'!K89))","v":0},{"$f":"IF($O89=\"\",\"\",IF('データ入力（児童生徒）'!$L$3=\"\",INDEX('作業（児童生徒）'!$E$3:$CB$11,V$5,$O89),'データ入力（児童生徒）'!L89))","v":0},{"$f":"IF($O89=\"\",\"\",IF('データ入力（児童生徒）'!$L$3=\"\",INDEX('作業（児童生徒）'!$E$3:$CB$11,W$5,$O89),'データ入力（児童生徒）'!M89))","v":0},{"$f":"IF($O89=\"\",\"\",IF('データ入力（児童生徒）'!$L$3=\"\",INDEX('作業（児童生徒）'!$E$3:$CB$11,X$5,$O89),'データ入力（児童生徒）'!N89))","v":0},0]
[null,null,null,null,null,null,null,null,null,null,null,null,null,null,{"$f":"IF(N90>=1,COUNT($N$6:N90),\"\")","v":""},{"$f":"IF($O90=\"\",\"\",IF('データ入力（児童生徒）'!$L$3=\"\",INDEX('作業（児童生徒）'!$E$3:$CB$11,P$5,$O90),'データ入力（児童生徒）'!C90))","v":""},{"$f":"IF($O90=\"\",\"\",IF('データ入力（児童生徒）'!$L$3=\"\",INDEX('作業（児童生徒）'!$E$3:$CB$11,Q$5,$O90),'データ入力（児童生徒）'!D90))","v":""},{"$f":"IF($O90=\"\",\"\",IF('データ入力（児童生徒）'!$L$3=\"\",INDEX('作業（児童生徒）'!$E$3:$CB$11,R$5,$O90),'データ入力（児童生徒）'!E90))","v":""},{"$f":"IF($O90=\"\",\"\",IF('データ入力（児童生徒）'!$L$3=\"\",INDEX('作業（児童生徒）'!$E$3:$CB$11,S$5,$O90),'データ入力（児童生徒）'!F90))","v":""},{"$f":"IF($O90=\"\",\"\",IF('データ入力（児童生徒）'!$L$3=\"\",INDEX('作業（児童生徒）'!$E$3:$CB$11,T$5,$O90),'データ入力（児童生徒）'!G90))","v":""},{"$f":"IF($O90=\"\",\"\",IF('データ入力（児童生徒）'!$L$3=\"\",INDEX('作業（児童生徒）'!$E$3:$CB$11,U$5,$O90),'データ入力（児童生徒）'!H90))","v":""},{"$f":"IF($O90=\"\",\"\",IF('データ入力（児童生徒）'!$L$3=\"\",INDEX('作業（児童生徒）'!$E$3:$CB$11,V$5,$O90),'データ入力（児童生徒）'!I90))","v":""},{"$f":"IF($O90=\"\",\"\",IF('データ入力（児童生徒）'!$L$3=\"\",INDEX('作業（児童生徒）'!$E$3:$CB$11,W$5,$O90),'データ入力（児童生徒）'!J90))","v":""},{"$f":"IF($O90=\"\",\"\",IF('データ入力（児童生徒）'!$L$3=\"\",INDEX('作業（児童生徒）'!$E$3:$CB$11,X$5,$O90),'データ入力（児童生徒）'!K90))","v":""},""]
[null,"質問","知り合ったことはない","ある","ない","無回答",null,null,null,null,null,null,null,null,{"$f":"IF(N91>=1,COUNT($N$6:N91),\"\")","v":""},{"$f":"IF($O91=\"\",\"\",IF('データ入力（児童生徒）'!$L$3=\"\",INDEX('作業（児童生徒）'!$E$3:$CB$11,P$5,$O91),'データ入力（児童生徒）'!C91))","v":""},{"$f":"IF($O91=\"\",\"\",IF('データ入力（児童生徒）'!$L$3=\"\",INDEX('作業（児童生徒）'!$E$3:$CB$11,Q$5,$O91),'データ入力（児童生徒）'!D91))","v":""},{"$f":"IF($O91=\"\",\"\",IF('データ入力（児童生徒）'!$L$3=\"\",INDEX('作業（児童生徒）'!$E$3:$CB$11,R$5,$O91),'データ入力（児童生徒）'!E91))","v":""},{"$f":"IF($O91=\"\",\"\",IF('データ入力（児童生徒）'!$L$3=\"\",INDEX('作業（児童生徒）'!$E$3:$CB$11,S$5,$O91),'データ入力（児童生徒）'!F91))","v":""},{"$f":"IF($O91=\"\",\"\",IF('データ入力（児童生徒）'!$L$3=\"\",INDEX('作業（児童生徒）'!$E$3:$CB$11,T$5,$O91),'データ入力（児童生徒）'!G91))","v":""},{"$f":"IF($O91=\"\",\"\",IF('データ入力（児童生徒）'!$L$3=\"\",INDEX('作業（児童生徒）'!$E$3:$CB$11,U$5,$O91),'データ入力（児童生徒）'!H91))","v":""},{"$f":"IF($O91=\"\",\"\",IF('データ入力（児童生徒）'!$L$3=\"\",INDEX('作業（児童生徒）'!$E$3:$CB$11,V$5,$O91),'データ入力（児童生徒）'!I91))","v":""},{"$f":"IF($O91=\"\",\"\",IF('データ入力（児童生徒）'!$L$3=\"\",INDEX('作業（児童生徒）'!$E$3:$CB$11,W$5,$O91),'データ入力（児童生徒）'!J91))","v":""},{"$f":"IF($O91=\"\",\"\",IF('データ入力（児童生徒）'!$L$3=\"\",INDEX('作業（児童生徒）'!$E$3:$CB$11,X$5,$O91),'データ入力（児童生徒）'!K91))","v":""},""]
["(18)","SNSで知り合った人に自分の電話番号、またはラインのアカウントなどを教えたことがありますか",{"$f":"IFERROR(ROUND(P92/$P$3*100,1),\"\")","v":""},{"$f":"IFERROR(ROUND(Q92/$P$3*100,1),\"\")","v":""},{"$f":"IFERROR(ROUND(R92/$P$3*100,1),\"\")","v":""},{"$f":"IFERROR(ROUND($Y92/$P$3*100,1),\"\")","v":""},null,null,null,null,null,null,null,1,{"$f":"IF(N92>=1,COUNT($N$6:N92),\"\")","v":52},{"$f":"IF($O92=\"\",\"\",IF('データ入力（児童生徒）'!$L$3=\"\",INDEX('作業（児童生徒）'!$E$3:$CB$11,P$5,$O92),'データ入力（児童生徒）'!C92))","v":0},{"$f":"IF($O92=\"\",\"\",IF('データ入力（児童生徒）'!$L$3=\"\",INDEX('作業（児童生徒）'!$E$3:$CB$11,Q$5,$O92),'データ入力（児童生徒）'!D92))","v":0},{"$f":"IF($O92=\"\",\"\",IF('データ入力（児童生徒）'!$L$3=\"\",INDEX('作業（児童生徒）'!$E$3:$CB$11,R$5,$O92),'データ入力（児童生徒）'!E92))","v":0},{"$f":"IF($O92=\"\",\"\",IF('データ入力（児童生徒）'!$L$3=\"\",INDEX('作業（児童生徒）'!$E$3:$CB$11,S$5,$O92),'データ入力（児童生徒）'!F92))","v":0},{"$f":"IF($O92=\"\",\"\",IF('データ入力（児童生徒）'!$L$3=\"\",INDEX('作業（児童生徒）'!$E$3:$CB$11,T$5,$O92),'データ入力（児童生徒）'!G92))","v":0},{"$f":"IF($O92=\"\",\"\",IF('データ入力（児童生徒）'!$L$3=\"\",INDEX('作業（児童生徒）'!$E$3:$CB$11,U$5,$O92),'データ入力（児童生徒）'!H92))","v":0},{"$f":"IF($O92=\"\",\"\",IF('データ入力（児童生徒）'!$L$3=\"\",INDEX('作業（児童生徒）'!$E$3:$CB$11,V$5,$O92),'データ入力（児童生徒）'!I92))","v":0},{"$f":"IF($O92=\"\",\"\",IF('データ入力（児童生徒）'!$L$3=\"\",INDEX('作業（児童生徒）'!$E$3:$CB$11,W$5,$O92),'データ入力（児童生徒）'!J92))","v":0},{"$f":"IF($O92=\"\",\"\",IF('データ入力（児童生徒）'!$L$3=\"\",INDEX('作業（児童生徒）'!$E$3:$CB$11,X$5,$O92),'データ入力（児童生徒）'!K92))","v":0},0]
["(19)","SNSで知り合った人と実際に会ったことがありますか","","","","",null,null,null,null,null,null,null,1,{"$f":"IF(N93>=1,COUNT($N$6:N93),\"\")","v":53},{"$f":"IF($O93=\"\",\"\",IF('データ入力（児童生徒）'!$L$3=\"\",INDEX('作業（児童生徒）'!$E$3:$CB$11,P$5,$O93),'データ入力（児童生徒）'!C93))","v":0},{"$f":"IF($O93=\"\",\"\",IF('データ入力（児童生徒）'!$L$3=\"\",INDEX('作業（児童生徒）'!$E$3:$CB$11,Q$5,$O93),'データ入力（児童生徒）'!D93))","v":0},{"$f":"IF($O93=\"\",\"\",IF('データ入力（児童生徒）'!$L$3=\"\",INDEX('作業（児童生徒）'!$E$3:$CB$11,R$5,$O93),'データ入力（児童生徒）'!E93))","v":0},{"$f":"IF($O93=\"\",\"\",IF('データ入力（児童生徒）'!$L$3=\"\",INDEX('作業（児童生徒）'!$E$3:$CB$11,S$5,$O93),'データ入力（児童生徒）'!F93))","v":0},{"$f":"IF($O93=\"\",\"\",IF('データ入力（児童生徒）'!$L$3=\"\",INDEX('作業（児童生徒）'!$E$3:$CB$11,T$5,$O93),'データ入力（児童生徒）'!G93))","v":0},{"$f":"IF($O93=\"\",\"\",IF('データ入力（児童生徒）'!$L$3=\"\",INDEX('作業（児童生徒）'!$E$3:$CB$11,U$5,$O93),'データ入力（児童生徒）'!H93))","v":0},{"$f":"IF($O93=\"\",\"\",IF('データ入力（児童生徒）'!$L$3=\"\",INDEX('作業（児童生徒）'!$E$3:$CB$11,V$5,$O93),'データ入力（児童生徒）'!I93))","v":0},{"$f":"IF($O93=\"\",\"\",IF('データ入力（児童生徒）'!$L$3=\"\",INDEX('作業（児童生徒）'!$E$3:$CB$11,W$5,$O93),'データ入力（児童生徒）'!J93))","v":0},{"$f":"IF($O93=\"\",\"\",IF('データ入力（児童生徒）'!$L$3=\"\",INDEX('作業（児童生徒）'!$E$3:$CB$11,X$5,$O93),'データ入力（児童生徒）'!K93))","v":0},0]
["【インターネットで起きたトラブル】についての質問",null,null,null,null,null,null,null,null,null,null,null,null,null,{"$f":"IF(N94>=1,COUNT($N$6:N94),\"\")","v":""},{"$f":"IF($O94=\"\",\"\",IF('データ入力（児童生徒）'!$L$3=\"\",INDEX('作業（児童生徒）'!$E$3:$CB$11,P$5,$O94),'データ入力（児童生徒）'!C94))","v":""},{"$f":"IF($O94=\"\",\"\",IF('データ入力（児童生徒）'!$L$3=\"\",INDEX('作業（児童生徒）'!$E$3:$CB$11,Q$5,$O94),'データ入力（児童生徒）'!D94))","v":""},{"$f":"IF($O94=\"\",\"\",IF('データ入力（児童生徒）'!$L$3=\"\",INDEX('作業（児童生徒）'!$E$3:$CB$11,R$5,$O94),'データ入力（児童生徒）'!E94))","v":""},{"$f":"IF($O94=\"\",\"\",IF('データ入力（児童生徒）'!$L$3=\"\",INDEX('作業（児童生徒）'!$E$3:$CB$11,S$5,$O94),'データ入力（児童生徒）'!F94))","v":""},{"$f":"IF($O94=\"\",\"\",IF('データ入力（児童生徒）'!$L$3=\"\",INDEX('作業（児童生徒）'!$E$3:$CB$11,T$5,$O94),'データ入力（児童生徒）'!G94))","v":""},{"$f":"IF($O94=\"\",\"\",IF('データ入力（児童生徒）'!$L$3=\"\",INDEX('作業（児童生徒）'!$E$3:$CB$11,U$5,$O94),'データ入力（児童生徒）'!H94))","v":""},{"$f":"IF($O94=\"\",\"\",IF('データ入力（児童生徒）'!$L$3=\"\",INDEX('作業（児童生徒）'!$E$3:$CB$11,V$5,$O94),'データ入力（児童生徒）'!I94))","v":""},{"$f":"IF($O94=\"\",\"\",IF('データ入力（児童生徒）'!$L$3=\"\",INDEX('作業（児童生徒）'!$E$3:$CB$11,W$5,$O94),'データ入力（児童生徒）'!J94))","v":""},{"$f":"IF($O94=\"\",\"\",IF('データ入力（児童生徒）'!$L$3=\"\",INDEX('作業（児童生徒）'!$E$3:$CB$11,X$5,$O94),'データ入力（児童生徒）'!K94))","v":""},""]
[null,"質問","使っていない","はい","いいえ","無回答",null,null,null,null,null,null,null,null,{"$f":"IF(N95>=1,COUNT($N$6:N95),\"\")","v":""},{"$f":"IF($O95=\"\",\"\",IF('データ入力（児童生徒）'!$L$3=\"\",INDEX('作業（児童生徒）'!$E$3:$CB$11,P$5,$O95),'データ入力（児童生徒）'!C95))","v":""},{"$f":"IF($O95=\"\",\"\",IF('データ入力（児童生徒）'!$L$3=\"\",INDEX('作業（児童生徒）'!$E$3:$CB$11,Q$5,$O95),'データ入力（児童生徒）'!D95))","v":""},{"$f":"IF($O95=\"\",\"\",IF('データ入力（児童生徒）'!$L$3=\"\",INDEX('作業（児童生徒）'!$E$3:$CB$11,R$5,$O95),'データ入力（児童生徒）'!E95))","v":""},{"$f":"IF($O95=\"\",\"\",IF('データ入力（児童生徒）'!$L$3=\"\",INDEX('作業（児童生徒）'!$E$3:$CB$11,S$5,$O95),'データ入力（児童生徒）'!F95))","v":""},{"$f":"IF($O95=\"\",\"\",IF('データ入力（児童生徒）'!$L$3=\"\",INDEX('作業（児童生徒）'!$E$3:$CB$11,T$5,$O95),'データ入力（児童生徒）'!G95))","v":""},{"$f":"IF($O95=\"\",\"\",IF('データ入力（児童生徒）'!$L$3=\"\",INDEX('作業（児童生徒）'!$E$3:$CB$11,U$5,$O95),'データ入力（児童生徒）'!H95))","v":""},{"$f":"IF($O95=\"\",\"\",IF('データ入力（児童生徒）'!$L$3=\"\",INDEX('作業（児童生徒）'!$E$3:$CB$11,V$5,$O95),'データ入力（児童生徒）'!I95))","v":""},{"$f":"IF($O95=\"\",\"\",IF('データ入力（児童生徒）'!$L$3=\"\",INDEX('作業（児童生徒）'!$E$3:$CB$11,W$5,$O95),'データ入力（児童生徒）'!J95))","v":""},{"$f":"IF($O95=\"\",\"\",IF('データ入力（児童生徒）'!$L$3=\"\",INDEX('作業（児童生徒）'!$E$3:$CB$11,X$5,$O95),'データ入力（児童生徒）'!K95))","v":""},""]
["(20)-1","悪口や嫌がらせのメールを送られたり、SNS・ブログ・プロフなどに書き込まれたりしたことがある",{"$f":"IFERROR(ROUND(P96/$P$3*100,1),\"\")","v":""},{"$f":"IFERROR(ROUND(Q96/$P$3*100,1),\"\")","v":""},{"$f":"IFERROR(ROUND(R96/$P$3*100,1),\"\")","v":""},{"$f":"IFERROR(ROUND($Y96/$P$3*100,1),\"\")","v":""},null,null,null,null,null,null,null,1,{"$f":"IF(N96>=1,COUNT($N$6:N96),\"\")","v":54},{"$f":"IF($O96=\"\",\"\",IF('データ入力（児童生徒）'!$L$3=\"\",INDEX('作業（児童生徒）'!$E$3:$CB$11,P$5,$O96),'データ入力（児童生徒）'!C96))","v":0},{"$f":"IF($O96=\"\",\"\",IF('データ入力（児童生徒）'!$L$3=\"\",INDEX('作業（児童生徒）'!$E$3:$CB$11,Q$5,$O96),'データ入力（児童生徒）'!D96))","v":0},{"$f":"IF($O96=\"\",\"\",IF('データ入力（児童生徒）'!$L$3=\"\",INDEX('作業（児童生徒）'!$E$3:$CB$11,R$5,$O96),'データ入力（児童生徒）'!E96))","v":0},{"$f":"IF($O96=\"\",\"\",IF('データ入力（児童生徒）'!$L$3=\"\",INDEX('作業（児童生徒）'!$E$3:$CB$11,S$5,$O96),'データ入力（児童生徒）'!F96))","v":0},{"$f":"IF($O96=\"\",\"\",IF('データ入力（児童生徒）'!$L$3=\"\",INDEX('作業（児童生徒）'!$E$3:$CB$11,T$5,$O96),'データ入力（児童生徒）'!G96))","v":0},{"$f":"IF($O96=\"\",\"\",IF('データ入力（児童生徒）'!$L$3=\"\",INDEX('作業（児童生徒）'!$E$3:$CB$11,U$5,$O96),'データ入力（児童生徒）'!H96))","v":0},{"$f":"IF($O96=\"\",\"\",IF('データ入力（児童生徒）'!$L$3=\"\",INDEX('作業（児童生徒）'!$E$3:$CB$11,V$5,$O96),'データ入力（児童生徒）'!I96))","v":0},{"$f":"IF($O96=\"\",\"\",IF('データ入力（児童生徒）'!$L$3=\"\",INDEX('作業（児童生徒）'!$E$3:$CB$11,W$5,$O96),'データ入力（児童生徒）'!J96))","v":0},{"$f":"IF($O96=\"\",\"\",IF('データ入力（児童生徒）'!$L$3=\"\",INDEX('作業（児童生徒）'!$E$3:$CB$11,X$5,$O96),'データ入力（児童生徒）'!K96))","v":0},0]
["(20)-2"," 悪口や嫌がらせのメールを送ったり、SNS・ブログ・プロフなどに書き込んだりしたことがある","","","","",null,null,null,null,null,null,null,1,{"$f":"IF(N97>=1,COUNT($N$6:N97),\"\")","v":55},{"$f":"IF($O97=\"\",\"\",IF('データ入力（児童生徒）'!$L$3=\"\",INDEX('作業（児童生徒）'!$E$3:$CB$11,P$5,$O97),'データ入力（児童生徒）'!C97))","v":0},{"$f":"IF($O97=\"\",\"\",IF('データ入力（児童生徒）'!$L$3=\"\",INDEX('作業（児童生徒）'!$E$3:$CB$11,Q$5,$O97),'データ入力（児童生徒）'!D97))","v":0},{"$f":"IF($O97=\"\",\"\",IF('データ入力（児童生徒）'!$L$3=\"\",INDEX('作業（児童生徒）'!$E$3:$CB$11,R$5,$O97),'データ入力（児童生徒）'!E97))","v":0},{"$f":"IF($O97=\"\",\"\",IF('データ入力（児童生徒）'!$L$3=\"\",INDEX('作業（児童生徒）'!$E$3:$CB$11,S$5,$O97),'データ入力（児童生徒）'!F97))","v":0},{"$f":"IF($O97=\"\",\"\",IF('データ入力（児童生徒）'!$L$3=\"\",INDEX('作業（児童生徒）'!$E$3:$CB$11,T$5,$O97),'データ入力（児童生徒）'!G97))","v":0},{"$f":"IF($O97=\"\",\"\",IF('データ入力（児童生徒）'!$L$3=\"\",INDEX('作業（児童生徒）'!$E$3:$CB$11,U$5,$O97),'データ入力（児童生徒）'!H97))","v":0},{"$f":"IF($O97=\"\",\"\",IF('データ入力（児童生徒）'!$L$3=\"\",INDEX('作業（児童生徒）'!$E$3:$CB$11,V$5,$O97),'データ入力（児童生徒）'!I97))","v":0},{"$f":"IF($O97=\"\",\"\",IF('データ入力（児童生徒）'!$L$3=\"\",INDEX('作業（児童生徒）'!$E$3:$CB$11,W$5,$O97),'データ入力（児童生徒）'!J97))","v":0},{"$f":"IF($O97=\"\",\"\",IF('データ入力（児童生徒）'!$L$3=\"\",INDEX('作業（児童生徒）'!$E$3:$CB$11,X$5,$O97),'データ入力（児童生徒）'!K97))","v":0},0]
["(20)-3","迷惑な内容（アダルトサイトからの通知や、不安になる内容など）が送られてきたことがある","","","","",null,null,null,null,null,null,null,1,{"$f":"IF(N98>=1,COUNT($N$6:N98),\"\")","v":56},{"$f":"IF($O98=\"\",\"\",IF('データ入力（児童生徒）'!$L$3=\"\",INDEX('作業（児童生徒）'!$E$3:$CB$11,P$5,$O98),'データ入力（児童生徒）'!C98))","v":0},{"$f":"IF($O98=\"\",\"\",IF('データ入力（児童生徒）'!$L$3=\"\",INDEX('作業（児童生徒）'!$E$3:$CB$11,Q$5,$O98),'データ入力（児童生徒）'!D98))","v":0},{"$f":"IF($O98=\"\",\"\",IF('データ入力（児童生徒）'!$L$3=\"\",INDEX('作業（児童生徒）'!$E$3:$CB$11,R$5,$O98),'データ入力（児童生徒）'!E98))","v":0},{"$f":"IF($O98=\"\",\"\",IF('データ入力（児童生徒）'!$L$3=\"\",INDEX('作業（児童生徒）'!$E$3:$CB$11,S$5,$O98),'データ入力（児童生徒）'!F98))","v":0},{"$f":"IF($O98=\"\",\"\",IF('データ入力（児童生徒）'!$L$3=\"\",INDEX('作業（児童生徒）'!$E$3:$CB$11,T$5,$O98),'データ入力（児童生徒）'!G98))","v":0},{"$f":"IF($O98=\"\",\"\",IF('データ入力（児童生徒）'!$L$3=\"\",INDEX('作業（児童生徒）'!$E$3:$CB$11,U$5,$O98),'データ入力（児童生徒）'!H98))","v":0},{"$f":"IF($O98=\"\",\"\",IF('データ入力（児童生徒）'!$L$3=\"\",INDEX('作業（児童生徒）'!$E$3:$CB$11,V$5,$O98),'データ入力（児童生徒）'!I98))","v":0},{"$f":"IF($O98=\"\",\"\",IF('データ入力（児童生徒）'!$L$3=\"\",INDEX('作業（児童生徒）'!$E$3:$CB$11,W$5,$O98),'データ入力（児童生徒）'!J98))","v":0},{"$f":"IF($O98=\"\",\"\",IF('データ入力（児童生徒）'!$L$3=\"\",INDEX('作業（児童生徒）'!$E$3:$CB$11,X$5,$O98),'データ入力（児童生徒）'!K98))","v":0},0]
["(20)-4","下着姿や裸の動画または画像を送ることを要求されたことがある","","","","",null,null,null,null,null,null,null,1,{"$f":"IF(N99>=1,COUNT($N$6:N99),\"\")","v":57},{"$f":"IF($O99=\"\",\"\",IF('データ入力（児童生徒）'!$L$3=\"\",INDEX('作業（児童生徒）'!$E$3:$CB$11,P$5,$O99),'データ入力（児童生徒）'!C99))","v":0},{"$f":"IF($O99=\"\",\"\",IF('データ入力（児童生徒）'!$L$3=\"\",INDEX('作業（児童生徒）'!$E$3:$CB$11,Q$5,$O99),'データ入力（児童生徒）'!D99))","v":0},{"$f":"IF($O99=\"\",\"\",IF('データ入力（児童生徒）'!$L$3=\"\",INDEX('作業（児童生徒）'!$E$3:$CB$11,R$5,$O99),'データ入力（児童生徒）'!E99))","v":0},{"$f":"IF($O99=\"\",\"\",IF('データ入力（児童生徒）'!$L$3=\"\",INDEX('作業（児童生徒）'!$E$3:$CB$11,S$5,$O99),'データ入力（児童生徒）'!F99))","v":0},{"$f":"IF($O99=\"\",\"\",IF('データ入力（児童生徒）'!$L$3=\"\",INDEX('作業（児童生徒）'!$E$3:$CB$11,T$5,$O99),'データ入力（児童生徒）'!G99))","v":0},{"$f":"IF($O99=\"\",\"\",IF('データ入力（児童生徒）'!$L$3=\"\",INDEX('作業（児童生徒）'!$E$3:$CB$11,U$5,$O99),'データ入力（児童生徒）'!H99))","v":0},{"$f":"IF($O99=\"\",\"\",IF('データ入力（児童生徒）'!$L$3=\"\",INDEX('作業（児童生徒）'!$E$3:$CB$11,V$5,$O99),'データ入力（児童生徒）'!I99))","v":0},{"$f":"IF($O99=\"\",\"\",IF('データ入力（児童生徒）'!$L$3=\"\",INDEX('作業（児童生徒）'!$E$3:$CB$11,W$5,$O99),'データ入力（児童生徒）'!J99))","v":0},{"$f":"IF($O99=\"\",\"\",IF('データ入力（児童生徒）'!$L$3=\"\",INDEX('作業（児童生徒）'!$E$3:$CB$11,X$5,$O99),'データ入力（児童生徒）'!K99))","v":0},0]
["(20)-5","有料サイトの利用料金などについて、身に覚えのない支払いを求められたことがある","","","","",null,null,null,null,null,null,null,1,{"$f":"IF(N100>=1,COUNT($N$6:N100),\"\")","v":58},{"$f":"IF($O100=\"\",\"\",IF('データ入力（児童生徒）'!$L$3=\"\",INDEX('作業（児童生徒）'!$E$3:$CB$11,P$5,$O100),'データ入力（児童生徒）'!C100))","v":0},{"$f":"IF($O100=\"\",\"\",IF('データ入力（児童生徒）'!$L$3=\"\",INDEX('作業（児童生徒）'!$E$3:$CB$11,Q$5,$O100),'データ入力（児童生徒）'!D100))","v":0},{"$f":"IF($O100=\"\",\"\",IF('データ入力（児童生徒）'!$L$3=\"\",INDEX('作業（児童生徒）'!$E$3:$CB$11,R$5,$O100),'データ入力（児童生徒）'!E100))","v":0},{"$f":"IF($O100=\"\",\"\",IF('データ入力（児童生徒）'!$L$3=\"\",INDEX('作業（児童生徒）'!$E$3:$CB$11,S$5,$O100),'データ入力（児童生徒）'!F100))","v":0},{"$f":"IF($O100=\"\",\"\",IF('データ入力（児童生徒）'!$L$3=\"\",INDEX('作業（児童生徒）'!$E$3:$CB$11,T$5,$O100),'データ入力（児童生徒）'!G100))","v":0},{"$f":"IF($O100=\"\",\"\",IF('データ入力（児童生徒）'!$L$3=\"\",INDEX('作業（児童生徒）'!$E$3:$CB$11,U$5,$O100),'データ入力（児童生徒）'!H100))","v":0},{"$f":"IF($O100=\"\",\"\",IF('データ入力（児童生徒）'!$L$3=\"\",INDEX('作業（児童生徒）'!$E$3:$CB$11,V$5,$O100),'データ入力（児童生徒）'!I100))","v":0},{"$f":"IF($O100=\"\",\"\",IF('データ入力（児童生徒）'!$L$3=\"\",INDEX('作業（児童生徒）'!$E$3:$CB$11,W$5,$O100),'データ入力（児童生徒）'!J100))","v":0},{"$f":"IF($O100=\"\",\"\",IF('データ入力（児童生徒）'!$L$3=\"\",INDEX('作業（児童生徒）'!$E$3:$CB$11,X$5,$O100),'データ入力（児童生徒）'!K100))","v":0},0]
["(20)-6","保護者に話しにくいサイトを見たことがある","","","","",null,null,null,null,null,null,null,1,{"$f":"IF(N101>=1,COUNT($N$6:N101),\"\")","v":59},{"$f":"IF($O101=\"\",\"\",IF('データ入力（児童生徒）'!$L$3=\"\",INDEX('作業（児童生徒）'!$E$3:$CB$11,P$5,$O101),'データ入力（児童生徒）'!C101))","v":0},{"$f":"IF($O101=\"\",\"\",IF('データ入力（児童生徒）'!$L$3=\"\",INDEX('作業（児童生徒）'!$E$3:$CB$11,Q$5,$O101),'データ入力（児童生徒）'!D101))","v":0},{"$f":"IF($O101=\"\",\"\",IF('データ入力（児童生徒）'!$L$3=\"\",INDEX('作業（児童生徒）'!$E$3:$CB$11,R$5,$O101),'データ入力（児童生徒）'!E101))","v":0},{"$f":"IF($O101=\"\",\"\",IF('データ入力（児童生徒）'!$L$3=\"\",INDEX('作業（児童生徒）'!$E$3:$CB$11,S$5,$O101),'データ入力（児童生徒）'!F101))","v":0},{"$f":"IF($O101=\"\",\"\",IF('データ入力（児童生徒）'!$L$3=\"\",INDEX('作業（児童生徒）'!$E$3:$CB$11,T$5,$O101),'データ入力（児童生徒）'!G101))","v":0},{"$f":"IF($O101=\"\",\"\",IF('データ入力（児童生徒）'!$L$3=\"\",INDEX('作業（児童生徒）'!$E$3:$CB$11,U$5,$O101),'データ入力（児童生徒）'!H101))","v":0},{"$f":"IF($O101=\"\",\"\",IF('データ入力（児童生徒）'!$L$3=\"\",INDEX('作業（児童生徒）'!$E$3:$CB$11,V$5,$O101),'データ入力（児童生徒）'!I101))","v":0},{"$f":"IF($O101=\"\",\"\",IF('データ入力（児童生徒）'!$L$3=\"\",INDEX('作業（児童生徒）'!$E$3:$CB$11,W$5,$O101),'データ入力（児童生徒）'!J101))","v":0},{"$f":"IF($O101=\"\",\"\",IF('データ入力（児童生徒）'!$L$3=\"\",INDEX('作業（児童生徒）'!$E$3:$CB$11,X$5,$O101),'データ入力（児童生徒）'!K101))","v":0},0]
["(20)-7","自分の情報（名前や写真など）を書き込んだことがある","","","","",null,null,null,null,null,null,null,1,{"$f":"IF(N102>=1,COUNT($N$6:N102),\"\")","v":60},{"$f":"IF($O102=\"\",\"\",IF('データ入力（児童生徒）'!$L$3=\"\",INDEX('作業（児童生徒）'!$E$3:$CB$11,P$5,$O102),'データ入力（児童生徒）'!C102))","v":0},{"$f":"IF($O102=\"\",\"\",IF('データ入力（児童生徒）'!$L$3=\"\",INDEX('作業（児童生徒）'!$E$3:$CB$11,Q$5,$O102),'データ入力（児童生徒）'!D102))","v":0},{"$f":"IF($O102=\"\",\"\",IF('データ入力（児童生徒）'!$L$3=\"\",INDEX('作業（児童生徒）'!$E$3:$CB$11,R$5,$O102),'データ入力（児童生徒）'!E102))","v":0},{"$f":"IF($O102=\"\",\"\",IF('データ入力（児童生徒）'!$L$3=\"\",INDEX('作業（児童生徒）'!$E$3:$CB$11,S$5,$O102),'データ入力（児童生徒）'!F102))","v":0},{"$f":"IF($O102=\"\",\"\",IF('データ入力（児童生徒）'!$L$3=\"\",INDEX('作業（児童生徒）'!$E$3:$CB$11,T$5,$O102),'データ入力（児童生徒）'!G102))","v":0},{"$f":"IF($O102=\"\",\"\",IF('データ入力（児童生徒）'!$L$3=\"\",INDEX('作業（児童生徒）'!$E$3:$CB$11,U$5,$O102),'データ入力（児童生徒）'!H102))","v":0},{"$f":"IF($O102=\"\",\"\",IF('データ入力（児童生徒）'!$L$3=\"\",INDEX('作業（児童生徒）'!$E$3:$CB$11,V$5,$O102),'データ入力（児童生徒）'!I102))","v":0},{"$f":"IF($O102=\"\",\"\",IF('データ入力（児童生徒）'!$L$3=\"\",INDEX('作業（児童生徒）'!$E$3:$CB$11,W$5,$O102),'データ入力（児童生徒）'!J102))","v":0},{"$f":"IF($O102=\"\",\"\",IF('データ入力（児童生徒）'!$L$3=\"\",INDEX('作業（児童生徒）'!$E$3:$CB$11,X$5,$O102),'データ入力（児童生徒）'!K102))","v":0},0]
["(20)-8","他人の情報（名前や写真など）を無断で書き込んだことがある","","","","",null,null,null,null,null,null,null,1,{"$f":"IF(N103>=1,COUNT($N$6:N103),\"\")","v":61},{"$f":"IF($O103=\"\",\"\",IF('データ入力（児童生徒）'!$L$3=\"\",INDEX('作業（児童生徒）'!$E$3:$CB$11,P$5,$O103),'データ入力（児童生徒）'!C103))","v":0},{"$f":"IF($O103=\"\",\"\",IF('データ入力（児童生徒）'!$L$3=\"\",INDEX('作業（児童生徒）'!$E$3:$CB$11,Q$5,$O103),'データ入力（児童生徒）'!D103))","v":0},{"$f":"IF($O103=\"\",\"\",IF('データ入力（児童生徒）'!$L$3=\"\",INDEX('作業（児童生徒）'!$E$3:$CB$11,R$5,$O103),'データ入力（児童生徒）'!E103))","v":0},{"$f":"IF($O103=\"\",\"\",IF('データ入力（児童生徒）'!$L$3=\"\",INDEX('作業（児童生徒）'!$E$3:$CB$11,S$5,$O103),'データ入力（児童生徒）'!F103))","v":0},{"$f":"IF($O103=\"\",\"\",IF('データ入力（児童生徒）'!$L$3=\"\",INDEX('作業（児童生徒）'!$E$3:$CB$11,T$5,$O103),'データ入力（児童生徒）'!G103))","v":0},{"$f":"IF($O103=\"\",\"\",IF('データ入力（児童生徒）'!$L$3=\"\",INDEX('作業（児童生徒）'!$E$3:$CB$11,U$5,$O103),'データ入力（児童生徒）'!H103))","v":0},{"$f":"IF($O103=\"\",\"\",IF('データ入力（児童生徒）'!$L$3=\"\",INDEX('作業（児童生徒）'!$E$3:$CB$11,V$5,$O103),'データ入力（児童生徒）'!I103))","v":0},{"$f":"IF($O103=\"\",\"\",IF('データ入力（児童生徒）'!$L$3=\"\",INDEX('作業（児童生徒）'!$E$3:$CB$11,W$5,$O103),'データ入力（児童生徒）'!J103))","v":0},{"$f":"IF($O103=\"\",\"\",IF('データ入力（児童生徒）'!$L$3=\"\",INDEX('作業（児童生徒）'!$E$3:$CB$11,X$5,$O103),'データ入力（児童生徒）'!K103))","v":0},0]
["(20)-9","他人に嫌がらせをしている動画や、物を壊すなどのいたずらをしている動画を投稿したことがある","","","","",null,null,null,null,null,null,null,1,{"$f":"IF(N104>=1,COUNT($N$6:N104),\"\")","v":62},{"$f":"IF($O104=\"\",\"\",IF('データ入力（児童生徒）'!$L$3=\"\",INDEX('作業（児童生徒）'!$E$3:$CB$11,P$5,$O104),'データ入力（児童生徒）'!C104))","v":0},{"$f":"IF($O104=\"\",\"\",IF('データ入力（児童生徒）'!$L$3=\"\",INDEX('作業（児童生徒）'!$E$3:$CB$11,Q$5,$O104),'データ入力（児童生徒）'!D104))","v":0},{"$f":"IF($O104=\"\",\"\",IF('データ入力（児童生徒）'!$L$3=\"\",INDEX('作業（児童生徒）'!$E$3:$CB$11,R$5,$O104),'データ入力（児童生徒）'!E104))","v":0},{"$f":"IF($O104=\"\",\"\",IF('データ入力（児童生徒）'!$L$3=\"\",INDEX('作業（児童生徒）'!$E$3:$CB$11,S$5,$O104),'データ入力（児童生徒）'!F104))","v":0},{"$f":"IF($O104=\"\",\"\",IF('データ入力（児童生徒）'!$L$3=\"\",INDEX('作業（児童生徒）'!$E$3:$CB$11,T$5,$O104),'データ入力（児童生徒）'!G104))","v":0},{"$f":"IF($O104=\"\",\"\",IF('データ入力（児童生徒）'!$L$3=\"\",INDEX('作業（児童生徒）'!$E$3:$CB$11,U$5,$O104),'データ入力（児童生徒）'!H104))","v":0},{"$f":"IF($O104=\"\",\"\",IF('データ入力（児童生徒）'!$L$3=\"\",INDEX('作業（児童生徒）'!$E$3:$CB$11,V$5,$O104),'データ入力（児童生徒）'!I104))","v":0},{"$f":"IF($O104=\"\",\"\",IF('データ入力（児童生徒）'!$L$3=\"\",INDEX('作業（児童生徒）'!$E$3:$CB$11,W$5,$O104),'データ入力（児童生徒）'!J104))","v":0},{"$f":"IF($O104=\"\",\"\",IF('データ入力（児童生徒）'!$L$3=\"\",INDEX('作業（児童生徒）'!$E$3:$CB$11,X$5,$O104),'データ入力（児童生徒）'!K104))","v":0},0]
["(20)-10","スマホや携帯電話にのめり込んで勉強に集中できなかったり、睡眠不足になったりしたことがある","","","","",null,null,null,null,null,null,null,1,{"$f":"IF(N105>=1,COUNT($N$6:N105),\"\")","v":63},{"$f":"IF($O105=\"\",\"\",IF('データ入力（児童生徒）'!$L$3=\"\",INDEX('作業（児童生徒）'!$E$3:$CB$11,P$5,$O105),'データ入力（児童生徒）'!C105))","v":0},{"$f":"IF($O105=\"\",\"\",IF('データ入力（児童生徒）'!$L$3=\"\",INDEX('作業（児童生徒）'!$E$3:$CB$11,Q$5,$O105),'データ入力（児童生徒）'!D105))","v":0},{"$f":"IF($O105=\"\",\"\",IF('データ入力（児童生徒）'!$L$3=\"\",INDEX('作業（児童生徒）'!$E$3:$CB$11,R$5,$O105),'データ入力（児童生徒）'!E105))","v":0},{"$f":"IF($O105=\"\",\"\",IF('データ入力（児童生徒）'!$L$3=\"\",INDEX('作業（児童生徒）'!$E$3:$CB$11,S$5,$O105),'データ入力（児童生徒）'!F105))","v":0},{"$f":"IF($O105=\"\",\"\",IF('データ入力（児童生徒）'!$L$3=\"\",INDEX('作業（児童生徒）'!$E$3:$CB$11,T$5,$O105),'データ入力（児童生徒）'!G105))","v":0},{"$f":"IF($O105=\"\",\"\",IF('データ入力（児童生徒）'!$L$3=\"\",INDEX('作業（児童生徒）'!$E$3:$CB$11,U$5,$O105),'データ入力（児童生徒）'!H105))","v":0},{"$f":"IF($O105=\"\",\"\",IF('データ入力（児童生徒）'!$L$3=\"\",INDEX('作業（児童生徒）'!$E$3:$CB$11,V$5,$O105),'データ入力（児童生徒）'!I105))","v":0},{"$f":"IF($O105=\"\",\"\",IF('データ入力（児童生徒）'!$L$3=\"\",INDEX('作業（児童生徒）'!$E$3:$CB$11,W$5,$O105),'データ入力（児童生徒）'!J105))","v":0},{"$f":"IF($O105=\"\",\"\",IF('データ入力（児童生徒）'!$L$3=\"\",INDEX('作業（児童生徒）'!$E$3:$CB$11,X$5,$O105),'データ入力（児童生徒）'!K105))","v":0},0]
["【動画】についての質問",null,null,null,null,null,null,null,null,null,null,null,null,null,{"$f":"IF(N106>=1,COUNT($N$6:N106),\"\")","v":""},{"$f":"IF($O106=\"\",\"\",IF('データ入力（児童生徒）'!$L$3=\"\",INDEX('作業（児童生徒）'!$E$3:$CB$11,P$5,$O106),'データ入力（児童生徒）'!C106))","v":""},{"$f":"IF($O106=\"\",\"\",IF('データ入力（児童生徒）'!$L$3=\"\",INDEX('作業（児童生徒）'!$E$3:$CB$11,Q$5,$O106),'データ入力（児童生徒）'!D106))","v":""},{"$f":"IF($O106=\"\",\"\",IF('データ入力（児童生徒）'!$L$3=\"\",INDEX('作業（児童生徒）'!$E$3:$CB$11,R$5,$O106),'データ入力（児童生徒）'!E106))","v":""},{"$f":"IF($O106=\"\",\"\",IF('データ入力（児童生徒）'!$L$3=\"\",INDEX('作業（児童生徒）'!$E$3:$CB$11,S$5,$O106),'データ入力（児童生徒）'!F106))","v":""},{"$f":"IF($O106=\"\",\"\",IF('データ入力（児童生徒）'!$L$3=\"\",INDEX('作業（児童生徒）'!$E$3:$CB$11,T$5,$O106),'データ入力（児童生徒）'!G106))","v":""},{"$f":"IF($O106=\"\",\"\",IF('データ入力（児童生徒）'!$L$3=\"\",INDEX('作業（児童生徒）'!$E$3:$CB$11,U$5,$O106),'データ入力（児童生徒）'!H106))","v":""},{"$f":"IF($O106=\"\",\"\",IF('データ入力（児童生徒）'!$L$3=\"\",INDEX('作業（児童生徒）'!$E$3:$CB$11,V$5,$O106),'データ入力（児童生徒）'!I106))","v":""},{"$f":"IF($O106=\"\",\"\",IF('データ入力（児童生徒）'!$L$3=\"\",INDEX('作業（児童生徒）'!$E$3:$CB$11,W$5,$O106),'データ入力（児童生徒）'!J106))","v":""},{"$f":"IF($O106=\"\",\"\",IF('データ入力（児童生徒）'!$L$3=\"\",INDEX('作業（児童生徒）'!$E$3:$CB$11,X$5,$O106),'データ入力（児童生徒）'!K106))","v":""},""]
[null,"質問","ある","ない","無回答",null,null,null,null,null,null,null,null,null,{"$f":"IF(N107>=1,COUNT($N$6:N107),\"\")","v":""},{"$f":"IF($O107=\"\",\"\",IF('データ入力（児童生徒）'!$L$3=\"\",INDEX('作業（児童生徒）'!$E$3:$CB$11,P$5,$O107),'データ入力（児童生徒）'!C107))","v":""},{"$f":"IF($O107=\"\",\"\",IF('データ入力（児童生徒）'!$L$3=\"\",INDEX('作業（児童生徒）'!$E$3:$CB$11,Q$5,$O107),'データ入力（児童生徒）'!D107))","v":""},{"$f":"IF($O107=\"\",\"\",IF('データ入力（児童生徒）'!$L$3=\"\",INDEX('作業（児童生徒）'!$E$3:$CB$11,R$5,$O107),'データ入力（児童生徒）'!E107))","v":""},{"$f":"IF($O107=\"\",\"\",IF('データ入力（児童生徒）'!$L$3=\"\",INDEX('作業（児童生徒）'!$E$3:$CB$11,S$5,$O107),'データ入力（児童生徒）'!F107))","v":""},{"$f":"IF($O107=\"\",\"\",IF('データ入力（児童生徒）'!$L$3=\"\",INDEX('作業（児童生徒）'!$E$3:$CB$11,T$5,$O107),'データ入力（児童生徒）'!G107))","v":""},{"$f":"IF($O107=\"\",\"\",IF('データ入力（児童生徒）'!$L$3=\"\",INDEX('作業（児童生徒）'!$E$3:$CB$11,U$5,$O107),'データ入力（児童生徒）'!H107))","v":""},{"$f":"IF($O107=\"\",\"\",IF('データ入力（児童生徒）'!$L$3=\"\",INDEX('作業（児童生徒）'!$E$3:$CB$11,V$5,$O107),'データ入力（児童生徒）'!I107))","v":""},{"$f":"IF($O107=\"\",\"\",IF('データ入力（児童生徒）'!$L$3=\"\",INDEX('作業（児童生徒）'!$E$3:$CB$11,W$5,$O107),'データ入力（児童生徒）'!J107))","v":""},{"$f":"IF($O107=\"\",\"\",IF('データ入力（児童生徒）'!$L$3=\"\",INDEX('作業（児童生徒）'!$E$3:$CB$11,X$5,$O107),'データ入力（児童生徒）'!K107))","v":""},""]
["(21)-1","各機器を使って動画の撮影をしたことがある",{"$f":"IFERROR(ROUND(P108/$P$3*100,1),\"\")","v":""},{"$f":"IFERROR(ROUND(Q108/$P$3*100,1),\"\")","v":""},{"$f":"IFERROR(ROUND($Y108/$P$3*100,1),\"\")","v":""},null,null,null,null,null,null,null,null,1,{"$f":"IF(N108>=1,COUNT($N$6:N108),\"\")","v":64},{"$f":"IF($O108=\"\",\"\",IF('データ入力（児童生徒）'!$L$3=\"\",INDEX('作業（児童生徒）'!$E$3:$CB$11,P$5,$O108),'データ入力（児童生徒）'!C108))","v":0},{"$f":"IF($O108=\"\",\"\",IF('データ入力（児童生徒）'!$L$3=\"\",INDEX('作業（児童生徒）'!$E$3:$CB$11,Q$5,$O108),'データ入力（児童生徒）'!D108))","v":0},{"$f":"IF($O108=\"\",\"\",IF('データ入力（児童生徒）'!$L$3=\"\",INDEX('作業（児童生徒）'!$E$3:$CB$11,R$5,$O108),'データ入力（児童生徒）'!E108))","v":0},{"$f":"IF($O108=\"\",\"\",IF('データ入力（児童生徒）'!$L$3=\"\",INDEX('作業（児童生徒）'!$E$3:$CB$11,S$5,$O108),'データ入力（児童生徒）'!F108))","v":0},{"$f":"IF($O108=\"\",\"\",IF('データ入力（児童生徒）'!$L$3=\"\",INDEX('作業（児童生徒）'!$E$3:$CB$11,T$5,$O108),'データ入力（児童生徒）'!G108))","v":0},{"$f":"IF($O108=\"\",\"\",IF('データ入力（児童生徒）'!$L$3=\"\",INDEX('作業（児童生徒）'!$E$3:$CB$11,U$5,$O108),'データ入力（児童生徒）'!H108))","v":0},{"$f":"IF($O108=\"\",\"\",IF('データ入力（児童生徒）'!$L$3=\"\",INDEX('作業（児童生徒）'!$E$3:$CB$11,V$5,$O108),'データ入力（児童生徒）'!I108))","v":0},{"$f":"IF($O108=\"\",\"\",IF('データ入力（児童生徒）'!$L$3=\"\",INDEX('作業（児童生徒）'!$E$3:$CB$11,W$5,$O108),'データ入力（児童生徒）'!J108))","v":0},{"$f":"IF($O108=\"\",\"\",IF('データ入力（児童生徒）'!$L$3=\"\",INDEX('作業（児童生徒）'!$E$3:$CB$11,X$5,$O108),'データ入力（児童生徒）'!K108))","v":0},0]
["(21)-2","YouTube(ﾕｰﾁｭｰﾌﾞ）や、Twitter（ﾂｲｯﾀｰ）、TikTok（ﾃｨｯｸﾄｯｸ）などに\n動画を投稿したことがある","","","",null,null,null,null,null,null,null,null,1,{"$f":"IF(N109>=1,COUNT($N$6:N109),\"\")","v":65},{"$f":"IF($O109=\"\",\"\",IF('データ入力（児童生徒）'!$L$3=\"\",INDEX('作業（児童生徒）'!$E$3:$CB$11,P$5,$O109),'データ入力（児童生徒）'!C109))","v":0},{"$f":"IF($O109=\"\",\"\",IF('データ入力（児童生徒）'!$L$3=\"\",INDEX('作業（児童生徒）'!$E$3:$CB$11,Q$5,$O109),'データ入力（児童生徒）'!D109))","v":0},{"$f":"IF($O109=\"\",\"\",IF('データ入力（児童生徒）'!$L$3=\"\",INDEX('作業（児童生徒）'!$E$3:$CB$11,R$5,$O109),'データ入力（児童生徒）'!E109))","v":0},{"$f":"IF($O109=\"\",\"\",IF('データ入力（児童生徒）'!$L$3=\"\",INDEX('作業（児童生徒）'!$E$3:$CB$11,S$5,$O109),'データ入力（児童生徒）'!F109))","v":0},{"$f":"IF($O109=\"\",\"\",IF('データ入力（児童生徒）'!$L$3=\"\",INDEX('作業（児童生徒）'!$E$3:$CB$11,T$5,$O109),'データ入力（児童生徒）'!G109))","v":0},{"$f":"IF($O109=\"\",\"\",IF('データ入力（児童生徒）'!$L$3=\"\",INDEX('作業（児童生徒）'!$E$3:$CB$11,U$5,$O109),'データ入力（児童生徒）'!H109))","v":0},{"$f":"IF($O109=\"\",\"\",IF('データ入力（児童生徒）'!$L$3=\"\",INDEX('作業（児童生徒）'!$E$3:$CB$11,V$5,$O109),'データ入力（児童生徒）'!I109))","v":0},{"$f":"IF($O109=\"\",\"\",IF('データ入力（児童生徒）'!$L$3=\"\",INDEX('作業（児童生徒）'!$E$3:$CB$11,W$5,$O109),'データ入力（児童生徒）'!J109))","v":0},{"$f":"IF($O109=\"\",\"\",IF('データ入力（児童生徒）'!$L$3=\"\",INDEX('作業（児童生徒）'!$E$3:$CB$11,X$5,$O109),'データ入力（児童生徒）'!K109))","v":0},0]
[null,null,null,null,null,null,null,null,null,null,null,null,null,null,{"$f":"IF(N110>=1,COUNT($N$6:N110),\"\")","v":""},{"$f":"IF($O110=\"\",\"\",IF('データ入力（児童生徒）'!$L$3=\"\",INDEX('作業（児童生徒）'!$E$3:$CB$11,P$5,$O110),'データ入力（児童生徒）'!C110))","v":""},{"$f":"IF($O110=\"\",\"\",IF('データ入力（児童生徒）'!$L$3=\"\",INDEX('作業（児童生徒）'!$E$3:$CB$11,Q$5,$O110),'データ入力（児童生徒）'!D110))","v":""},{"$f":"IF($O110=\"\",\"\",IF('データ入力（児童生徒）'!$L$3=\"\",INDEX('作業（児童生徒）'!$E$3:$CB$11,R$5,$O110),'データ入力（児童生徒）'!E110))","v":""},{"$f":"IF($O110=\"\",\"\",IF('データ入力（児童生徒）'!$L$3=\"\",INDEX('作業（児童生徒）'!$E$3:$CB$11,S$5,$O110),'データ入力（児童生徒）'!F110))","v":""},{"$f":"IF($O110=\"\",\"\",IF('データ入力（児童生徒）'!$L$3=\"\",INDEX('作業（児童生徒）'!$E$3:$CB$11,T$5,$O110),'データ入力（児童生徒）'!G110))","v":""},{"$f":"IF($O110=\"\",\"\",IF('データ入力（児童生徒）'!$L$3=\"\",INDEX('作業（児童生徒）'!$E$3:$CB$11,U$5,$O110),'データ入力（児童生徒）'!H110))","v":""},{"$f":"IF($O110=\"\",\"\",IF('データ入力（児童生徒）'!$L$3=\"\",INDEX('作業（児童生徒）'!$E$3:$CB$11,V$5,$O110),'データ入力（児童生徒）'!I110))","v":""},{"$f":"IF($O110=\"\",\"\",IF('データ入力（児童生徒）'!$L$3=\"\",INDEX('作業（児童生徒）'!$E$3:$CB$11,W$5,$O110),'データ入力（児童生徒）'!J110))","v":""},{"$f":"IF($O110=\"\",\"\",IF('データ入力（児童生徒）'!$L$3=\"\",INDEX('作業（児童生徒）'!$E$3:$CB$11,X$5,$O110),'データ入力（児童生徒）'!K110))","v":""},""]
[null,"質問","よい","いけない","わからない","無回答",null,null,null,null,null,null,null,null,{"$f":"IF(N111>=1,COUNT($N$6:N111),\"\")","v":""},{"$f":"IF($O111=\"\",\"\",IF('データ入力（児童生徒）'!$L$3=\"\",INDEX('作業（児童生徒）'!$E$3:$CB$11,P$5,$O111),'データ入力（児童生徒）'!C111))","v":""},{"$f":"IF($O111=\"\",\"\",IF('データ入力（児童生徒）'!$L$3=\"\",INDEX('作業（児童生徒）'!$E$3:$CB$11,Q$5,$O111),'データ入力（児童生徒）'!D111))","v":""},{"$f":"IF($O111=\"\",\"\",IF('データ入力（児童生徒）'!$L$3=\"\",INDEX('作業（児童生徒）'!$E$3:$CB$11,R$5,$O111),'データ入力（児童生徒）'!E111))","v":""},{"$f":"IF($O111=\"\",\"\",IF('データ入力（児童生徒）'!$L$3=\"\",INDEX('作業（児童生徒）'!$E$3:$CB$11,S$5,$O111),'データ入力（児童生徒）'!F111))","v":""},{"$f":"IF($O111=\"\",\"\",IF('データ入力（児童生徒）'!$L$3=\"\",INDEX('作業（児童生徒）'!$E$3:$CB$11,T$5,$O111),'データ入力（児童生徒）'!G111))","v":""},{"$f":"IF($O111=\"\",\"\",IF('データ入力（児童生徒）'!$L$3=\"\",INDEX('作業（児童生徒）'!$E$3:$CB$11,U$5,$O111),'データ入力（児童生徒）'!H111))","v":""},{"$f":"IF($O111=\"\",\"\",IF('データ入力（児童生徒）'!$L$3=\"\",INDEX('作業（児童生徒）'!$E$3:$CB$11,V$5,$O111),'データ入力（児童生徒）'!I111))","v":""},{"$f":"IF($O111=\"\",\"\",IF('データ入力（児童生徒）'!$L$3=\"\",INDEX('作業（児童生徒）'!$E$3:$CB$11,W$5,$O111),'データ入力（児童生徒）'!J111))","v":""},{"$f":"IF($O111=\"\",\"\",IF('データ入力（児童生徒）'!$L$3=\"\",INDEX('作業（児童生徒）'!$E$3:$CB$11,X$5,$O111),'データ入力（児童生徒）'!K111))","v":""},""]
["(22)-1","BGMはお店で売っているCDを買えば、自分の動画のBGMとして利用し、YouTube（ﾕｰﾁｭｰﾌﾞ）などに投稿してもよい",{"$f":"IFERROR(ROUND(P112/$P$3*100,1),\"\")","v":""},{"$f":"IFERROR(ROUND(Q112/$P$3*100,1),\"\")","v":""},{"$f":"IFERROR(ROUND(R112/$P$3*100,1),\"\")","v":""},{"$f":"IFERROR(ROUND($Y112/$P$3*100,1),\"\")","v":""},null,null,null,null,null,null,null,1,{"$f":"IF(N112>=1,COUNT($N$6:N112),\"\")","v":66},{"$f":"IF($O112=\"\",\"\",IF('データ入力（児童生徒）'!$L$3=\"\",INDEX('作業（児童生徒）'!$E$3:$CB$11,P$5,$O112),'データ入力（児童生徒）'!C112))","v":0},{"$f":"IF($O112=\"\",\"\",IF('データ入力（児童生徒）'!$L$3=\"\",INDEX('作業（児童生徒）'!$E$3:$CB$11,Q$5,$O112),'データ入力（児童生徒）'!D112))","v":0},{"$f":"IF($O112=\"\",\"\",IF('データ入力（児童生徒）'!$L$3=\"\",INDEX('作業（児童生徒）'!$E$3:$CB$11,R$5,$O112),'データ入力（児童生徒）'!E112))","v":0},{"$f":"IF($O112=\"\",\"\",IF('データ入力（児童生徒）'!$L$3=\"\",INDEX('作業（児童生徒）'!$E$3:$CB$11,S$5,$O112),'データ入力（児童生徒）'!F112))","v":0},{"$f":"IF($O112=\"\",\"\",IF('データ入力（児童生徒）'!$L$3=\"\",INDEX('作業（児童生徒）'!$E$3:$CB$11,T$5,$O112),'データ入力（児童生徒）'!G112))","v":0},{"$f":"IF($O112=\"\",\"\",IF('データ入力（児童生徒）'!$L$3=\"\",INDEX('作業（児童生徒）'!$E$3:$CB$11,U$5,$O112),'データ入力（児童生徒）'!H112))","v":0},{"$f":"IF($O112=\"\",\"\",IF('データ入力（児童生徒）'!$L$3=\"\",INDEX('作業（児童生徒）'!$E$3:$CB$11,V$5,$O112),'データ入力（児童生徒）'!I112))","v":0},{"$f":"IF($O112=\"\",\"\",IF('データ入力（児童生徒）'!$L$3=\"\",INDEX('作業（児童生徒）'!$E$3:$CB$11,W$5,$O112),'データ入力（児童生徒）'!J112))","v":0},{"$f":"IF($O112=\"\",\"\",IF('データ入力（児童生徒）'!$L$3=\"\",INDEX('作業（児童生徒）'!$E$3:$CB$11,X$5,$O112),'データ入力（児童生徒）'!K112))","v":0},0]
["(22)-2","ダンス動画の投稿は、YouTube（ﾕｰﾁｭｰﾌﾞ）で使われている音楽を使って踊ったものなら、YouTubeなどに投稿してもよい","","","","",null,null,null,null,null,null,null,1,{"$f":"IF(N113>=1,COUNT($N$6:N113),\"\")","v":67},{"$f":"IF($O113=\"\",\"\",IF('データ入力（児童生徒）'!$L$3=\"\",INDEX('作業（児童生徒）'!$E$3:$CB$11,P$5,$O113),'データ入力（児童生徒）'!C113))","v":0},{"$f":"IF($O113=\"\",\"\",IF('データ入力（児童生徒）'!$L$3=\"\",INDEX('作業（児童生徒）'!$E$3:$CB$11,Q$5,$O113),'データ入力（児童生徒）'!D113))","v":0},{"$f":"IF($O113=\"\",\"\",IF('データ入力（児童生徒）'!$L$3=\"\",INDEX('作業（児童生徒）'!$E$3:$CB$11,R$5,$O113),'データ入力（児童生徒）'!E113))","v":0},{"$f":"IF($O113=\"\",\"\",IF('データ入力（児童生徒）'!$L$3=\"\",INDEX('作業（児童生徒）'!$E$3:$CB$11,S$5,$O113),'データ入力（児童生徒）'!F113))","v":0},{"$f":"IF($O113=\"\",\"\",IF('データ入力（児童生徒）'!$L$3=\"\",INDEX('作業（児童生徒）'!$E$3:$CB$11,T$5,$O113),'データ入力（児童生徒）'!G113))","v":0},{"$f":"IF($O113=\"\",\"\",IF('データ入力（児童生徒）'!$L$3=\"\",INDEX('作業（児童生徒）'!$E$3:$CB$11,U$5,$O113),'データ入力（児童生徒）'!H113))","v":0},{"$f":"IF($O113=\"\",\"\",IF('データ入力（児童生徒）'!$L$3=\"\",INDEX('作業（児童生徒）'!$E$3:$CB$11,V$5,$O113),'データ入力（児童生徒）'!I113))","v":0},{"$f":"IF($O113=\"\",\"\",IF('データ入力（児童生徒）'!$L$3=\"\",INDEX('作業（児童生徒）'!$E$3:$CB$11,W$5,$O113),'データ入力（児童生徒）'!J113))","v":0},{"$f":"IF($O113=\"\",\"\",IF('データ入力（児童生徒）'!$L$3=\"\",INDEX('作業（児童生徒）'!$E$3:$CB$11,X$5,$O113),'データ入力（児童生徒）'!K113))","v":0},0]
["(22)-3","カラオケ動画の投稿は、カラオケボックスなどで、自分がカラオケに合わせて歌ったものであれば、YouTube（ﾕｰﾁｭｰﾌﾞ）などに投稿してもよい","","","",{"$f":"IFERROR(ROUND($Y114/$P$3*100,1),\"\")","v":""},null,null,null,null,null,null,null,1,{"$f":"IF(N114>=1,COUNT($N$6:N114),\"\")","v":68},{"$f":"IF($O114=\"\",\"\",IF('データ入力（児童生徒）'!$L$3=\"\",INDEX('作業（児童生徒）'!$E$3:$CB$11,P$5,$O114),'データ入力（児童生徒）'!C114))","v":0},{"$f":"IF($O114=\"\",\"\",IF('データ入力（児童生徒）'!$L$3=\"\",INDEX('作業（児童生徒）'!$E$3:$CB$11,Q$5,$O114),'データ入力（児童生徒）'!D114))","v":0},{"$f":"IF($O114=\"\",\"\",IF('データ入力（児童生徒）'!$L$3=\"\",INDEX('作業（児童生徒）'!$E$3:$CB$11,R$5,$O114),'データ入力（児童生徒）'!E114))","v":0},{"$f":"IF($O114=\"\",\"\",IF('データ入力（児童生徒）'!$L$3=\"\",INDEX('作業（児童生徒）'!$E$3:$CB$11,S$5,$O114),'データ入力（児童生徒）'!F114))","v":0},{"$f":"IF($O114=\"\",\"\",IF('データ入力（児童生徒）'!$L$3=\"\",INDEX('作業（児童生徒）'!$E$3:$CB$11,T$5,$O114),'データ入力（児童生徒）'!G114))","v":0},{"$f":"IF($O114=\"\",\"\",IF('データ入力（児童生徒）'!$L$3=\"\",INDEX('作業（児童生徒）'!$E$3:$CB$11,U$5,$O114),'データ入力（児童生徒）'!H114))","v":0},{"$f":"IF($O114=\"\",\"\",IF('データ入力（児童生徒）'!$L$3=\"\",INDEX('作業（児童生徒）'!$E$3:$CB$11,V$5,$O114),'データ入力（児童生徒）'!I114))","v":0},{"$f":"IF($O114=\"\",\"\",IF('データ入力（児童生徒）'!$L$3=\"\",INDEX('作業（児童生徒）'!$E$3:$CB$11,W$5,$O114),'データ入力（児童生徒）'!J114))","v":0},{"$f":"IF($O114=\"\",\"\",IF('データ入力（児童生徒）'!$L$3=\"\",INDEX('作業（児童生徒）'!$E$3:$CB$11,X$5,$O114),'データ入力（児童生徒）'!K114))","v":0},0]
["【情報モラル教育】についての質問",null,null,null,null,null,null,null,null,null,null,null,null,null,{"$f":"IF(N115>=1,COUNT($N$6:N115),\"\")","v":""},{"$f":"IF($O115=\"\",\"\",IF('データ入力（児童生徒）'!$L$3=\"\",INDEX('作業（児童生徒）'!$E$3:$CB$11,P$5,$O115),'データ入力（児童生徒）'!C115))","v":""},{"$f":"IF($O115=\"\",\"\",IF('データ入力（児童生徒）'!$L$3=\"\",INDEX('作業（児童生徒）'!$E$3:$CB$11,Q$5,$O115),'データ入力（児童生徒）'!D115))","v":""},{"$f":"IF($O115=\"\",\"\",IF('データ入力（児童生徒）'!$L$3=\"\",INDEX('作業（児童生徒）'!$E$3:$CB$11,R$5,$O115),'データ入力（児童生徒）'!E115))","v":""},{"$f":"IF($O115=\"\",\"\",IF('データ入力（児童生徒）'!$L$3=\"\",INDEX('作業（児童生徒）'!$E$3:$CB$11,S$5,$O115),'データ入力（児童生徒）'!F115))","v":""},{"$f":"IF($O115=\"\",\"\",IF('データ入力（児童生徒）'!$L$3=\"\",INDEX('作業（児童生徒）'!$E$3:$CB$11,T$5,$O115),'データ入力（児童生徒）'!G115))","v":""},{"$f":"IF($O115=\"\",\"\",IF('データ入力（児童生徒）'!$L$3=\"\",INDEX('作業（児童生徒）'!$E$3:$CB$11,U$5,$O115),'データ入力（児童生徒）'!H115))","v":""},{"$f":"IF($O115=\"\",\"\",IF('データ入力（児童生徒）'!$L$3=\"\",INDEX('作業（児童生徒）'!$E$3:$CB$11,V$5,$O115),'データ入力（児童生徒）'!I115))","v":""},{"$f":"IF($O115=\"\",\"\",IF('データ入力（児童生徒）'!$L$3=\"\",INDEX('作業（児童生徒）'!$E$3:$CB$11,W$5,$O115),'データ入力（児童生徒）'!J115))","v":""},{"$f":"IF($O115=\"\",\"\",IF('データ入力（児童生徒）'!$L$3=\"\",INDEX('作業（児童生徒）'!$E$3:$CB$11,X$5,$O115),'データ入力（児童生徒）'!K115))","v":""},""]
[null,"質問","区分",null,null,null,"割合",null,null,null,null,null,null,null,{"$f":"IF(N116>=1,COUNT($N$6:N116),\"\")","v":""},{"$f":"IF($O116=\"\",\"\",IF('データ入力（児童生徒）'!$L$3=\"\",INDEX('作業（児童生徒）'!$E$3:$CB$11,P$5,$O116),'データ入力（児童生徒）'!C116))","v":""},{"$f":"IF($O116=\"\",\"\",IF('データ入力（児童生徒）'!$L$3=\"\",INDEX('作業（児童生徒）'!$E$3:$CB$11,Q$5,$O116),'データ入力（児童生徒）'!D116))","v":""},{"$f":"IF($O116=\"\",\"\",IF('データ入力（児童生徒）'!$L$3=\"\",INDEX('作業（児童生徒）'!$E$3:$CB$11,R$5,$O116),'データ入力（児童生徒）'!E116))","v":""},{"$f":"IF($O116=\"\",\"\",IF('データ入力（児童生徒）'!$L$3=\"\",INDEX('作業（児童生徒）'!$E$3:$CB$11,S$5,$O116),'データ入力（児童生徒）'!F116))","v":""},{"$f":"IF($O116=\"\",\"\",IF('データ入力（児童生徒）'!$L$3=\"\",INDEX('作業（児童生徒）'!$E$3:$CB$11,T$5,$O116),'データ入力（児童生徒）'!G116))","v":""},{"$f":"IF($O116=\"\",\"\",IF('データ入力（児童生徒）'!$L$3=\"\",INDEX('作業（児童生徒）'!$E$3:$CB$11,U$5,$O116),'データ入力（児童生徒）'!H116))","v":""},{"$f":"IF($O116=\"\",\"\",IF('データ入力（児童生徒）'!$L$3=\"\",INDEX('作業（児童生徒）'!$E$3:$CB$11,V$5,$O116),'データ入力（児童生徒）'!I116))","v":""},{"$f":"IF($O116=\"\",\"\",IF('データ入力（児童生徒）'!$L$3=\"\",INDEX('作業（児童生徒）'!$E$3:$CB$11,W$5,$O116),'データ入力（児童生徒）'!J116))","v":""},{"$f":"IF($O116=\"\",\"\",IF('データ入力（児童生徒）'!$L$3=\"\",INDEX('作業（児童生徒）'!$E$3:$CB$11,X$5,$O116),'データ入力（児童生徒）'!K116))","v":""},""]
["(23)","インターネットを利用する上での危険性や正しい使い方について、あなたは何によって説明を受けたり学んだりしましたか（複数回答可）","学校（学校内の先生）",null,null,null,{"$f":"IFERROR(ROUND(P117/$P$3*100,1),\"\")","v":""},null,null,null,null,null,null,1,{"$f":"IF(N117>=1,COUNT($N$6:N117),\"\")","v":69},{"$f":"IF($O117=\"\",\"\",IF('データ入力（児童生徒）'!$L$3=\"\",INDEX('作業（児童生徒）'!$E$3:$CB$11,P$5,$O117),'データ入力（児童生徒）'!G117))","v":0},{"$f":"IF($O117=\"\",\"\",IF('データ入力（児童生徒）'!$L$3=\"\",INDEX('作業（児童生徒）'!$E$3:$CB$11,Q$5,$O117),'データ入力（児童生徒）'!H117))","v":0},{"$f":"IF($O117=\"\",\"\",IF('データ入力（児童生徒）'!$L$3=\"\",INDEX('作業（児童生徒）'!$E$3:$CB$11,R$5,$O117),'データ入力（児童生徒）'!I117))","v":0},{"$f":"IF($O117=\"\",\"\",IF('データ入力（児童生徒）'!$L$3=\"\",INDEX('作業（児童生徒）'!$E$3:$CB$11,S$5,$O117),'データ入力（児童生徒）'!J117))","v":0},{"$f":"IF($O117=\"\",\"\",IF('データ入力（児童生徒）'!$L$3=\"\",INDEX('作業（児童生徒）'!$E$3:$CB$11,T$5,$O117),'データ入力（児童生徒）'!K117))","v":0},{"$f":"IF($O117=\"\",\"\",IF('データ入力（児童生徒）'!$L$3=\"\",INDEX('作業（児童生徒）'!$E$3:$CB$11,U$5,$O117),'データ入力（児童生徒）'!L117))","v":0},{"$f":"IF($O117=\"\",\"\",IF('データ入力（児童生徒）'!$L$3=\"\",INDEX('作業（児童生徒）'!$E$3:$CB$11,V$5,$O117),'データ入力（児童生徒）'!M117))","v":0},{"$f":"IF($O117=\"\",\"\",IF('データ入力（児童生徒）'!$L$3=\"\",INDEX('作業（児童生徒）'!$E$3:$CB$11,W$5,$O117),'データ入力（児童生徒）'!N117))","v":0},{"$f":"IF($O117=\"\",\"\",IF('データ入力（児童生徒）'!$L$3=\"\",INDEX('作業（児童生徒）'!$E$3:$CB$11,X$5,$O117),'データ入力（児童生徒）'!O117))","v":0},0]
[null,null,"学校（外部の人）",null,null,null,"",null,null,null,null,null,null,1,{"$f":"IF(N118>=1,COUNT($N$6:N118),\"\")","v":70},{"$f":"IF($O118=\"\",\"\",IF('データ入力（児童生徒）'!$L$3=\"\",INDEX('作業（児童生徒）'!$E$3:$CB$11,P$5,$O118),'データ入力（児童生徒）'!G118))","v":0},{"$f":"IF($O118=\"\",\"\",IF('データ入力（児童生徒）'!$L$3=\"\",INDEX('作業（児童生徒）'!$E$3:$CB$11,Q$5,$O118),'データ入力（児童生徒）'!H118))","v":0},{"$f":"IF($O118=\"\",\"\",IF('データ入力（児童生徒）'!$L$3=\"\",INDEX('作業（児童生徒）'!$E$3:$CB$11,R$5,$O118),'データ入力（児童生徒）'!I118))","v":0},{"$f":"IF($O118=\"\",\"\",IF('データ入力（児童生徒）'!$L$3=\"\",INDEX('作業（児童生徒）'!$E$3:$CB$11,S$5,$O118),'データ入力（児童生徒）'!J118))","v":0},{"$f":"IF($O118=\"\",\"\",IF('データ入力（児童生徒）'!$L$3=\"\",INDEX('作業（児童生徒）'!$E$3:$CB$11,T$5,$O118),'データ入力（児童生徒）'!K118))","v":0},{"$f":"IF($O118=\"\",\"\",IF('データ入力（児童生徒）'!$L$3=\"\",INDEX('作業（児童生徒）'!$E$3:$CB$11,U$5,$O118),'データ入力（児童生徒）'!L118))","v":0},{"$f":"IF($O118=\"\",\"\",IF('データ入力（児童生徒）'!$L$3=\"\",INDEX('作業（児童生徒）'!$E$3:$CB$11,V$5,$O118),'データ入力（児童生徒）'!M118))","v":0},{"$f":"IF($O118=\"\",\"\",IF('データ入力（児童生徒）'!$L$3=\"\",INDEX('作業（児童生徒）'!$E$3:$CB$11,W$5,$O118),'データ入力（児童生徒）'!N118))","v":0},{"$f":"IF($O118=\"\",\"\",IF('データ入力（児童生徒）'!$L$3=\"\",INDEX('作業（児童生徒）'!$E$3:$CB$11,X$5,$O118),'データ入力（児童生徒）'!O118))","v":0},0]
[null,null,"保護者",null,null,null,"",null,null,null,null,null,null,1,{"$f":"IF(N119>=1,COUNT($N$6:N119),\"\")","v":71},{"$f":"IF($O119=\"\",\"\",IF('データ入力（児童生徒）'!$L$3=\"\",INDEX('作業（児童生徒）'!$E$3:$CB$11,P$5,$O119),'データ入力（児童生徒）'!G119))","v":0},{"$f":"IF($O119=\"\",\"\",IF('データ入力（児童生徒）'!$L$3=\"\",INDEX('作業（児童生徒）'!$E$3:$CB$11,Q$5,$O119),'データ入力（児童生徒）'!H119))","v":0},{"$f":"IF($O119=\"\",\"\",IF('データ入力（児童生徒）'!$L$3=\"\",INDEX('作業（児童生徒）'!$E$3:$CB$11,R$5,$O119),'データ入力（児童生徒）'!I119))","v":0},{"$f":"IF($O119=\"\",\"\",IF('データ入力（児童生徒）'!$L$3=\"\",INDEX('作業（児童生徒）'!$E$3:$CB$11,S$5,$O119),'データ入力（児童生徒）'!J119))","v":0},{"$f":"IF($O119=\"\",\"\",IF('データ入力（児童生徒）'!$L$3=\"\",INDEX('作業（児童生徒）'!$E$3:$CB$11,T$5,$O119),'データ入力（児童生徒）'!K119))","v":0},{"$f":"IF($O119=\"\",\"\",IF('データ入力（児童生徒）'!$L$3=\"\",INDEX('作業（児童生徒）'!$E$3:$CB$11,U$5,$O119),'データ入力（児童生徒）'!L119))","v":0},{"$f":"IF($O119=\"\",\"\",IF('データ入力（児童生徒）'!$L$3=\"\",INDEX('作業（児童生徒）'!$E$3:$CB$11,V$5,$O119),'データ入力（児童生徒）'!M119))","v":0},{"$f":"IF($O119=\"\",\"\",IF('データ入力（児童生徒）'!$L$3=\"\",INDEX('作業（児童生徒）'!$E$3:$CB$11,W$5,$O119),'データ入力（児童生徒）'!N119))","v":0},{"$f":"IF($O119=\"\",\"\",IF('データ入力（児童生徒）'!$L$3=\"\",INDEX('作業（児童生徒）'!$E$3:$CB$11,X$5,$O119),'データ入力（児童生徒）'!O119))","v":0},0]
[null,null,"スマホの販売店員",null,null,null,"",null,null,null,null,null,null,1,{"$f":"IF(N120>=1,COUNT($N$6:N120),\"\")","v":72},{"$f":"IF($O120=\"\",\"\",IF('データ入力（児童生徒）'!$L$3=\"\",INDEX('作業（児童生徒）'!$E$3:$CB$11,P$5,$O120),'データ入力（児童生徒）'!G120))","v":0},{"$f":"IF($O120=\"\",\"\",IF('データ入力（児童生徒）'!$L$3=\"\",INDEX('作業（児童生徒）'!$E$3:$CB$11,Q$5,$O120),'データ入力（児童生徒）'!H120))","v":0},{"$f":"IF($O120=\"\",\"\",IF('データ入力（児童生徒）'!$L$3=\"\",INDEX('作業（児童生徒）'!$E$3:$CB$11,R$5,$O120),'データ入力（児童生徒）'!I120))","v":0},{"$f":"IF($O120=\"\",\"\",IF('データ入力（児童生徒）'!$L$3=\"\",INDEX('作業（児童生徒）'!$E$3:$CB$11,S$5,$O120),'データ入力（児童生徒）'!J120))","v":0},{"$f":"IF($O120=\"\",\"\",IF('データ入力（児童生徒）'!$L$3=\"\",INDEX('作業（児童生徒）'!$E$3:$CB$11,T$5,$O120),'データ入力（児童生徒）'!K120))","v":0},{"$f":"IF($O120=\"\",\"\",IF('データ入力（児童生徒）'!$L$3=\"\",INDEX('作業（児童生徒）'!$E$3:$CB$11,U$5,$O120),'データ入力（児童生徒）'!L120))","v":0},{"$f":"IF($O120=\"\",\"\",IF('データ入力（児童生徒）'!$L$3=\"\",INDEX('作業（児童生徒）'!$E$3:$CB$11,V$5,$O120),'データ入力（児童生徒）'!M120))","v":0},{"$f":"IF($O120=\"\",\"\",IF('データ入力（児童生徒）'!$L$3=\"\",INDEX('作業（児童生徒）'!$E$3:$CB$11,W$5,$O120),'データ入力（児童生徒）'!N120))","v":0},{"$f":"IF($O120=\"\",\"\",IF('データ入力（児童生徒）'!$L$3=\"\",INDEX('作業（児童生徒）'!$E$3:$CB$11,X$5,$O120),'データ入力（児童生徒）'!O120))","v":0},0]
[null,null,"友だち",null,null,null,"",null,null,null,null,null,null,1,{"$f":"IF(N121>=1,COUNT($N$6:N121),\"\")","v":73},{"$f":"IF($O121=\"\",\"\",IF('データ入力（児童生徒）'!$L$3=\"\",INDEX('作業（児童生徒）'!$E$3:$CB$11,P$5,$O121),'データ入力（児童生徒）'!G121))","v":0},{"$f":"IF($O121=\"\",\"\",IF('データ入力（児童生徒）'!$L$3=\"\",INDEX('作業（児童生徒）'!$E$3:$CB$11,Q$5,$O121),'データ入力（児童生徒）'!H121))","v":0},{"$f":"IF($O121=\"\",\"\",IF('データ入力（児童生徒）'!$L$3=\"\",INDEX('作業（児童生徒）'!$E$3:$CB$11,R$5,$O121),'データ入力（児童生徒）'!I121))","v":0},{"$f":"IF($O121=\"\",\"\",IF('データ入力（児童生徒）'!$L$3=\"\",INDEX('作業（児童生徒）'!$E$3:$CB$11,S$5,$O121),'データ入力（児童生徒）'!J121))","v":0},{"$f":"IF($O121=\"\",\"\",IF('データ入力（児童生徒）'!$L$3=\"\",INDEX('作業（児童生徒）'!$E$3:$CB$11,T$5,$O121),'データ入力（児童生徒）'!K121))","v":0},{"$f":"IF($O121=\"\",\"\",IF('データ入力（児童生徒）'!$L$3=\"\",INDEX('作業（児童生徒）'!$E$3:$CB$11,U$5,$O121),'データ入力（児童生徒）'!L121))","v":0},{"$f":"IF($O121=\"\",\"\",IF('データ入力（児童生徒）'!$L$3=\"\",INDEX('作業（児童生徒）'!$E$3:$CB$11,V$5,$O121),'データ入力（児童生徒）'!M121))","v":0},{"$f":"IF($O121=\"\",\"\",IF('データ入力（児童生徒）'!$L$3=\"\",INDEX('作業（児童生徒）'!$E$3:$CB$11,W$5,$O121),'データ入力（児童生徒）'!N121))","v":0},{"$f":"IF($O121=\"\",\"\",IF('データ入力（児童生徒）'!$L$3=\"\",INDEX('作業（児童生徒）'!$E$3:$CB$11,X$5,$O121),'データ入力（児童生徒）'!O121))","v":0},0]
[null,null,"テレビや本・雑誌",null,null,null,"",null,null,null,null,null,null,1,{"$f":"IF(N122>=1,COUNT($N$6:N122),\"\")","v":74},{"$f":"IF($O122=\"\",\"\",IF('データ入力（児童生徒）'!$L$3=\"\",INDEX('作業（児童生徒）'!$E$3:$CB$11,P$5,$O122),'データ入力（児童生徒）'!G122))","v":0},{"$f":"IF($O122=\"\",\"\",IF('データ入力（児童生徒）'!$L$3=\"\",INDEX('作業（児童生徒）'!$E$3:$CB$11,Q$5,$O122),'データ入力（児童生徒）'!H122))","v":0},{"$f":"IF($O122=\"\",\"\",IF('データ入力（児童生徒）'!$L$3=\"\",INDEX('作業（児童生徒）'!$E$3:$CB$11,R$5,$O122),'データ入力（児童生徒）'!I122))","v":0},{"$f":"IF($O122=\"\",\"\",IF('データ入力（児童生徒）'!$L$3=\"\",INDEX('作業（児童生徒）'!$E$3:$CB$11,S$5,$O122),'データ入力（児童生徒）'!J122))","v":0},{"$f":"IF($O122=\"\",\"\",IF('データ入力（児童生徒）'!$L$3=\"\",INDEX('作業（児童生徒）'!$E$3:$CB$11,T$5,$O122),'データ入力（児童生徒）'!K122))","v":0},{"$f":"IF($O122=\"\",\"\",IF('データ入力（児童生徒）'!$L$3=\"\",INDEX('作業（児童生徒）'!$E$3:$CB$11,U$5,$O122),'データ入力（児童生徒）'!L122))","v":0},{"$f":"IF($O122=\"\",\"\",IF('データ入力（児童生徒）'!$L$3=\"\",INDEX('作業（児童生徒）'!$E$3:$CB$11,V$5,$O122),'データ入力（児童生徒）'!M122))","v":0},{"$f":"IF($O122=\"\",\"\",IF('データ入力（児童生徒）'!$L$3=\"\",INDEX('作業（児童生徒）'!$E$3:$CB$11,W$5,$O122),'データ入力（児童生徒）'!N122))","v":0},{"$f":"IF($O122=\"\",\"\",IF('データ入力（児童生徒）'!$L$3=\"\",INDEX('作業（児童生徒）'!$E$3:$CB$11,X$5,$O122),'データ入力（児童生徒）'!O122))","v":0},0]
[null,null,"インターネット",null,null,null,"",null,null,null,null,null,null,1,{"$f":"IF(N123>=1,COUNT($N$6:N123),\"\")","v":75},{"$f":"IF($O123=\"\",\"\",IF('データ入力（児童生徒）'!$L$3=\"\",INDEX('作業（児童生徒）'!$E$3:$CB$11,P$5,$O123),'データ入力（児童生徒）'!G123))","v":0},{"$f":"IF($O123=\"\",\"\",IF('データ入力（児童生徒）'!$L$3=\"\",INDEX('作業（児童生徒）'!$E$3:$CB$11,Q$5,$O123),'データ入力（児童生徒）'!H123))","v":0},{"$f":"IF($O123=\"\",\"\",IF('データ入力（児童生徒）'!$L$3=\"\",INDEX('作業（児童生徒）'!$E$3:$CB$11,R$5,$O123),'データ入力（児童生徒）'!I123))","v":0},{"$f":"IF($O123=\"\",\"\",IF('データ入力（児童生徒）'!$L$3=\"\",INDEX('作業（児童生徒）'!$E$3:$CB$11,S$5,$O123),'データ入力（児童生徒）'!J123))","v":0},{"$f":"IF($O123=\"\",\"\",IF('データ入力（児童生徒）'!$L$3=\"\",INDEX('作業（児童生徒）'!$E$3:$CB$11,T$5,$O123),'データ入力（児童生徒）'!K123))","v":0},{"$f":"IF($O123=\"\",\"\",IF('データ入力（児童生徒）'!$L$3=\"\",INDEX('作業（児童生徒）'!$E$3:$CB$11,U$5,$O123),'データ入力（児童生徒）'!L123))","v":0},{"$f":"IF($O123=\"\",\"\",IF('データ入力（児童生徒）'!$L$3=\"\",INDEX('作業（児童生徒）'!$E$3:$CB$11,V$5,$O123),'データ入力（児童生徒）'!M123))","v":0},{"$f":"IF($O123=\"\",\"\",IF('データ入力（児童生徒）'!$L$3=\"\",INDEX('作業（児童生徒）'!$E$3:$CB$11,W$5,$O123),'データ入力（児童生徒）'!N123))","v":0},{"$f":"IF($O123=\"\",\"\",IF('データ入力（児童生徒）'!$L$3=\"\",INDEX('作業（児童生徒）'!$E$3:$CB$11,X$5,$O123),'データ入力（児童生徒）'!O123))","v":0},0]
[null,null,"特にない",null,null,null,"",null,null,null,null,null,null,1,{"$f":"IF(N124>=1,COUNT($N$6:N124),\"\")","v":76},{"$f":"IF($O124=\"\",\"\",IF('データ入力（児童生徒）'!$L$3=\"\",INDEX('作業（児童生徒）'!$E$3:$CB$11,P$5,$O124),'データ入力（児童生徒）'!G124))","v":0},{"$f":"IF($O124=\"\",\"\",IF('データ入力（児童生徒）'!$L$3=\"\",INDEX('作業（児童生徒）'!$E$3:$CB$11,Q$5,$O124),'データ入力（児童生徒）'!H124))","v":0},{"$f":"IF($O124=\"\",\"\",IF('データ入力（児童生徒）'!$L$3=\"\",INDEX('作業（児童生徒）'!$E$3:$CB$11,R$5,$O124),'データ入力（児童生徒）'!I124))","v":0},{"$f":"IF($O124=\"\",\"\",IF('データ入力（児童生徒）'!$L$3=\"\",INDEX('作業（児童生徒）'!$E$3:$CB$11,S$5,$O124),'データ入力（児童生徒）'!J124))","v":0},{"$f":"IF($O124=\"\",\"\",IF('データ入力（児童生徒）'!$L$3=\"\",INDEX('作業（児童生徒）'!$E$3:$CB$11,T$5,$O124),'データ入力（児童生徒）'!K124))","v":0},{"$f":"IF($O124=\"\",\"\",IF('データ入力（児童生徒）'!$L$3=\"\",INDEX('作業（児童生徒）'!$E$3:$CB$11,U$5,$O124),'データ入力（児童生徒）'!L124))","v":0},{"$f":"IF($O124=\"\",\"\",IF('データ入力（児童生徒）'!$L$3=\"\",INDEX('作業（児童生徒）'!$E$3:$CB$11,V$5,$O124),'データ入力（児童生徒）'!M124))","v":0},{"$f":"IF($O124=\"\",\"\",IF('データ入力（児童生徒）'!$L$3=\"\",INDEX('作業（児童生徒）'!$E$3:$CB$11,W$5,$O124),'データ入力（児童生徒）'!N124))","v":0},{"$f":"IF($O124=\"\",\"\",IF('データ入力（児童生徒）'!$L$3=\"\",INDEX('作業（児童生徒）'!$E$3:$CB$11,X$5,$O124),'データ入力（児童生徒）'!O124))","v":0},0]

{"sheet":"集計結果（保護者）","index":6,"n_rows":135,"n_cols":25,"rows_kept":135,"cut":false,"hidden":false,"merged":[[1,9,1,11],[20,1,22,1],[23,1,25,1],[49,2,49,4],[50,0,56,0],[50,1,56,1],[50,2,50,4],[51,2,51,4],[52,2,52,4],[53,2,53,4],[54,2,54,4],[55,2,55,4],[56,2,56,4],[70,2,70,4],[71,0,77,0],[71,1,77,1],[71,2,71,4],[72,2,72,4],[73,2,73,4],[74,2,74,4],[91,0,99,0],[91,1,99,1],[91,2,91,6],[92,2,92,6],[93,2,93,6],[94,2,94,6],[101,2,101,6],[75,2,75,4],[76,2,76,4],[77,2,77,4],[90,2,90,6],[95,2,95,6],[96,2,96,6],[97,2,97,6],[98,2,98,6],[99,2,99,6],[110,2,110,6],[111,2,111,6],[112,2,112,6],[102,0,112,0],[102,1,112,1],[102,2,102,6],[103,2,103,6],[104,2,104,6],[105,2,105,6],[106,2,106,6],[107,2,107,6],[108,2,108,6],[109,2,109,6]]}
[]
["「情報モラルの育成」に関するアンケート集計結果",null,null,null,null,null,null,null,null,null,null,null,null,null,null,"学校データ"]
["◆保護者アンケート",null,null,null,null,null,null,null,null,null,"n=",{"$f":"P3","v":0},null,null,null,{"$f":"IF('データ入力（保護者）'!L3=\"\",'作業（保護者）'!A3,'データ入力（保護者）'!L3)","v":0}]
["お子様の【日常生活】についての質問",null,null,null,null,null,null,null,null,null,"※ｎ＝有効回答者数"]
[null,"質問","はい","どちらとも\nいえない","いいえ","無回答",null,null,null,null,null,null,null,null,null,1,2,3,4,5,6,7,8,9,"無回答"]
["(1)-1","お子様は、毎日朝食を食べていますか（時々食べている場合は「どちらともいえない」） ",{"$f":"IFERROR(ROUND(P6/$P$3*100,1),\"\")","v":""},{"$f":"IFERROR(ROUND(Q6/$P$3*100,1),\"\")","v":""},{"$f":"IFERROR(ROUND(R6/$P$3*100,1),\"\")","v":""},{"$f":"IFERROR(ROUND($Y6/$P$3*100,1),\"\")","v":""},null,null,null,null,null,null,null,1,{"$f":"IF(N6>=1,COUNT($N$6:N6),\"\")","v":1},{"$f":"IF($O6=\"\",\"\",IF('データ入力（保護者）'!$L$3=\"\",INDEX('作業（保護者）'!$E$3:$CB$11,P$5,$O6),'データ入力（保護者）'!C6))","v":0},{"$f":"IF($O6=\"\",\"\",IF('データ入力（保護者）'!$L$3=\"\",INDEX('作業（保護者）'!$E$3:$CB$11,Q$5,$O6),'データ入力（保護者）'!D6))","v":0},{"$f":"IF($O6=\"\",\"\",IF('データ入力（保護者）'!$L$3=\"\",INDEX('作業（保護者）'!$E$3:$CB$11,R$5,$O6),'データ入力（保護者）'!E6))","v":0},{"$f":"IF($O6=\"\",\"\",IF('データ入力（保護者）'!$L$3=\"\",INDEX('作業（保護者）'!$E$3:$CB$11,S$5,$O6),'データ入力（保護者）'!F6))","v":0},{"$f":"IF($O6=\"\",\"\",IF('データ入力（保護者）'!$L$3=\"\",INDEX('作業（保護者）'!$E$3:$CB$11,T$5,$O6),'データ入力（保護者）'!G6))","v":0},{"$f":"IF($O6=\"\",\"\",IF('データ入力（保護者）'!$L$3=\"\",INDEX('作業（保護者）'!$E$3:$CB$11,U$5,$O6),'データ入力（保護者）'!H6))","v":0},{"$f":"IF($O6=\"\",\"\",IF('データ入力（保護者）'!$L$3=\"\",INDEX('作業（保護者）'!$E$3:$CB$11,V$5,$O6),'データ入力（保護者）'!I6))","v":0},{"$f":"IF($O6=\"\",\"\",IF('データ入力（保護者）'!$L$3=\"\",INDEX('作業（保護者）'!$E$3:$CB$11,W$5,$O6),'データ入力（保護者）'!J6))","v":0},{"$f":"IF($O6=\"\",\"\",IF('データ入力（保護者）'!$L$3=\"\",INDEX('作業（保護者）'!$E$3:$CB$11,X$5,$O6),'データ入力（保護者）'!K6))","v":0},{"$f":"IF(O6=\"\",\"\",$P$3-SUM(P6:X6))","v":0}]
["(1)-2","お子様は、毎日決まった時間に寝ていますか（週に２、３回寝る時間が遅くなる場合は「どちらともいえない」） ",{"$f":"IFERROR(ROUND(P7/$P$3*100,1),\"\")","v":""},"","",{"$f":"IFERROR(ROUND($Y7/$P$3*100,1),\"\")","v":""},null,null,null,null,null,null,null,1,{"$f":"IF(N7>=1,COUNT($N$6:N7),\"\")","v":2},{"$f":"IF($O7=\"\",\"\",IF('データ入力（保護者）'!$L$3=\"\",INDEX('作業（保護者）'!$E$3:$CB$11,P$5,$O7),'データ入力（保護者）'!C7))","v":0},{"$f":"IF($O7=\"\",\"\",IF('データ入力（保護者）'!$L$3=\"\",INDEX('作業（保護者）'!$E$3:$CB$11,Q$5,$O7),'データ入力（保護者）'!D7))","v":0},{"$f":"IF($O7=\"\",\"\",IF('データ入力（保護者）'!$L$3=\"\",INDEX('作業（保護者）'!$E$3:$CB$11,R$5,$O7),'データ入力（保護者）'!E7))","v":0},{"$f":"IF($O7=\"\",\"\",IF('データ入力（保護者）'!$L$3=\"\",INDEX('作業（保護者）'!$E$3:$CB$11,S$5,$O7),'データ入力（保護者）'!F7))","v":0},{"$f":"IF($O7=\"\",\"\",IF('データ入力（保護者）'!$L$3=\"\",INDEX('作業（保護者）'!$E$3:$CB$11,T$5,$O7),'データ入力（保護者）'!G7))","v":0},{"$f":"IF($O7=\"\",\"\",IF('データ入力（保護者）'!$L$3=\"\",INDEX('作業（保護者）'!$E$3:$CB$11,U$5,$O7),'データ入力（保護者）'!H7))","v":0},{"$f":"IF($O7=\"\",\"\",IF('データ入力（保護者）'!$L$3=\"\",INDEX('作業（保護者）'!$E$3:$CB$11,V$5,$O7),'データ入力（保護者）'!I7))","v":0},{"$f":"IF($O7=\"\",\"\",IF('データ入力（保護者）'!$L$3=\"\",INDEX('作業（保護者）'!$E$3:$CB$11,W$5,$O7),'データ入力（保護者）'!J7))","v":0},{"$f":"IF($O7=\"\",\"\",IF('データ入力（保護者）'!$L$3=\"\",INDEX('作業（保護者）'!$E$3:$CB$11,X$5,$O7),'データ入力（保護者）'!K7))","v":0},{"$f":"IF(O7=\"\",\"\",$P$3-SUM(P7:X7))","v":0}]
[null,null,null,null,null,null,null,null,null,null,null,null,null,null,{"$f":"IF(N8>=1,COUNT($N$6:N8),\"\")","v":""},{"$f":"IF($O8=\"\",\"\",IF('データ入力（保護者）'!$L$3=\"\",INDEX('作業（保護者）'!$E$3:$CB$11,P$5,$O8),'データ入力（保護者）'!C8))","v":""},{"$f":"IF($O8=\"\",\"\",IF('データ入力（保護者）'!$L$3=\"\",INDEX('作業（保護者）'!$E$3:$CB$11,Q$5,$O8),'データ入力（保護者）'!D8))","v":""},{"$f":"IF($O8=\"\",\"\",IF('データ入力（保護者）'!$L$3=\"\",INDEX('作業（保護者）'!$E$3:$CB$11,R$5,$O8),'データ入力（保護者）'!E8))","v":""},{"$f":"IF($O8=\"\",\"\",IF('データ入力（保護者）'!$L$3=\"\",INDEX('作業（保護者）'!$E$3:$CB$11,S$5,$O8),'データ入力（保護者）'!F8))","v":""},{"$f":"IF($O8=\"\",\"\",IF('データ入力（保護者）'!$L$3=\"\",INDEX('作業（保護者）'!$E$3:$CB$11,T$5,$O8),'データ入力（保護者）'!G8))","v":""},{"$f":"IF($O8=\"\",\"\",IF('データ入力（保護者）'!$L$3=\"\",INDEX('作業（保護者）'!$E$3:$CB$11,U$5,$O8),'データ入力（保護者）'!H8))","v":""},{"$f":"IF($O8=\"\",\"\",IF('データ入力（保護者）'!$L$3=\"\",INDEX('作業（保護者）'!$E$3:$CB$11,V$5,$O8),'データ入力（保護者）'!I8))","v":""},{"$f":"IF($O8=\"\",\"\",IF('データ入力（保護者）'!$L$3=\"\",INDEX('作業（保護者）'!$E$3:$CB$11,W$5,$O8),'データ入力（保護者）'!J8))","v":""},{"$f":"IF($O8=\"\",\"\",IF('データ入力（保護者）'!$L$3=\"\",INDEX('作業（保護者）'!$E$3:$CB$11,X$5,$O8),'データ入力（保護者）'!K8))","v":""},""]
[null,"質問","４時間未満","４時間～\n６時間未満","６時間～\n８時間未満","８時間以上","わからない","無回答",null,null,null,null,null,null,{"$f":"IF(N9>=1,COUNT($N$6:N9),\"\")","v":""},{"$f":"IF($O9=\"\",\"\",IF('データ入力（保護者）'!$L$3=\"\",INDEX('作業（保護者）'!$E$3:$CB$11,P$5,$O9),'データ入力（保護者）'!C9))","v":""},{"$f":"IF($O9=\"\",\"\",IF('データ入力（保護者）'!$L$3=\"\",INDEX('作業（保護者）'!$E$3:$CB$11,Q$5,$O9),'データ入力（保護者）'!D9))","v":""},{"$f":"IF($O9=\"\",\"\",IF('データ入力（保護者）'!$L$3=\"\",INDEX('作業（保護者）'!$E$3:$CB$11,R$5,$O9),'データ入力（保護者）'!E9))","v":""},{"$f":"IF($O9=\"\",\"\",IF('データ入力（保護者）'!$L$3=\"\",INDEX('作業（保護者）'!$E$3:$CB$11,S$5,$O9),'データ入力（保護者）'!F9))","v":""},{"$f":"IF($O9=\"\",\"\",IF('データ入力（保護者）'!$L$3=\"\",INDEX('作業（保護者）'!$E$3:$CB$11,T$5,$O9),'データ入力（保護者）'!G9))","v":""},{"$f":"IF($O9=\"\",\"\",IF('データ入力（保護者）'!$L$3=\"\",INDEX('作業（保護者）'!$E$3:$CB$11,U$5,$O9),'データ入力（保護者）'!H9))","v":""},{"$f":"IF($O9=\"\",\"\",IF('データ入力（保護者）'!$L$3=\"\",INDEX('作業（保護者）'!$E$3:$CB$11,V$5,$O9),'データ入力（保護者）'!I9))","v":""},{"$f":"IF($O9=\"\",\"\",IF('データ入力（保護者）'!$L$3=\"\",INDEX('作業（保護者）'!$E$3:$CB$11,W$5,$O9),'データ入力（保護者）'!J9))","v":""},{"$f":"IF($O9=\"\",\"\",IF('データ入力（保護者）'!$L$3=\"\",INDEX('作業（保護者）'!$E$3:$CB$11,X$5,$O9),'データ入力（保護者）'!K9))","v":""},""]
["(2)","お子様の平日の睡眠時間は何時間くらいだと思いますか",{"$f":"IFERROR(ROUND(P10/$P$3*100,1),\"\")","v":""},"","","","",{"$f":"IFERROR(ROUND(Y10/$P$3*100,1),\"\")","v":""},null,null,null,null,null,1,{"$f":"IF(N10>=1,COUNT($N$6:N10),\"\")","v":3},{"$f":"IF($O10=\"\",\"\",IF('データ入力（保護者）'!$L$3=\"\",INDEX('作業（保護者）'!$E$3:$CB$11,P$5,$O10),'データ入力（保護者）'!C10))","v":0},{"$f":"IF($O10=\"\",\"\",IF('データ入力（保護者）'!$L$3=\"\",INDEX('作業（保護者）'!$E$3:$CB$11,Q$5,$O10),'データ入力（保護者）'!D10))","v":0},{"$f":"IF($O10=\"\",\"\",IF('データ入力（保護者）'!$L$3=\"\",INDEX('作業（保護者）'!$E$3:$CB$11,R$5,$O10),'データ入力（保護者）'!E10))","v":0},{"$f":"IF($O10=\"\",\"\",IF('データ入力（保護者）'!$L$3=\"\",INDEX('作業（保護者）'!$E$3:$CB$11,S$5,$O10),'データ入力（保護者）'!F10))","v":0},{"$f":"IF($O10=\"\",\"\",IF('データ入力（保護者）'!$L$3=\"\",INDEX('作業（保護者）'!$E$3:$CB$11,T$5,$O10),'データ入力（保護者）'!G10))","v":0},{"$f":"IF($O10=\"\",\"\",IF('データ入力（保護者）'!$L$3=\"\",INDEX('作業（保護者）'!$E$3:$CB$11,U$5,$O10),'データ入力（保護者）'!H10))","v":0},{"$f":"IF($O10=\"\",\"\",IF('データ入力（保護者）'!$L$3=\"\",INDEX('作業（保護者）'!$E$3:$CB$11,V$5,$O10),'データ入力（保護者）'!I10))","v":0},{"$f":"IF($O10=\"\",\"\",IF('データ入力（保護者）'!$L$3=\"\",INDEX('作業（保護者）'!$E$3:$CB$11,W$5,$O10),'データ入力（保護者）'!J10))","v":0},{"$f":"IF($O10=\"\",\"\",IF('データ入力（保護者）'!$L$3=\"\",INDEX('作業（保護者）'!$E$3:$CB$11,X$5,$O10),'データ入力（保護者）'!K10))","v":0},0]
[null,null,null,null,null,null,null,null,null,null,null,null,null,null,{"$f":"IF(N11>=1,COUNT($N$6:N11),\"\")","v":""},{"$f":"IF($O11=\"\",\"\",IF('データ入力（保護者）'!$L$3=\"\",INDEX('作業（保護者）'!$E$3:$CB$11,P$5,$O11),'データ入力（保護者）'!C11))","v":""},{"$f":"IF($O11=\"\",\"\",IF('データ入力（保護者）'!$L$3=\"\",INDEX('作業（保護者）'!$E$3:$CB$11,Q$5,$O11),'データ入力（保護者）'!D11))","v":""},{"$f":"IF($O11=\"\",\"\",IF('データ入力（保護者）'!$L$3=\"\",INDEX('作業（保護者）'!$E$3:$CB$11,R$5,$O11),'データ入力（保護者）'!E11))","v":""},{"$f":"IF($O11=\"\",\"\",IF('データ入力（保護者）'!$L$3=\"\",INDEX('作業（保護者）'!$E$3:$CB$11,S$5,$O11),'データ入力（保護者）'!F11))","v":""},{"$f":"IF($O11=\"\",\"\",IF('データ入力（保護者）'!$L$3=\"\",INDEX('作業（保護者）'!$E$3:$CB$11,T$5,$O11),'データ入力（保護者）'!G11))","v":""},{"$f":"IF($O11=\"\",\"\",IF('データ入力（保護者）'!$L$3=\"\",INDEX('作業（保護者）'!$E$3:$CB$11,U$5,$O11),'データ入力（保護者）'!H11))","v":""},{"$f":"IF($O11=\"\",\"\",IF('データ入力（保護者）'!$L$3=\"\",INDEX('作業（保護者）'!$E$3:$CB$11,V$5,$O11),'データ入力（保護者）'!I11))","v":""},{"$f":"IF($O11=\"\",\"\",IF('データ入力（保護者）'!$L$3=\"\",INDEX('作業（保護者）'!$E$3:$CB$11,W$5,$O11),'データ入力（保護者）'!J11))","v":""},{"$f":"IF($O11=\"\",\"\",IF('データ入力（保護者）'!$L$3=\"\",INDEX('作業（保護者）'!$E$3:$CB$11,X$5,$O11),'データ入力（保護者）'!K11))","v":""},""]
[null,"質問","30分未満","30分～\n１時間未満","１時間～\n２時間未満","２時間～\n３時間未満","３時間以上","わからない","無回答",null,null,null,null,null,{"$f":"IF(N12>=1,COUNT($N$6:N12),\"\")","v":""},{"$f":"IF($O12=\"\",\"\",IF('データ入力（保護者）'!$L$3=\"\",INDEX('作業（保護者）'!$E$3:$CB$11,P$5,$O12),'データ入力（保護者）'!C12))","v":""},{"$f":"IF($O12=\"\",\"\",IF('データ入力（保護者）'!$L$3=\"\",INDEX('作業（保護者）'!$E$3:$CB$11,Q$5,$O12),'データ入力（保護者）'!D12))","v":""},{"$f":"IF($O12=\"\",\"\",IF('データ入力（保護者）'!$L$3=\"\",INDEX('作業（保護者）'!$E$3:$CB$11,R$5,$O12),'データ入力（保護者）'!E12))","v":""},{"$f":"IF($O12=\"\",\"\",IF('データ入力（保護者）'!$L$3=\"\",INDEX('作業（保護者）'!$E$3:$CB$11,S$5,$O12),'データ入力（保護者）'!F12))","v":""},{"$f":"IF($O12=\"\",\"\",IF('データ入力（保護者）'!$L$3=\"\",INDEX('作業（保護者）'!$E$3:$CB$11,T$5,$O12),'データ入力（保護者）'!G12))","v":""},{"$f":"IF($O12=\"\",\"\",IF('データ入力（保護者）'!$L$3=\"\",INDEX('作業（保護者）'!$E$3:$CB$11,U$5,$O12),'データ入力（保護者）'!H12))","v":""},{"$f":"IF($O12=\"\",\"\",IF('データ入力（保護者）'!$L$3=\"\",INDEX('作業（保護者）'!$E$3:$CB$11,V$5,$O12),'データ入力（保護者）'!I12))","v":""},{"$f":"IF($O12=\"\",\"\",IF('データ入力（保護者）'!$L$3=\"\",INDEX('作業（保護者）'!$E$3:$CB$11,W$5,$O12),'データ入力（保護者）'!J12))","v":""},{"$f":"IF($O12=\"\",\"\",IF('データ入力（保護者）'!$L$3=\"\",INDEX('作業（保護者）'!$E$3:$CB$11,X$5,$O12),'データ入力（保護者）'!K12))","v":""},""]
["(3)","お子様の平日の家庭学習の時間（宿題や塾を含む）は何時間くらいだと思いますか",{"$f":"IFERROR(ROUND(P13/$P$3*100,1),\"\")","v":""},"","","","","",{"$f":"IFERROR(ROUND(Y13/$P$3*100,1),\"\")","v":""},null,null,null,null,1,{"$f":"IF(N13>=1,COUNT($N$6:N13),\"\")","v":4},{"$f":"IF($O13=\"\",\"\",IF('データ入力（保護者）'!$L$3=\"\",INDEX('作業（保護者）'!$E$3:$CB$11,P$5,$O13),'データ入力（保護者）'!C13))","v":0},{"$f":"IF($O13=\"\",\"\",IF('データ入力（保護者）'!$L$3=\"\",INDEX('作業（保護者）'!$E$3:$CB$11,Q$5,$O13),'データ入力（保護者）'!D13))","v":0},{"$f":"IF($O13=\"\",\"\",IF('データ入力（保護者）'!$L$3=\"\",INDEX('作業（保護者）'!$E$3:$CB$11,R$5,$O13),'データ入力（保護者）'!E13))","v":0},{"$f":"IF($O13=\"\",\"\",IF('データ入力（保護者）'!$L$3=\"\",INDEX('作業（保護者）'!$E$3:$CB$11,S$5,$O13),'データ入力（保護者）'!F13))","v":0},{"$f":"IF($O13=\"\",\"\",IF('データ入力（保護者）'!$L$3=\"\",INDEX('作業（保護者）'!$E$3:$CB$11,T$5,$O13),'データ入力（保護者）'!G13))","v":0},{"$f":"IF($O13=\"\",\"\",IF('データ入力（保護者）'!$L$3=\"\",INDEX('作業（保護者）'!$E$3:$CB$11,U$5,$O13),'データ入力（保護者）'!H13))","v":0},{"$f":"IF($O13=\"\",\"\",IF('データ入力（保護者）'!$L$3=\"\",INDEX('作業（保護者）'!$E$3:$CB$11,V$5,$O13),'データ入力（保護者）'!I13))","v":0},{"$f":"IF($O13=\"\",\"\",IF('データ入力（保護者）'!$L$3=\"\",INDEX('作業（保護者）'!$E$3:$CB$11,W$5,$O13),'データ入力（保護者）'!J13))","v":0},{"$f":"IF($O13=\"\",\"\",IF('データ入力（保護者）'!$L$3=\"\",INDEX('作業（保護者）'!$E$3:$CB$11,X$5,$O13),'データ入力（保護者）'!K13))","v":0},0]
["お子様の【各機器の使い方】についての質問",null,null,null,null,null,null,null,null,null,null,null,null,null,{"$f":"IF(N14>=1,COUNT($N$6:N14),\"\")","v":""},{"$f":"IF($O14=\"\",\"\",IF('データ入力（保護者）'!$L$3=\"\",INDEX('作業（保護者）'!$E$3:$CB$11,P$5,$O14),'データ入力（保護者）'!C14))","v":""},{"$f":"IF($O14=\"\",\"\",IF('データ入力（保護者）'!$L$3=\"\",INDEX('作業（保護者）'!$E$3:$CB$11,Q$5,$O14),'データ入力（保護者）'!D14))","v":""},{"$f":"IF($O14=\"\",\"\",IF('データ入力（保護者）'!$L$3=\"\",INDEX('作業（保護者）'!$E$3:$CB$11,R$5,$O14),'データ入力（保護者）'!E14))","v":""},{"$f":"IF($O14=\"\",\"\",IF('データ入力（保護者）'!$L$3=\"\",INDEX('作業（保護者）'!$E$3:$CB$11,S$5,$O14),'データ入力（保護者）'!F14))","v":""},{"$f":"IF($O14=\"\",\"\",IF('データ入力（保護者）'!$L$3=\"\",INDEX('作業（保護者）'!$E$3:$CB$11,T$5,$O14),'データ入力（保護者）'!G14))","v":""},{"$f":"IF($O14=\"\",\"\",IF('データ入力（保護者）'!$L$3=\"\",INDEX('作業（保護者）'!$E$3:$CB$11,U$5,$O14),'データ入力（保護者）'!H14))","v":""},{"$f":"IF($O14=\"\",\"\",IF('データ入力（保護者）'!$L$3=\"\",INDEX('作業（保護者）'!$E$3:$CB$11,V$5,$O14),'データ入力（保護者）'!I14))","v":""},{"$f":"IF($O14=\"\",\"\",IF('データ入力（保護者）'!$L$3=\"\",INDEX('作業（保護者）'!$E$3:$CB$11,W$5,$O14),'データ入力（保護者）'!J14))","v":""},{"$f":"IF($O14=\"\",\"\",IF('データ入力（保護者）'!$L$3=\"\",INDEX('作業（保護者）'!$E$3:$CB$11,X$5,$O14),'データ入力（保護者）'!K14))","v":""},""]
[null,"質問","家にない","自分のもので使っている","家族のもので\n使っている","家にあるが\n使っていない","無回答",null,null,null,null,null,null,null,{"$f":"IF(N15>=1,COUNT($N$6:N15),\"\")","v":""},{"$f":"IF($O15=\"\",\"\",IF('データ入力（保護者）'!$L$3=\"\",INDEX('作業（保護者）'!$E$3:$CB$11,P$5,$O15),'データ入力（保護者）'!C15))","v":""},{"$f":"IF($O15=\"\",\"\",IF('データ入力（保護者）'!$L$3=\"\",INDEX('作業（保護者）'!$E$3:$CB$11,Q$5,$O15),'データ入力（保護者）'!D15))","v":""},{"$f":"IF($O15=\"\",\"\",IF('データ入力（保護者）'!$L$3=\"\",INDEX('作業（保護者）'!$E$3:$CB$11,R$5,$O15),'データ入力（保護者）'!E15))","v":""},{"$f":"IF($O15=\"\",\"\",IF('データ入力（保護者）'!$L$3=\"\",INDEX('作業（保護者）'!$E$3:$CB$11,S$5,$O15),'データ入力（保護者）'!F15))","v":""},{"$f":"IF($O15=\"\",\"\",IF('データ入力（保護者）'!$L$3=\"\",INDEX('作業（保護者）'!$E$3:$CB$11,T$5,$O15),'データ入力（保護者）'!G15))","v":""},{"$f":"IF($O15=\"\",\"\",IF('データ入力（保護者）'!$L$3=\"\",INDEX('作業（保護者）'!$E$3:$CB$11,U$5,$O15),'データ入力（保護者）'!H15))","v":""},{"$f":"IF($O15=\"\",\"\",IF('データ入力（保護者）'!$L$3=\"\",INDEX('作業（保護者）'!$E$3:$CB$11,V$5,$O15),'データ入力（保護者）'!I15))","v":""},{"$f":"IF($O15=\"\",\"\",IF('データ入力（保護者）'!$L$3=\"\",INDEX('作業（保護者）'!$E$3:$CB$11,W$5,$O15),'データ入力（保護者）'!J15))","v":""},{"$f":"IF($O15=\"\",\"\",IF('データ入力（保護者）'!$L$3=\"\",INDEX('作業（保護者）'!$E$3:$CB$11,X$5,$O15),'データ入力（保護者）'!K15))","v":""},""]
["(4)-1","お子様はスマホでインターネットを使っていますか",{"$f":"IFERROR(ROUND(P16/$P$3*100,1),\"\")","v":""},{"$f":"IFERROR(ROUND(Q16/$P$3*100,1),\"\")","v":""},{"$f":"IFERROR(ROUND(R16/$P$3*100,1),\"\")","v":""},{"$f":"IFERROR(ROUND(S16/$P$3*100,1),\"\")","v":""},{"$f":"IFERROR(ROUND($Y16/$P$3*100,1),\"\")","v":""},null,null,null,null,null,null,1,{"$f":"IF(N16>=1,COUNT($N$6:N16),\"\")","v":5},{"$f":"IF($O16=\"\",\"\",IF('データ入力（保護者）'!$L$3=\"\",INDEX('作業（保護者）'!$E$3:$CB$11,P$5,$O16),'データ入力（保護者）'!C16))","v":0},{"$f":"IF($O16=\"\",\"\",IF('データ入力（保護者）'!$L$3=\"\",INDEX('作業（保護者）'!$E$3:$CB$11,Q$5,$O16),'データ入力（保護者）'!D16))","v":0},{"$f":"IF($O16=\"\",\"\",IF('データ入力（保護者）'!$L$3=\"\",INDEX('作業（保護者）'!$E$3:$CB$11,R$5,$O16),'データ入力（保護者）'!E16))","v":0},{"$f":"IF($O16=\"\",\"\",IF('データ入力（保護者）'!$L$3=\"\",INDEX('作業（保護者）'!$E$3:$CB$11,S$5,$O16),'データ入力（保護者）'!F16))","v":0},{"$f":"IF($O16=\"\",\"\",IF('データ入力（保護者）'!$L$3=\"\",INDEX('作業（保護者）'!$E$3:$CB$11,T$5,$O16),'データ入力（保護者）'!G16))","v":0},{"$f":"IF($O16=\"\",\"\",IF('データ入力（保護者）'!$L$3=\"\",INDEX('作業（保護者）'!$E$3:$CB$11,U$5,$O16),'データ入力（保護者）'!H16))","v":0},{"$f":"IF($O16=\"\",\"\",IF('データ入力（保護者）'!$L$3=\"\",INDEX('作業（保護者）'!$E$3:$CB$11,V$5,$O16),'データ入力（保護者）'!I16))","v":0},{"$f":"IF($O16=\"\",\"\",IF('データ入力（保護者）'!$L$3=\"\",INDEX('作業（保護者）'!$E$3:$CB$11,W$5,$O16),'データ入力（保護者）'!J16))","v":0},{"$f":"IF($O16=\"\",\"\",IF('データ入力（保護者）'!$L$3=\"\",INDEX('作業（保護者）'!$E$3:$CB$11,X$5,$O16),'データ入力（保護者）'!K16))","v":0},0]
["(4)-2","お子様はタブレットやパソコンでインターネットを使っていますか","","","","",{"$f":"IFERROR(ROUND($Y17/$P$3*100,1),\"\")","v":""},null,null,null,null,null,null,1,{"$f":"IF(N17>=1,COUNT($N$6:N17),\"\")","v":6},{"$f":"IF($O17=\"\",\"\",IF('データ入力（保護者）'!$L$3=\"\",INDEX('作業（保護者）'!$E$3:$CB$11,P$5,$O17),'データ入力（保護者）'!C17))","v":0},{"$f":"IF($O17=\"\",\"\",IF('データ入力（保護者）'!$L$3=\"\",INDEX('作業（保護者）'!$E$3:$CB$11,Q$5,$O17),'データ入力（保護者）'!D17))","v":0},{"$f":"IF($O17=\"\",\"\",IF('データ入力（保護者）'!$L$3=\"\",INDEX('作業（保護者）'!$E$3:$CB$11,R$5,$O17),'データ入力（保護者）'!E17))","v":0},{"$f":"IF($O17=\"\",\"\",IF('データ入力（保護者）'!$L$3=\"\",INDEX('作業（保護者）'!$E$3:$CB$11,S$5,$O17),'データ入力（保護者）'!F17))","v":0},{"$f":"IF($O17=\"\",\"\",IF('データ入力（保護者）'!$L$3=\"\",INDEX('作業（保護者）'!$E$3:$CB$11,T$5,$O17),'データ入力（保護者）'!G17))","v":0},{"$f":"IF($O17=\"\",\"\",IF('データ入力（保護者）'!$L$3=\"\",INDEX('作業（保護者）'!$E$3:$CB$11,U$5,$O17),'データ入力（保護者）'!H17))","v":0},{"$f":"IF($O17=\"\",\"\",IF('データ入力（保護者）'!$L$3=\"\",INDEX('作業（保護者）'!$E$3:$CB$11,V$5,$O17),'データ入力（保護者）'!I17))","v":0},{"$f":"IF($O17=\"\",\"\",IF('データ入力（保護者）'!$L$3=\"\",INDEX('作業（保護者）'!$E$3:$CB$11,W$5,$O17),'データ入力（保護者）'!J17))","v":0},{"$f":"IF($O17=\"\",\"\",IF('データ入力（保護者）'!$L$3=\"\",INDEX('作業（保護者）'!$E$3:$CB$11,X$5,$O17),'データ入力（保護者）'!K17))","v":0},0]
["(4)-3","お子様はゲーム機でインターネットを使っていますか","","","","",{"$f":"IFERROR(ROUND($Y18/$P$3*100,1),\"\")","v":""},null,null,null,null,null,null,1,{"$f":"IF(N18>=1,COUNT($N$6:N18),\"\")","v":7},{"$f":"IF($O18=\"\",\"\",IF('データ入力（保護者）'!$L$3=\"\",INDEX('作業（保護者）'!$E$3:$CB$11,P$5,$O18),'データ入力（保護者）'!C18))","v":0},{"$f":"IF($O18=\"\",\"\",IF('データ入力（保護者）'!$L$3=\"\",INDEX('作業（保護者）'!$E$3:$CB$11,Q$5,$O18),'データ入力（保護者）'!D18))","v":0},{"$f":"IF($O18=\"\",\"\",IF('データ入力（保護者）'!$L$3=\"\",INDEX('作業（保護者）'!$E$3:$CB$11,R$5,$O18),'データ入力（保護者）'!E18))","v":0},{"$f":"IF($O18=\"\",\"\",IF('データ入力（保護者）'!$L$3=\"\",INDEX('作業（保護者）'!$E$3:$CB$11,S$5,$O18),'データ入力（保護者）'!F18))","v":0},{"$f":"IF($O18=\"\",\"\",IF('データ入力（保護者）'!$L$3=\"\",INDEX('作業（保護者）'!$E$3:$CB$11,T$5,$O18),'データ入力（保護者）'!G18))","v":0},{"$f":"IF($O18=\"\",\"\",IF('データ入力（保護者）'!$L$3=\"\",INDEX('作業（保護者）'!$E$3:$CB$11,U$5,$O18),'データ入力（保護者）'!H18))","v":0},{"$f":"IF($O18=\"\",\"\",IF('データ入力（保護者）'!$L$3=\"\",INDEX('作業（保護者）'!$E$3:$CB$11,V$5,$O18),'データ入力（保護者）'!I18))","v":0},{"$f":"IF($O18=\"\",\"\",IF('データ入力（保護者）'!$L$3=\"\",INDEX('作業（保護者）'!$E$3:$CB$11,W$5,$O18),'データ入力（保護者）'!J18))","v":0},{"$f":"IF($O18=\"\",\"\",IF('データ入力（保護者）'!$L$3=\"\",INDEX('作業（保護者）'!$E$3:$CB$11,X$5,$O18),'データ入力（保護者）'!K18))","v":0},0]
[null,null,null,null,null,null,null,null,null,null,null,null,null,null,{"$f":"IF(N19>=1,COUNT($N$6:N19),\"\")","v":""},{"$f":"IF($O19=\"\",\"\",IF('データ入力（保護者）'!$L$3=\"\",INDEX('作業（保護者）'!$E$3:$CB$11,P$5,$O19),'データ入力（保護者）'!C19))","v":""},{"$f":"IF($O19=\"\",\"\",IF('データ入力（保護者）'!$L$3=\"\",INDEX('作業（保護者）'!$E$3:$CB$11,Q$5,$O19),'データ入力（保護者）'!D19))","v":""},{"$f":"IF($O19=\"\",\"\",IF('データ入力（保護者）'!$L$3=\"\",INDEX('作業（保護者）'!$E$3:$CB$11,R$5,$O19),'データ入力（保護者）'!E19))","v":""},{"$f":"IF($O19=\"\",\"\",IF('データ入力（保護者）'!$L$3=\"\",INDEX('作業（保護者）'!$E$3:$CB$11,S$5,$O19),'データ入力（保護者）'!F19))","v":""},{"$f":"IF($O19=\"\",\"\",IF('データ入力（保護者）'!$L$3=\"\",INDEX('作業（保護者）'!$E$3:$CB$11,T$5,$O19),'データ入力（保護者）'!G19))","v":""},{"$f":"IF($O19=\"\",\"\",IF('データ入力（保護者）'!$L$3=\"\",INDEX('作業（保護者）'!$E$3:$CB$11,U$5,$O19),'データ入力（保護者）'!H19))","v":""},{"$f":"IF($O19=\"\",\"\",IF('データ入力（保護者）'!$L$3=\"\",INDEX('作業（保護者）'!$E$3:$CB$11,V$5,$O19),'データ入力（保護者）'!I19))","v":""},{"$f":"IF($O19=\"\",\"\",IF('データ入力（保護者）'!$L$3=\"\",INDEX('作業（保護者）'!$E$3:$CB$11,W$5,$O19),'データ入力（保護者）'!J19))","v":""},{"$f":"IF($O19=\"\",\"\",IF('データ入力（保護者）'!$L$3=\"\",INDEX('作業（保護者）'!$E$3:$CB$11,X$5,$O19),'データ入力（保護者）'!K19))","v":""},""]
[null,"質問","機器名","家にない","０分","30分未満\n使っている","30分以上\n１時間未満","１時間以上\n２時間未満","２時間以上\n３時間未満","３時間以上\n４時間未満","４時間以上","わからない","無回答",null,{"$f":"IF(N20>=1,COUNT($N$6:N20),\"\")","v":""},{"$f":"IF($O20=\"\",\"\",IF('データ入力（保護者）'!$L$3=\"\",INDEX('作業（保護者）'!$E$3:$CB$11,P$5,$O20),'データ入力（保護者）'!C20))","v":""},{"$f":"IF($O20=\"\",\"\",IF('データ入力（保護者）'!$L$3=\"\",INDEX('作業（保護者）'!$E$3:$CB$11,Q$5,$O20),'データ入力（保護者）'!D20))","v":""},{"$f":"IF($O20=\"\",\"\",IF('データ入力（保護者）'!$L$3=\"\",INDEX('作業（保護者）'!$E$3:$CB$11,R$5,$O20),'データ入力（保護者）'!E20))","v":""},{"$f":"IF($O20=\"\",\"\",IF('データ入力（保護者）'!$L$3=\"\",INDEX('作業（保護者）'!$E$3:$CB$11,S$5,$O20),'データ入力（保護者）'!F20))","v":""},{"$f":"IF($O20=\"\",\"\",IF('データ入力（保護者）'!$L$3=\"\",INDEX('作業（保護者）'!$E$3:$CB$11,T$5,$O20),'データ入力（保護者）'!G20))","v":""},{"$f":"IF($O20=\"\",\"\",IF('データ入力（保護者）'!$L$3=\"\",INDEX('作業（保護者）'!$E$3:$CB$11,U$5,$O20),'データ入力（保護者）'!H20))","v":""},{"$f":"IF($O20=\"\",\"\",IF('データ入力（保護者）'!$L$3=\"\",INDEX('作業（保護者）'!$E$3:$CB$11,V$5,$O20),'データ入力（保護者）'!I20))","v":""},{"$f":"IF($O20=\"\",\"\",IF('データ入力（保護者）'!$L$3=\"\",INDEX('作業（保護者）'!$E$3:$CB$11,W$5,$O20),'データ入力（保護者）'!J20))","v":""},{"$f":"IF($O20=\"\",\"\",IF('データ入力（保護者）'!$L$3=\"\",INDEX('作業（保護者）'!$E$3:$CB$11,X$5,$O20),'データ入力（保護者）'!K20))","v":""},""]
["(5)-1","子どもの平日の平均使用時間（勉強のために使うことも含む）","スマホ・\nタブレット",{"$f":"IFERROR(ROUND(P21/$P$3*100,1),\"\")","v":""},{"$f":"IFERROR(ROUND(Q21/$P$3*100,1),\"\")","v":""},{"$f":"IFERROR(ROUND(R21/$P$3*100,1),\"\")","v":""},{"$f":"IFERROR(ROUND(S21/$P$3*100,1),\"\")","v":""},{"$f":"IFERROR(ROUND(T21/$P$3*100,1),\"\")","v":""},{"$f":"IFERROR(ROUND(U21/$P$3*100,1),\"\")","v":""},{"$f":"IFERROR(ROUND(V21/$P$3*100,1),\"\")","v":""},{"$f":"IFERROR(ROUND(W21/$P$3*100,1),\"\")","v":""},{"$f":"IFERROR(ROUND(X21/$P$3*100,1),\"\")","v":""},{"$f":"IFERROR(ROUND(Y21/$P$3*100,1),\"\")","v":""},1,{"$f":"IF(N21>=1,COUNT($N$6:N21),\"\")","v":8},{"$f":"IF($O21=\"\",\"\",IF('データ入力（保護者）'!$L$3=\"\",INDEX('作業（保護者）'!$E$3:$CB$11,P$5,$O21),'データ入力（保護者）'!D21))","v":0},{"$f":"IF($O21=\"\",\"\",IF('データ入力（保護者）'!$L$3=\"\",INDEX('作業（保護者）'!$E$3:$CB$11,Q$5,$O21),'データ入力（保護者）'!E21))","v":0},{"$f":"IF($O21=\"\",\"\",IF('データ入力（保護者）'!$L$3=\"\",INDEX('作業（保護者）'!$E$3:$CB$11,R$5,$O21),'データ入力（保護者）'!F21))","v":0},{"$f":"IF($O21=\"\",\"\",IF('データ入力（保護者）'!$L$3=\"\",INDEX('作業（保護者）'!$E$3:$CB$11,S$5,$O21),'データ入力（保護者）'!G21))","v":0},{"$f":"IF($O21=\"\",\"\",IF('データ入力（保護者）'!$L$3=\"\",INDEX('作業（保護者）'!$E$3:$CB$11,T$5,$O21),'データ入力（保護者）'!H21))","v":0},{"$f":"IF($O21=\"\",\"\",IF('データ入力（保護者）'!$L$3=\"\",INDEX('作業（保護者）'!$E$3:$CB$11,U$5,$O21),'データ入力（保護者）'!I21))","v":0},{"$f":"IF($O21=\"\",\"\",IF('データ入力（保護者）'!$L$3=\"\",INDEX('作業（保護者）'!$E$3:$CB$11,V$5,$O21),'データ入力（保護者）'!J21))","v":0},{"$f":"IF($O21=\"\",\"\",IF('データ入力（保護者）'!$L$3=\"\",INDEX('作業（保護者）'!$E$3:$CB$11,W$5,$O21),'データ入力（保護者）'!K21))","v":0},{"$f":"IF($O21=\"\",\"\",IF('データ入力（保護者）'!$L$3=\"\",INDEX('作業（保護者）'!$E$3:$CB$11,X$5,$O21),'データ入力（保護者）'!L21))","v":0},0]
["(5)-2",null,"パソコン",{"$f":"IFERROR(ROUND(P22/$P$3*100,1),\"\")","v":""},"","","","","","","",{"$f":"IFERROR(ROUND(X22/$P$3*100,1),\"\")","v":""},{"$f":"IFERROR(ROUND(Y22/$P$3*100,1),\"\")","v":""},1,{"$f":"IF(N22>=1,COUNT($N$6:N22),\"\")","v":9},{"$f":"IF($O22=\"\",\"\",IF('データ入力（保護者）'!$L$3=\"\",INDEX('作業（保護者）'!$E$3:$CB$11,P$5,$O22),'データ入力（保護者）'!D22))","v":0},{"$f":"IF($O22=\"\",\"\",IF('データ入力（保護者）'!$L$3=\"\",INDEX('作業（保護者）'!$E$3:$CB$11,Q$5,$O22),'データ入力（保護者）'!E22))","v":0},{"$f":"IF($O22=\"\",\"\",IF('データ入力（保護者）'!$L$3=\"\",INDEX('作業（保護者）'!$E$3:$CB$11,R$5,$O22),'データ入力（保護者）'!F22))","v":0},{"$f":"IF($O22=\"\",\"\",IF('データ入力（保護者）'!$L$3=\"\",INDEX('作業（保護者）'!$E$3:$CB$11,S$5,$O22),'データ入力（保護者）'!G22))","v":0},{"$f":"IF($O22=\"\",\"\",IF('データ入力（保護者）'!$L$3=\"\",INDEX('作業（保護者）'!$E$3:$CB$11,T$5,$O22),'データ入力（保護者）'!H22))","v":0},{"$f":"IF($O22=\"\",\"\",IF('データ入力（保護者）'!$L$3=\"\",INDEX('作業（保護者）'!$E$3:$CB$11,U$5,$O22),'データ入力（保護者）'!I22))","v":0},{"$f":"IF($O22=\"\",\"\",IF('データ入力（保護者）'!$L$3=\"\",INDEX('作業（保護者）'!$E$3:$CB$11,V$5,$O22),'データ入力（保護者）'!J22))","v":0},{"$f":"IF($O22=\"\",\"\",IF('データ入力（保護者）'!$L$3=\"\",INDEX('作業（保護者）'!$E$3:$CB$11,W$5,$O22),'データ入力（保護者）'!K22))","v":0},{"$f":"IF($O22=\"\",\"\",IF('データ入力（保護者）'!$L$3=\"\",INDEX('作業（保護者）'!$E$3:$CB$11,X$5,$O22),'データ入力（保護者）'!L22))","v":0},0]
["(5)-3",null,"ゲーム機","","","","","","","","","","",1,{"$f":"IF(N23>=1,COUNT($N$6:N23),\"\")","v":10},{"$f":"IF($O23=\"\",\"\",IF('データ入力（保護者）'!$L$3=\"\",INDEX('作業（保護者）'!$E$3:$CB$11,P$5,$O23),'データ入力（保護者）'!D23))","v":0},{"$f":"IF($O23=\"\",\"\",IF('データ入力（保護者）'!$L$3=\"\",INDEX('作業（保護者）'!$E$3:$CB$11,Q$5,$O23),'データ入力（保護者）'!E23))","v":0},{"$f":"IF($O23=\"\",\"\",IF('データ入力（保護者）'!$L$3=\"\",INDEX('作業（保護者）'!$E$3:$CB$11,R$5,$O23),'データ入力（保護者）'!F23))","v":0},{"$f":"IF($O23=\"\",\"\",IF('データ入力（保護者）'!$L$3=\"\",INDEX('作業（保護者）'!$E$3:$CB$11,S$5,$O23),'データ入力（保護者）'!G23))","v":0},{"$f":"IF($O23=\"\",\"\",IF('データ入力（保護者）'!$L$3=\"\",INDEX('作業（保護者）'!$E$3:$CB$11,T$5,$O23),'データ入力（保護者）'!H23))","v":0},{"$f":"IF($O23=\"\",\"\",IF('データ入力（保護者）'!$L$3=\"\",INDEX('作業（保護者）'!$E$3:$CB$11,U$5,$O23),'データ入力（保護者）'!I23))","v":0},{"$f":"IF($O23=\"\",\"\",IF('データ入力（保護者）'!$L$3=\"\",INDEX('作業（保護者）'!$E$3:$CB$11,V$5,$O23),'データ入力（保護者）'!J23))","v":0},{"$f":"IF($O23=\"\",\"\",IF('データ入力（保護者）'!$L$3=\"\",INDEX('作業（保護者）'!$E$3:$CB$11,W$5,$O23),'データ入力（保護者）'!K23))","v":0},{"$f":"IF($O23=\"\",\"\",IF('データ入力（保護者）'!$L$3=\"\",INDEX('作業（保護者）'!$E$3:$CB$11,X$5,$O23),'データ入力（保護者）'!L23))","v":0},0]
["(6)-1","勉強のために使っている時間 ","スマホ・\nタブレット","","","","","","","","","","",1,{"$f":"IF(N24>=1,COUNT($N$6:N24),\"\")","v":11},{"$f":"IF($O24=\"\",\"\",IF('データ入力（保護者）'!$L$3=\"\",INDEX('作業（保護者）'!$E$3:$CB$11,P$5,$O24),'データ入力（保護者）'!D24))","v":0},{"$f":"IF($O24=\"\",\"\",IF('データ入力（保護者）'!$L$3=\"\",INDEX('作業（保護者）'!$E$3:$CB$11,Q$5,$O24),'データ入力（保護者）'!E24))","v":0},{"$f":"IF($O24=\"\",\"\",IF('データ入力（保護者）'!$L$3=\"\",INDEX('作業（保護者）'!$E$3:$CB$11,R$5,$O24),'データ入力（保護者）'!F24))","v":0},{"$f":"IF($O24=\"\",\"\",IF('データ入力（保護者）'!$L$3=\"\",INDEX('作業（保護者）'!$E$3:$CB$11,S$5,$O24),'データ入力（保護者）'!G24))","v":0},{"$f":"IF($O24=\"\",\"\",IF('データ入力（保護者）'!$L$3=\"\",INDEX('作業（保護者）'!$E$3:$CB$11,T$5,$O24),'データ入力（保護者）'!H24))","v":0},{"$f":"IF($O24=\"\",\"\",IF('データ入力（保護者）'!$L$3=\"\",INDEX('作業（保護者）'!$E$3:$CB$11,U$5,$O24),'データ入力（保護者）'!I24))","v":0},{"$f":"IF($O24=\"\",\"\",IF('データ入力（保護者）'!$L$3=\"\",INDEX('作業（保護者）'!$E$3:$CB$11,V$5,$O24),'データ入力（保護者）'!J24))","v":0},{"$f":"IF($O24=\"\",\"\",IF('データ入力（保護者）'!$L$3=\"\",INDEX('作業（保護者）'!$E$3:$CB$11,W$5,$O24),'データ入力（保護者）'!K24))","v":0},{"$f":"IF($O24=\"\",\"\",IF('データ入力（保護者）'!$L$3=\"\",INDEX('作業（保護者）'!$E$3:$CB$11,X$5,$O24),'データ入力（保護者）'!L24))","v":0},0]
["(6)-2",null,"パソコン","","","","","","","","","","",1,{"$f":"IF(N25>=1,COUNT($N$6:N25),\"\")","v":12},{"$f":"IF($O25=\"\",\"\",IF('データ入力（保護者）'!$L$3=\"\",INDEX('作業（保護者）'!$E$3:$CB$11,P$5,$O25),'データ入力（保護者）'!D25))","v":0},{"$f":"IF($O25=\"\",\"\",IF('データ入力（保護者）'!$L$3=\"\",INDEX('作業（保護者）'!$E$3:$CB$11,Q$5,$O25),'データ入力（保護者）'!E25))","v":0},{"$f":"IF($O25=\"\",\"\",IF('データ入力（保護者）'!$L$3=\"\",INDEX('作業（保護者）'!$E$3:$CB$11,R$5,$O25),'データ入力（保護者）'!F25))","v":0},{"$f":"IF($O25=\"\",\"\",IF('データ入力（保護者）'!$L$3=\"\",INDEX('作業（保護者）'!$E$3:$CB$11,S$5,$O25),'データ入力（保護者）'!G25))","v":0},{"$f":"IF($O25=\"\",\"\",IF('データ入力（保護者）'!$L$3=\"\",INDEX('作業（保護者）'!$E$3:$CB$11,T$5,$O25),'データ入力（保護者）'!H25))","v":0},{"$f":"IF($O25=\"\",\"\",IF('データ入力（保護者）'!$L$3=\"\",INDEX('作業（保護者）'!$E$3:$CB$11,U$5,$O25),'データ入力（保護者）'!I25))","v":0},{"$f":"IF($O25=\"\",\"\",IF('データ入力（保護者）'!$L$3=\"\",INDEX('作業（保護者）'!$E$3:$CB$11,V$5,$O25),'データ入力（保護者）'!J25))","v":0},{"$f":"IF($O25=\"\",\"\",IF('データ入力（保護者）'!$L$3=\"\",INDEX('作業（保護者）'!$E$3:$CB$11,W$5,$O25),'データ入力（保護者）'!K25))","v":0},{"$f":"IF($O25=\"\",\"\",IF('データ入力（保護者）'!$L$3=\"\",INDEX('作業（保護者）'!$E$3:$CB$11,X$5,$O25),'データ入力（保護者）'!L25))","v":0},0]
["(6)-3",null,"ゲーム機","","","","","","","","","","",1,{"$f":"IF(N26>=1,COUNT($N$6:N26),\"\")","v":13},{"$f":"IF($O26=\"\",\"\",IF('データ入力（保護者）'!$L$3=\"\",INDEX('作業（保護者）'!$E$3:$CB$11,P$5,$O26),'データ入力（保護者）'!D26))","v":0},{"$f":"IF($O26=\"\",\"\",IF('データ入力（保護者）'!$L$3=\"\",INDEX('作業（保護者）'!$E$3:$CB$11,Q$5,$O26),'データ入力（保護者）'!E26))","v":0},{"$f":"IF($O26=\"\",\"\",IF('データ入力（保護者）'!$L$3=\"\",INDEX('作業（保護者）'!$E$3:$CB$11,R$5,$O26),'データ入力（保護者）'!F26))","v":0},{"$f":"IF($O26=\"\",\"\",IF('データ入力（保護者）'!$L$3=\"\",INDEX('作業（保護者）'!$E$3:$CB$11,S$5,$O26),'データ入力（保護者）'!G26))","v":0},{"$f":"IF($O26=\"\",\"\",IF('データ入力（保護者）'!$L$3=\"\",INDEX('作業（保護者）'!$E$3:$CB$11,T$5,$O26),'データ入力（保護者）'!H26))","v":0},{"$f":"IF($O26=\"\",\"\",IF('データ入力（保護者）'!$L$3=\"\",INDEX('作業（保護者）'!$E$3:$CB$11,U$5,$O26),'データ入力（保護者）'!I26))","v":0},{"$f":"IF($O26=\"\",\"\",IF('データ入力（保護者）'!$L$3=\"\",INDEX('作業（保護者）'!$E$3:$CB$11,V$5,$O26),'データ入力（保護者）'!J26))","v":0},{"$f":"IF($O26=\"\",\"\",IF('データ入力（保護者）'!$L$3=\"\",INDEX('作業（保護者）'!$E$3:$CB$11,W$5,$O26),'データ入力（保護者）'!K26))","v":0},{"$f":"IF($O26=\"\",\"\",IF('データ入力（保護者）'!$L$3=\"\",INDEX('作業（保護者）'!$E$3:$CB$11,X$5,$O26),'データ入力（保護者）'!L26))","v":0},0]
["（7）ご家庭で、各機器を使う場合のルールとして決めていることはありますか",null,null,null,null,null,null,null,null,null,null,null,null,null,{"$f":"IF(N27>=1,COUNT($N$6:N27),\"\")","v":""},{"$f":"IF($O27=\"\",\"\",IF('データ入力（保護者）'!$L$3=\"\",INDEX('作業（保護者）'!$E$3:$CB$11,P$5,$O27),'データ入力（保護者）'!C27))","v":""},{"$f":"IF($O27=\"\",\"\",IF('データ入力（保護者）'!$L$3=\"\",INDEX('作業（保護者）'!$E$3:$CB$11,Q$5,$O27),'データ入力（保護者）'!D27))","v":""},{"$f":"IF($O27=\"\",\"\",IF('データ入力（保護者）'!$L$3=\"\",INDEX('作業（保護者）'!$E$3:$CB$11,R$5,$O27),'データ入力（保護者）'!E27))","v":""},{"$f":"IF($O27=\"\",\"\",IF('データ入力（保護者）'!$L$3=\"\",INDEX('作業（保護者）'!$E$3:$CB$11,S$5,$O27),'データ入力（保護者）'!F27))","v":""},{"$f":"IF($O27=\"\",\"\",IF('データ入力（保護者）'!$L$3=\"\",INDEX('作業（保護者）'!$E$3:$CB$11,T$5,$O27),'データ入力（保護者）'!G27))","v":""},{"$f":"IF($O27=\"\",\"\",IF('データ入力（保護者）'!$L$3=\"\",INDEX('作業（保護者）'!$E$3:$CB$11,U$5,$O27),'データ入力（保護者）'!H27))","v":""},{"$f":"IF($O27=\"\",\"\",IF('データ入力（保護者）'!$L$3=\"\",INDEX('作業（保護者）'!$E$3:$CB$11,V$5,$O27),'データ入力（保護者）'!I27))","v":""},{"$f":"IF($O27=\"\",\"\",IF('データ入力（保護者）'!$L$3=\"\",INDEX('作業（保護者）'!$E$3:$CB$11,W$5,$O27),'データ入力（保護者）'!J27))","v":""},{"$f":"IF($O27=\"\",\"\",IF('データ入力（保護者）'!$L$3=\"\",INDEX('作業（保護者）'!$E$3:$CB$11,X$5,$O27),'データ入力（保護者）'!K27))","v":""},""]
[null,"質問","機器を\n使わせていない","決められて\nいる","決められて\nいない","無回答",null,null,null,null,null,null,null,null,{"$f":"IF(N28>=1,COUNT($N$6:N28),\"\")","v":""},{"$f":"IF($O28=\"\",\"\",IF('データ入力（保護者）'!$L$3=\"\",INDEX('作業（保護者）'!$E$3:$CB$11,P$5,$O28),'データ入力（保護者）'!C28))","v":""},{"$f":"IF($O28=\"\",\"\",IF('データ入力（保護者）'!$L$3=\"\",INDEX('作業（保護者）'!$E$3:$CB$11,Q$5,$O28),'データ入力（保護者）'!D28))","v":""},{"$f":"IF($O28=\"\",\"\",IF('データ入力（保護者）'!$L$3=\"\",INDEX('作業（保護者）'!$E$3:$CB$11,R$5,$O28),'データ入力（保護者）'!E28))","v":""},{"$f":"IF($O28=\"\",\"\",IF('データ入力（保護者）'!$L$3=\"\",INDEX('作業（保護者）'!$E$3:$CB$11,S$5,$O28),'データ入力（保護者）'!F28))","v":""},{"$f":"IF($O28=\"\",\"\",IF('データ入力（保護者）'!$L$3=\"\",INDEX('作業（保護者）'!$E$3:$CB$11,T$5,$O28),'データ入力（保護者）'!G28))","v":""},{"$f":"IF($O28=\"\",\"\",IF('データ入力（保護者）'!$L$3=\"\",INDEX('作業（保護者）'!$E$3:$CB$11,U$5,$O28),'データ入力（保護者）'!H28))","v":""},{"$f":"IF($O28=\"\",\"\",IF('データ入力（保護者）'!$L$3=\"\",INDEX('作業（保護者）'!$E$3:$CB$11,V$5,$O28),'データ入力（保護者）'!I28))","v":""},{"$f":"IF($O28=\"\",\"\",IF('データ入力（保護者）'!$L$3=\"\",INDEX('作業（保護者）'!$E$3:$CB$11,W$5,$O28),'データ入力（保護者）'!J28))","v":""},{"$f":"IF($O28=\"\",\"\",IF('データ入力（保護者）'!$L$3=\"\",INDEX('作業（保護者）'!$E$3:$CB$11,X$5,$O28),'データ入力（保護者）'!K28))","v":""},""]
["(7)-1","利用時間（何時間以内など）",{"$f":"IFERROR(ROUND(P29/$P$3*100,1),\"\")","v":""},{"$f":"IFERROR(ROUND(Q29/$P$3*100,1),\"\")","v":""},{"$f":"IFERROR(ROUND(R29/$P$3*100,1),\"\")","v":""},{"$f":"IFERROR(ROUND($Y29/$P$3*100,1),\"\")","v":""},null,null,null,null,null,null,null,1,{"$f":"IF(N29>=1,COUNT($N$6:N29),\"\")","v":14},{"$f":"IF($O29=\"\",\"\",IF('データ入力（保護者）'!$L$3=\"\",INDEX('作業（保護者）'!$E$3:$CB$11,P$5,$O29),'データ入力（保護者）'!C29))","v":0},{"$f":"IF($O29=\"\",\"\",IF('データ入力（保護者）'!$L$3=\"\",INDEX('作業（保護者）'!$E$3:$CB$11,Q$5,$O29),'データ入力（保護者）'!D29))","v":0},{"$f":"IF($O29=\"\",\"\",IF('データ入力（保護者）'!$L$3=\"\",INDEX('作業（保護者）'!$E$3:$CB$11,R$5,$O29),'データ入力（保護者）'!E29))","v":0},{"$f":"IF($O29=\"\",\"\",IF('データ入力（保護者）'!$L$3=\"\",INDEX('作業（保護者）'!$E$3:$CB$11,S$5,$O29),'データ入力（保護者）'!F29))","v":0},{"$f":"IF($O29=\"\",\"\",IF('データ入力（保護者）'!$L$3=\"\",INDEX('作業（保護者）'!$E$3:$CB$11,T$5,$O29),'データ入力（保護者）'!G29))","v":0},{"$f":"IF($O29=\"\",\"\",IF('データ入力（保護者）'!$L$3=\"\",INDEX('作業（保護者）'!$E$3:$CB$11,U$5,$O29),'データ入力（保護者）'!H29))","v":0},{"$f":"IF($O29=\"\",\"\",IF('データ入力（保護者）'!$L$3=\"\",INDEX('作業（保護者）'!$E$3:$CB$11,V$5,$O29),'データ入力（保護者）'!I29))","v":0},{"$f":"IF($O29=\"\",\"\",IF('データ入力（保護者）'!$L$3=\"\",INDEX('作業（保護者）'!$E$3:$CB$11,W$5,$O29),'データ入力（保護者）'!J29))","v":0},{"$f":"IF($O29=\"\",\"\",IF('データ入力（保護者）'!$L$3=\"\",INDEX('作業（保護者）'!$E$3:$CB$11,X$5,$O29),'データ入力（保護者）'!K29))","v":0},0]
["(7)-2","利用してよい時間帯（何時から何時までなど）","","","","",null,null,null,null,null,null,null,1,{"$f":"IF(N30>=1,COUNT($N$6:N30),\"\")","v":15},{"$f":"IF($O30=\"\",\"\",IF('データ入力（保護者）'!$L$3=\"\",INDEX('作業（保護者）'!$E$3:$CB$11,P$5,$O30),'データ入力（保護者）'!C30))","v":0},{"$f":"IF($O30=\"\",\"\",IF('データ入力（保護者）'!$L$3=\"\",INDEX('作業（保護者）'!$E$3:$CB$11,Q$5,$O30),'データ入力（保護者）'!D30))","v":0},{"$f":"IF($O30=\"\",\"\",IF('データ入力（保護者）'!$L$3=\"\",INDEX('作業（保護者）'!$E$3:$CB$11,R$5,$O30),'データ入力（保護者）'!E30))","v":0},{"$f":"IF($O30=\"\",\"\",IF('データ入力（保護者）'!$L$3=\"\",INDEX('作業（保護者）'!$E$3:$CB$11,S$5,$O30),'データ入力（保護者）'!F30))","v":0},{"$f":"IF($O30=\"\",\"\",IF('データ入力（保護者）'!$L$3=\"\",INDEX('作業（保護者）'!$E$3:$CB$11,T$5,$O30),'データ入力（保護者）'!G30))","v":0},{"$f":"IF($O30=\"\",\"\",IF('データ入力（保護者）'!$L$3=\"\",INDEX('作業（保護者）'!$E$3:$CB$11,U$5,$O30),'データ入力（保護者）'!H30))","v":0},{"$f":"IF($O30=\"\",\"\",IF('データ入力（保護者）'!$L$3=\"\",INDEX('作業（保護者）'!$E$3:$CB$11,V$5,$O30),'データ入力（保護者）'!I30))","v":0},{"$f":"IF($O30=\"\",\"\",IF('データ入力（保護者）'!$L$3=\"\",INDEX('作業（保護者）'!$E$3:$CB$11,W$5,$O30),'データ入力（保護者）'!J30))","v":0},{"$f":"IF($O30=\"\",\"\",IF('データ入力（保護者）'!$L$3=\"\",INDEX('作業（保護者）'!$E$3:$CB$11,X$5,$O30),'データ入力（保護者）'!K30))","v":0},0]
["(7)-3","通話やデータ通信などに利用できる金額","","","","",null,null,null,null,null,null,null,1,{"$f":"IF(N31>=1,COUNT($N$6:N31),\"\")","v":16},{"$f":"IF($O31=\"\",\"\",IF('データ入力（保護者）'!$L$3=\"\",INDEX('作業（保護者）'!$E$3:$CB$11,P$5,$O31),'データ入力（保護者）'!C31))","v":0},{"$f":"IF($O31=\"\",\"\",IF('データ入力（保護者）'!$L$3=\"\",INDEX('作業（保護者）'!$E$3:$CB$11,Q$5,$O31),'データ入力（保護者）'!D31))","v":0},{"$f":"IF($O31=\"\",\"\",IF('データ入力（保護者）'!$L$3=\"\",INDEX('作業（保護者）'!$E$3:$CB$11,R$5,$O31),'データ入力（保護者）'!E31))","v":0},{"$f":"IF($O31=\"\",\"\",IF('データ入力（保護者）'!$L$3=\"\",INDEX('作業（保護者）'!$E$3:$CB$11,S$5,$O31),'データ入力（保護者）'!F31))","v":0},{"$f":"IF($O31=\"\",\"\",IF('データ入力（保護者）'!$L$3=\"\",INDEX('作業（保護者）'!$E$3:$CB$11,T$5,$O31),'データ入力（保護者）'!G31))","v":0},{"$f":"IF($O31=\"\",\"\",IF('データ入力（保護者）'!$L$3=\"\",INDEX('作業（保護者）'!$E$3:$CB$11,U$5,$O31),'データ入力（保護者）'!H31))","v":0},{"$f":"IF($O31=\"\",\"\",IF('データ入力（保護者）'!$L$3=\"\",INDEX('作業（保護者）'!$E$3:$CB$11,V$5,$O31),'データ入力（保護者）'!I31))","v":0},{"$f":"IF($O31=\"\",\"\",IF('データ入力（保護者）'!$L$3=\"\",INDEX('作業（保護者）'!$E$3:$CB$11,W$5,$O31),'データ入力（保護者）'!J31))","v":0},{"$f":"IF($O31=\"\",\"\",IF('データ入力（保護者）'!$L$3=\"\",INDEX('作業（保護者）'!$E$3:$CB$11,X$5,$O31),'データ入力（保護者）'!K31))","v":0},0]
["(7)-4","有料、無料に限らず、アプリをダウンロードすることについて","","","","",null,null,null,null,null,null,null,1,{"$f":"IF(N32>=1,COUNT($N$6:N32),\"\")","v":17},{"$f":"IF($O32=\"\",\"\",IF('データ入力（保護者）'!$L$3=\"\",INDEX('作業（保護者）'!$E$3:$CB$11,P$5,$O32),'データ入力（保護者）'!C32))","v":0},{"$f":"IF($O32=\"\",\"\",IF('データ入力（保護者）'!$L$3=\"\",INDEX('作業（保護者）'!$E$3:$CB$11,Q$5,$O32),'データ入力（保護者）'!D32))","v":0},{"$f":"IF($O32=\"\",\"\",IF('データ入力（保護者）'!$L$3=\"\",INDEX('作業（保護者）'!$E$3:$CB$11,R$5,$O32),'データ入力（保護者）'!E32))","v":0},{"$f":"IF($O32=\"\",\"\",IF('データ入力（保護者）'!$L$3=\"\",INDEX('作業（保護者）'!$E$3:$CB$11,S$5,$O32),'データ入力（保護者）'!F32))","v":0},{"$f":"IF($O32=\"\",\"\",IF('データ入力（保護者）'!$L$3=\"\",INDEX('作業（保護者）'!$E$3:$CB$11,T$5,$O32),'データ入力（保護者）'!G32))","v":0},{"$f":"IF($O32=\"\",\"\",IF('データ入力（保護者）'!$L$3=\"\",INDEX('作業（保護者）'!$E$3:$CB$11,U$5,$O32),'データ入力（保護者）'!H32))","v":0},{"$f":"IF($O32=\"\",\"\",IF('データ入力（保護者）'!$L$3=\"\",INDEX('作業（保護者）'!$E$3:$CB$11,V$5,$O32),'データ入力（保護者）'!I32))","v":0},{"$f":"IF($O32=\"\",\"\",IF('データ入力（保護者）'!$L$3=\"\",INDEX('作業（保護者）'!$E$3:$CB$11,W$5,$O32),'データ入力（保護者）'!J32))","v":0},{"$f":"IF($O32=\"\",\"\",IF('データ入力（保護者）'!$L$3=\"\",INDEX('作業（保護者）'!$E$3:$CB$11,X$5,$O32),'データ入力（保護者）'!K32))","v":0},0]
["(7)-5","お金を払って有料アプリやゲーム内のアイテムを買うことについて","","","","",null,null,null,null,null,null,null,1,{"$f":"IF(N33>=1,COUNT($N$6:N33),\"\")","v":18},{"$f":"IF($O33=\"\",\"\",IF('データ入力（保護者）'!$L$3=\"\",INDEX('作業（保護者）'!$E$3:$CB$11,P$5,$O33),'データ入力（保護者）'!C33))","v":0},{"$f":"IF($O33=\"\",\"\",IF('データ入力（保護者）'!$L$3=\"\",INDEX('作業（保護者）'!$E$3:$CB$11,Q$5,$O33),'データ入力（保護者）'!D33))","v":0},{"$f":"IF($O33=\"\",\"\",IF('データ入力（保護者）'!$L$3=\"\",INDEX('作業（保護者）'!$E$3:$CB$11,R$5,$O33),'データ入力（保護者）'!E33))","v":0},{"$f":"IF($O33=\"\",\"\",IF('データ入力（保護者）'!$L$3=\"\",INDEX('作業（保護者）'!$E$3:$CB$11,S$5,$O33),'データ入力（保護者）'!F33))","v":0},{"$f":"IF($O33=\"\",\"\",IF('データ入力（保護者）'!$L$3=\"\",INDEX('作業（保護者）'!$E$3:$CB$11,T$5,$O33),'データ入力（保護者）'!G33))","v":0},{"$f":"IF($O33=\"\",\"\",IF('データ入力（保護者）'!$L$3=\"\",INDEX('作業（保護者）'!$E$3:$CB$11,U$5,$O33),'データ入力（保護者）'!H33))","v":0},{"$f":"IF($O33=\"\",\"\",IF('データ入力（保護者）'!$L$3=\"\",INDEX('作業（保護者）'!$E$3:$CB$11,V$5,$O33),'データ入力（保護者）'!I33))","v":0},{"$f":"IF($O33=\"\",\"\",IF('データ入力（保護者）'!$L$3=\"\",INDEX('作業（保護者）'!$E$3:$CB$11,W$5,$O33),'データ入力（保護者）'!J33))","v":0},{"$f":"IF($O33=\"\",\"\",IF('データ入力（保護者）'!$L$3=\"\",INDEX('作業（保護者）'!$E$3:$CB$11,X$5,$O33),'データ入力（保護者）'!K33))","v":0},0]
["(7)-6","Twitter（ﾂｲｯﾀｰ）やLINE（ﾗｲﾝ）など、インターネットへ書きこむことについて","","","","",null,null,null,null,null,null,null,1,{"$f":"IF(N34>=1,COUNT($N$6:N34),\"\")","v":19},{"$f":"IF($O34=\"\",\"\",IF('データ入力（保護者）'!$L$3=\"\",INDEX('作業（保護者）'!$E$3:$CB$11,P$5,$O34),'データ入力（保護者）'!C34))","v":0},{"$f":"IF($O34=\"\",\"\",IF('データ入力（保護者）'!$L$3=\"\",INDEX('作業（保護者）'!$E$3:$CB$11,Q$5,$O34),'データ入力（保護者）'!D34))","v":0},{"$f":"IF($O34=\"\",\"\",IF('データ入力（保護者）'!$L$3=\"\",INDEX('作業（保護者）'!$E$3:$CB$11,R$5,$O34),'データ入力（保護者）'!E34))","v":0},{"$f":"IF($O34=\"\",\"\",IF('データ入力（保護者）'!$L$3=\"\",INDEX('作業（保護者）'!$E$3:$CB$11,S$5,$O34),'データ入力（保護者）'!F34))","v":0},{"$f":"IF($O34=\"\",\"\",IF('データ入力（保護者）'!$L$3=\"\",INDEX('作業（保護者）'!$E$3:$CB$11,T$5,$O34),'データ入力（保護者）'!G34))","v":0},{"$f":"IF($O34=\"\",\"\",IF('データ入力（保護者）'!$L$3=\"\",INDEX('作業（保護者）'!$E$3:$CB$11,U$5,$O34),'データ入力（保護者）'!H34))","v":0},{"$f":"IF($O34=\"\",\"\",IF('データ入力（保護者）'!$L$3=\"\",INDEX('作業（保護者）'!$E$3:$CB$11,V$5,$O34),'データ入力（保護者）'!I34))","v":0},{"$f":"IF($O34=\"\",\"\",IF('データ入力（保護者）'!$L$3=\"\",INDEX('作業（保護者）'!$E$3:$CB$11,W$5,$O34),'データ入力（保護者）'!J34))","v":0},{"$f":"IF($O34=\"\",\"\",IF('データ入力（保護者）'!$L$3=\"\",INDEX('作業（保護者）'!$E$3:$CB$11,X$5,$O34),'データ入力（保護者）'!K34))","v":0},0]
["(7)-7","YouTube（ﾕｰﾁｭｰﾌﾞ）やホームページなど、インターネットを見ることについて","","","","",null,null,null,null,null,null,null,1,{"$f":"IF(N35>=1,COUNT($N$6:N35),\"\")","v":20},{"$f":"IF($O35=\"\",\"\",IF('データ入力（保護者）'!$L$3=\"\",INDEX('作業（保護者）'!$E$3:$CB$11,P$5,$O35),'データ入力（保護者）'!C35))","v":0},{"$f":"IF($O35=\"\",\"\",IF('データ入力（保護者）'!$L$3=\"\",INDEX('作業（保護者）'!$E$3:$CB$11,Q$5,$O35),'データ入力（保護者）'!D35))","v":0},{"$f":"IF($O35=\"\",\"\",IF('データ入力（保護者）'!$L$3=\"\",INDEX('作業（保護者）'!$E$3:$CB$11,R$5,$O35),'データ入力（保護者）'!E35))","v":0},{"$f":"IF($O35=\"\",\"\",IF('データ入力（保護者）'!$L$3=\"\",INDEX('作業（保護者）'!$E$3:$CB$11,S$5,$O35),'データ入力（保護者）'!F35))","v":0},{"$f":"IF($O35=\"\",\"\",IF('データ入力（保護者）'!$L$3=\"\",INDEX('作業（保護者）'!$E$3:$CB$11,T$5,$O35),'データ入力（保護者）'!G35))","v":0},{"$f":"IF($O35=\"\",\"\",IF('データ入力（保護者）'!$L$3=\"\",INDEX('作業（保護者）'!$E$3:$CB$11,U$5,$O35),'データ入力（保護者）'!H35))","v":0},{"$f":"IF($O35=\"\",\"\",IF('データ入力（保護者）'!$L$3=\"\",INDEX('作業（保護者）'!$E$3:$CB$11,V$5,$O35),'データ入力（保護者）'!I35))","v":0},{"$f":"IF($O35=\"\",\"\",IF('データ入力（保護者）'!$L$3=\"\",INDEX('作業（保護者）'!$E$3:$CB$11,W$5,$O35),'データ入力（保護者）'!J35))","v":0},{"$f":"IF($O35=\"\",\"\",IF('データ入力（保護者）'!$L$3=\"\",INDEX('作業（保護者）'!$E$3:$CB$11,X$5,$O35),'データ入力（保護者）'!K35))","v":0},0]
["(7)-8","家の中では、リビング（居間）でしか使わないこと","","","","",null,null,null,null,null,null,null,1,{"$f":"IF(N36>=1,COUNT($N$6:N36),\"\")","v":21},{"$f":"IF($O36=\"\",\"\",IF('データ入力（保護者）'!$L$3=\"\",INDEX('作業（保護者）'!$E$3:$CB$11,P$5,$O36),'データ入力（保護者）'!C36))","v":0},{"$f":"IF($O36=\"\",\"\",IF('データ入力（保護者）'!$L$3=\"\",INDEX('作業（保護者）'!$E$3:$CB$11,Q$5,$O36),'データ入力（保護者）'!D36))","v":0},{"$f":"IF($O36=\"\",\"\",IF('データ入力（保護者）'!$L$3=\"\",INDEX('作業（保護者）'!$E$3:$CB$11,R$5,$O36),'データ入力（保護者）'!E36))","v":0},{"$f":"IF($O36=\"\",\"\",IF('データ入力（保護者）'!$L$3=\"\",INDEX('作業（保護者）'!$E$3:$CB$11,S$5,$O36),'データ入力（保護者）'!F36))","v":0},{"$f":"IF($O36=\"\",\"\",IF('データ入力（保護者）'!$L$3=\"\",INDEX('作業（保護者）'!$E$3:$CB$11,T$5,$O36),'データ入力（保護者）'!G36))","v":0},{"$f":"IF($O36=\"\",\"\",IF('データ入力（保護者）'!$L$3=\"\",INDEX('作業（保護者）'!$E$3:$CB$11,U$5,$O36),'データ入力（保護者）'!H36))","v":0},{"$f":"IF($O36=\"\",\"\",IF('データ入力（保護者）'!$L$3=\"\",INDEX('作業（保護者）'!$E$3:$CB$11,V$5,$O36),'データ入力（保護者）'!I36))","v":0},{"$f":"IF($O36=\"\",\"\",IF('データ入力（保護者）'!$L$3=\"\",INDEX('作業（保護者）'!$E$3:$CB$11,W$5,$O36),'データ入力（保護者）'!J36))","v":0},{"$f":"IF($O36=\"\",\"\",IF('データ入力（保護者）'!$L$3=\"\",INDEX('作業（保護者）'!$E$3:$CB$11,X$5,$O36),'データ入力（保護者）'!K36))","v":0},0]
["(7)-9","保護者と一緒の時にしか使わない","","","","",null,null,null,null,null,null,null,1,{"$f":"IF(N37>=1,COUNT($N$6:N37),\"\")","v":22},{"$f":"IF($O37=\"\",\"\",IF('データ入力（保護者）'!$L$3=\"\",INDEX('作業（保護者）'!$E$3:$CB$11,P$5,$O37),'データ入力（保護者）'!C37))","v":0},{"$f":"IF($O37=\"\",\"\",IF('データ入力（保護者）'!$L$3=\"\",INDEX('作業（保護者）'!$E$3:$CB$11,Q$5,$O37),'データ入力（保護者）'!D37))","v":0},{"$f":"IF($O37=\"\",\"\",IF('データ入力（保護者）'!$L$3=\"\",INDEX('作業（保護者）'!$E$3:$CB$11,R$5,$O37),'データ入力（保護者）'!E37))","v":0},{"$f":"IF($O37=\"\",\"\",IF('データ入力（保護者）'!$L$3=\"\",INDEX('作業（保護者）'!$E$3:$CB$11,S$5,$O37),'データ入力（保護者）'!F37))","v":0},{"$f":"IF($O37=\"\",\"\",IF('データ入力（保護者）'!$L$3=\"\",INDEX('作業（保護者）'!$E$3:$CB$11,T$5,$O37),'データ入力（保護者）'!G37))","v":0},{"$f":"IF($O37=\"\",\"\",IF('データ入力（保護者）'!$L$3=\"\",INDEX('作業（保護者）'!$E$3:$CB$11,U$5,$O37),'データ入力（保護者）'!H37))","v":0},{"$f":"IF($O37=\"\",\"\",IF('データ入力（保護者）'!$L$3=\"\",INDEX('作業（保護者）'!$E$3:$CB$11,V$5,$O37),'データ入力（保護者）'!I37))","v":0},{"$f":"IF($O37=\"\",\"\",IF('データ入力（保護者）'!$L$3=\"\",INDEX('作業（保護者）'!$E$3:$CB$11,W$5,$O37),'データ入力（保護者）'!J37))","v":0},{"$f":"IF($O37=\"\",\"\",IF('データ入力（保護者）'!$L$3=\"\",INDEX('作業（保護者）'!$E$3:$CB$11,X$5,$O37),'データ入力（保護者）'!K37))","v":0},0]
["(7)-10","その他のルール","","","","",null,null,null,null,null,null,null,1,{"$f":"IF(N38>=1,COUNT($N$6:N38),\"\")","v":23},{"$f":"IF($O38=\"\",\"\",IF('データ入力（保護者）'!$L$3=\"\",INDEX('作業（保護者）'!$E$3:$CB$11,P$5,$O38),'データ入力（保護者）'!C38))","v":0},{"$f":"IF($O38=\"\",\"\",IF('データ入力（保護者）'!$L$3=\"\",INDEX('作業（保護者）'!$E$3:$CB$11,Q$5,$O38),'データ入力（保護者）'!D38))","v":0},{"$f":"IF($O38=\"\",\"\",IF('データ入力（保護者）'!$L$3=\"\",INDEX('作業（保護者）'!$E$3:$CB$11,R$5,$O38),'データ入力（保護者）'!E38))","v":0},{"$f":"IF($O38=\"\",\"\",IF('データ入力（保護者）'!$L$3=\"\",INDEX('作業（保護者）'!$E$3:$CB$11,S$5,$O38),'データ入力（保護者）'!F38))","v":0},{"$f":"IF($O38=\"\",\"\",IF('データ入力（保護者）'!$L$3=\"\",INDEX('作業（保護者）'!$E$3:$CB$11,T$5,$O38),'データ入力（保護者）'!G38))","v":0},{"$f":"IF($O38=\"\",\"\",IF('データ入力（保護者）'!$L$3=\"\",INDEX('作業（保護者）'!$E$3:$CB$11,U$5,$O38),'データ入力（保護者）'!H38))","v":0},{"$f":"IF($O38=\"\",\"\",IF('データ入力（保護者）'!$L$3=\"\",INDEX('作業（保護者）'!$E$3:$CB$11,V$5,$O38),'データ入力（保護者）'!I38))","v":0},{"$f":"IF($O38=\"\",\"\",IF('データ入力（保護者）'!$L$3=\"\",INDEX('作業（保護者）'!$E$3:$CB$11,W$5,$O38),'データ入力（保護者）'!J38))","v":0},{"$f":"IF($O38=\"\",\"\",IF('データ入力（保護者）'!$L$3=\"\",INDEX('作業（保護者）'!$E$3:$CB$11,X$5,$O38),'データ入力（保護者）'!K38))","v":0},0]
[null,null,null,null,null,null,null,null,null,null,null,null,null,null,{"$f":"IF(N39>=1,COUNT($N$6:N39),\"\")","v":""},{"$f":"IF($O39=\"\",\"\",IF('データ入力（保護者）'!$L$3=\"\",INDEX('作業（保護者）'!$E$3:$CB$11,P$5,$O39),'データ入力（保護者）'!C39))","v":""},{"$f":"IF($O39=\"\",\"\",IF('データ入力（保護者）'!$L$3=\"\",INDEX('作業（保護者）'!$E$3:$CB$11,Q$5,$O39),'データ入力（保護者）'!D39))","v":""},{"$f":"IF($O39=\"\",\"\",IF('データ入力（保護者）'!$L$3=\"\",INDEX('作業（保護者）'!$E$3:$CB$11,R$5,$O39),'データ入力（保護者）'!E39))","v":""},{"$f":"IF($O39=\"\",\"\",IF('データ入力（保護者）'!$L$3=\"\",INDEX('作業（保護者）'!$E$3:$CB$11,S$5,$O39),'データ入力（保護者）'!F39))","v":""},{"$f":"IF($O39=\"\",\"\",IF('データ入力（保護者）'!$L$3=\"\",INDEX('作業（保護者）'!$E$3:$CB$11,T$5,$O39),'データ入力（保護者）'!G39))","v":""},{"$f":"IF($O39=\"\",\"\",IF('データ入力（保護者）'!$L$3=\"\",INDEX('作業（保護者）'!$E$3:$CB$11,U$5,$O39),'データ入力（保護者）'!H39))","v":""},{"$f":"IF($O39=\"\",\"\",IF('データ入力（保護者）'!$L$3=\"\",INDEX('作業（保護者）'!$E$3:$CB$11,V$5,$O39),'データ入力（保護者）'!I39))","v":""},{"$f":"IF($O39=\"\",\"\",IF('データ入力（保護者）'!$L$3=\"\",INDEX('作業（保護者）'!$E$3:$CB$11,W$5,$O39),'データ入力（保護者）'!J39))","v":""},{"$f":"IF($O39=\"\",\"\",IF('データ入力（保護者）'!$L$3=\"\",INDEX('作業（保護者）'!$E$3:$CB$11,X$5,$O39),'データ入力（保護者）'!K39))","v":""},""]
[null,"質問","機器を\n使わせていない","はい","いいえ","無回答",null,null,null,null,null,null,null,null,{"$f":"IF(N40>=1,COUNT($N$6:N40),\"\")","v":""},{"$f":"IF($O40=\"\",\"\",IF('データ入力（保護者）'!$L$3=\"\",INDEX('作業（保護者）'!$E$3:$CB$11,P$5,$O40),'データ入力（保護者）'!C40))","v":""},{"$f":"IF($O40=\"\",\"\",IF('データ入力（保護者）'!$L$3=\"\",INDEX('作業（保護者）'!$E$3:$CB$11,Q$5,$O40),'データ入力（保護者）'!D40))","v":""},{"$f":"IF($O40=\"\",\"\",IF('データ入力（保護者）'!$L$3=\"\",INDEX('作業（保護者）'!$E$3:$CB$11,R$5,$O40),'データ入力（保護者）'!E40))","v":""},{"$f":"IF($O40=\"\",\"\",IF('データ入力（保護者）'!$L$3=\"\",INDEX('作業（保護者）'!$E$3:$CB$11,S$5,$O40),'データ入力（保護者）'!F40))","v":""},{"$f":"IF($O40=\"\",\"\",IF('データ入力（保護者）'!$L$3=\"\",INDEX('作業（保護者）'!$E$3:$CB$11,T$5,$O40),'データ入力（保護者）'!G40))","v":""},{"$f":"IF($O40=\"\",\"\",IF('データ入力（保護者）'!$L$3=\"\",INDEX('作業（保護者）'!$E$3:$CB$11,U$5,$O40),'データ入力（保護者）'!H40))","v":""},{"$f":"IF($O40=\"\",\"\",IF('データ入力（保護者）'!$L$3=\"\",INDEX('作業（保護者）'!$E$3:$CB$11,V$5,$O40),'データ入力（保護者）'!I40))","v":""},{"$f":"IF($O40=\"\",\"\",IF('データ入力（保護者）'!$L$3=\"\",INDEX('作業（保護者）'!$E$3:$CB$11,W$5,$O40),'データ入力（保護者）'!J40))","v":""},{"$f":"IF($O40=\"\",\"\",IF('データ入力（保護者）'!$L$3=\"\",INDEX('作業（保護者）'!$E$3:$CB$11,X$5,$O40),'データ入力（保護者）'!K40))","v":""},""]
["(8)-1","お子様は各機器を、使いすぎていると思いますか",{"$f":"IFERROR(ROUND(P41/$P$3*100,1),\"\")","v":""},{"$f":"IFERROR(ROUND(Q41/$P$3*100,1),\"\")","v":""},{"$f":"IFERROR(ROUND(R41/$P$3*100,1),\"\")","v":""},{"$f":"IFERROR(ROUND($Y41/$P$3*100,1),\"\")","v":""},null,null,null,null,null,null,null,1,{"$f":"IF(N41>=1,COUNT($N$6:N41),\"\")","v":24},{"$f":"IF($O41=\"\",\"\",IF('データ入力（保護者）'!$L$3=\"\",INDEX('作業（保護者）'!$E$3:$CB$11,P$5,$O41),'データ入力（保護者）'!C41))","v":0},{"$f":"IF($O41=\"\",\"\",IF('データ入力（保護者）'!$L$3=\"\",INDEX('作業（保護者）'!$E$3:$CB$11,Q$5,$O41),'データ入力（保護者）'!D41))","v":0},{"$f":"IF($O41=\"\",\"\",IF('データ入力（保護者）'!$L$3=\"\",INDEX('作業（保護者）'!$E$3:$CB$11,R$5,$O41),'データ入力（保護者）'!E41))","v":0},{"$f":"IF($O41=\"\",\"\",IF('データ入力（保護者）'!$L$3=\"\",INDEX('作業（保護者）'!$E$3:$CB$11,S$5,$O41),'データ入力（保護者）'!F41))","v":0},{"$f":"IF($O41=\"\",\"\",IF('データ入力（保護者）'!$L$3=\"\",INDEX('作業（保護者）'!$E$3:$CB$11,T$5,$O41),'データ入力（保護者）'!G41))","v":0},{"$f":"IF($O41=\"\",\"\",IF('データ入力（保護者）'!$L$3=\"\",INDEX('作業（保護者）'!$E$3:$CB$11,U$5,$O41),'データ入力（保護者）'!H41))","v":0},{"$f":"IF($O41=\"\",\"\",IF('データ入力（保護者）'!$L$3=\"\",INDEX('作業（保護者）'!$E$3:$CB$11,V$5,$O41),'データ入力（保護者）'!I41))","v":0},{"$f":"IF($O41=\"\",\"\",IF('データ入力（保護者）'!$L$3=\"\",INDEX('作業（保護者）'!$E$3:$CB$11,W$5,$O41),'データ入力（保護者）'!J41))","v":0},{"$f":"IF($O41=\"\",\"\",IF('データ入力（保護者）'!$L$3=\"\",INDEX('作業（保護者）'!$E$3:$CB$11,X$5,$O41),'データ入力（保護者）'!K41))","v":0},0]
["(8)-2","各機器にはフィルタリングをかけていますか（使用している機器の１つでもかけてあれば、「はい」）","","","","",null,null,null,null,null,null,null,1,{"$f":"IF(N42>=1,COUNT($N$6:N42),\"\")","v":25},{"$f":"IF($O42=\"\",\"\",IF('データ入力（保護者）'!$L$3=\"\",INDEX('作業（保護者）'!$E$3:$CB$11,P$5,$O42),'データ入力（保護者）'!C42))","v":0},{"$f":"IF($O42=\"\",\"\",IF('データ入力（保護者）'!$L$3=\"\",INDEX('作業（保護者）'!$E$3:$CB$11,Q$5,$O42),'データ入力（保護者）'!D42))","v":0},{"$f":"IF($O42=\"\",\"\",IF('データ入力（保護者）'!$L$3=\"\",INDEX('作業（保護者）'!$E$3:$CB$11,R$5,$O42),'データ入力（保護者）'!E42))","v":0},{"$f":"IF($O42=\"\",\"\",IF('データ入力（保護者）'!$L$3=\"\",INDEX('作業（保護者）'!$E$3:$CB$11,S$5,$O42),'データ入力（保護者）'!F42))","v":0},{"$f":"IF($O42=\"\",\"\",IF('データ入力（保護者）'!$L$3=\"\",INDEX('作業（保護者）'!$E$3:$CB$11,T$5,$O42),'データ入力（保護者）'!G42))","v":0},{"$f":"IF($O42=\"\",\"\",IF('データ入力（保護者）'!$L$3=\"\",INDEX('作業（保護者）'!$E$3:$CB$11,U$5,$O42),'データ入力（保護者）'!H42))","v":0},{"$f":"IF($O42=\"\",\"\",IF('データ入力（保護者）'!$L$3=\"\",INDEX('作業（保護者）'!$E$3:$CB$11,V$5,$O42),'データ入力（保護者）'!I42))","v":0},{"$f":"IF($O42=\"\",\"\",IF('データ入力（保護者）'!$L$3=\"\",INDEX('作業（保護者）'!$E$3:$CB$11,W$5,$O42),'データ入力（保護者）'!J42))","v":0},{"$f":"IF($O42=\"\",\"\",IF('データ入力（保護者）'!$L$3=\"\",INDEX('作業（保護者）'!$E$3:$CB$11,X$5,$O42),'データ入力（保護者）'!K42))","v":0},0]
[null,null,null,null,null,null,null,null,null,null,null,null,null,null,{"$f":"IF(N43>=1,COUNT($N$6:N43),\"\")","v":""},{"$f":"IF($O43=\"\",\"\",IF('データ入力（保護者）'!$L$3=\"\",INDEX('作業（保護者）'!$E$3:$CB$11,P$5,$O43),'データ入力（保護者）'!C43))","v":""},{"$f":"IF($O43=\"\",\"\",IF('データ入力（保護者）'!$L$3=\"\",INDEX('作業（保護者）'!$E$3:$CB$11,Q$5,$O43),'データ入力（保護者）'!D43))","v":""},{"$f":"IF($O43=\"\",\"\",IF('データ入力（保護者）'!$L$3=\"\",INDEX('作業（保護者）'!$E$3:$CB$11,R$5,$O43),'データ入力（保護者）'!E43))","v":""},{"$f":"IF($O43=\"\",\"\",IF('データ入力（保護者）'!$L$3=\"\",INDEX('作業（保護者）'!$E$3:$CB$11,S$5,$O43),'データ入力（保護者）'!F43))","v":""},{"$f":"IF($O43=\"\",\"\",IF('データ入力（保護者）'!$L$3=\"\",INDEX('作業（保護者）'!$E$3:$CB$11,T$5,$O43),'データ入力（保護者）'!G43))","v":""},{"$f":"IF($O43=\"\",\"\",IF('データ入力（保護者）'!$L$3=\"\",INDEX('作業（保護者）'!$E$3:$CB$11,U$5,$O43),'データ入力（保護者）'!H43))","v":""},{"$f":"IF($O43=\"\",\"\",IF('データ入力（保護者）'!$L$3=\"\",INDEX('作業（保護者）'!$E$3:$CB$11,V$5,$O43),'データ入力（保護者）'!I43))","v":""},{"$f":"IF($O43=\"\",\"\",IF('データ入力（保護者）'!$L$3=\"\",INDEX('作業（保護者）'!$E$3:$CB$11,W$5,$O43),'データ入力（保護者）'!J43))","v":""},{"$f":"IF($O43=\"\",\"\",IF('データ入力（保護者）'!$L$3=\"\",INDEX('作業（保護者）'!$E$3:$CB$11,X$5,$O43),'データ入力（保護者）'!K43))","v":""},""]
[null,"質問","家にない","守っている","だいたい\n守っている","あまり守っ\nていない","ほとんど\n守っていない","わからない","ルールは\n決めていない","無回答",null,null,null,null,{"$f":"IF(N44>=1,COUNT($N$6:N44),\"\")","v":""},{"$f":"IF($O44=\"\",\"\",IF('データ入力（保護者）'!$L$3=\"\",INDEX('作業（保護者）'!$E$3:$CB$11,P$5,$O44),'データ入力（保護者）'!C44))","v":""},{"$f":"IF($O44=\"\",\"\",IF('データ入力（保護者）'!$L$3=\"\",INDEX('作業（保護者）'!$E$3:$CB$11,Q$5,$O44),'データ入力（保護者）'!D44))","v":""},{"$f":"IF($O44=\"\",\"\",IF('データ入力（保護者）'!$L$3=\"\",INDEX('作業（保護者）'!$E$3:$CB$11,R$5,$O44),'データ入力（保護者）'!E44))","v":""},{"$f":"IF($O44=\"\",\"\",IF('データ入力（保護者）'!$L$3=\"\",INDEX('作業（保護者）'!$E$3:$CB$11,S$5,$O44),'データ入力（保護者）'!F44))","v":""},{"$f":"IF($O44=\"\",\"\",IF('データ入力（保護者）'!$L$3=\"\",INDEX('作業（保護者）'!$E$3:$CB$11,T$5,$O44),'データ入力（保護者）'!G44))","v":""},{"$f":"IF($O44=\"\",\"\",IF('データ入力（保護者）'!$L$3=\"\",INDEX('作業（保護者）'!$E$3:$CB$11,U$5,$O44),'データ入力（保護者）'!H44))","v":""},{"$f":"IF($O44=\"\",\"\",IF('データ入力（保護者）'!$L$3=\"\",INDEX('作業（保護者）'!$E$3:$CB$11,V$5,$O44),'データ入力（保護者）'!I44))","v":""},{"$f":"IF($O44=\"\",\"\",IF('データ入力（保護者）'!$L$3=\"\",INDEX('作業（保護者）'!$E$3:$CB$11,W$5,$O44),'データ入力（保護者）'!J44))","v":""},{"$f":"IF($O44=\"\",\"\",IF('データ入力（保護者）'!$L$3=\"\",INDEX('作業（保護者）'!$E$3:$CB$11,X$5,$O44),'データ入力（保護者）'!K44))","v":""},""]
["(9)","お子様は、ルールを守っていますか",{"$f":"IFERROR(ROUND(P45/$P$3*100,1),\"\")","v":""},{"$f":"IFERROR(ROUND(Q45/$P$3*100,1),\"\")","v":""},{"$f":"IFERROR(ROUND(R45/$P$3*100,1),\"\")","v":""},{"$f":"IFERROR(ROUND(S45/$P$3*100,1),\"\")","v":""},{"$f":"IFERROR(ROUND(T45/$P$3*100,1),\"\")","v":""},{"$f":"IFERROR(ROUND(U45/$P$3*100,1),\"\")","v":""},{"$f":"IFERROR(ROUND(V45/$P$3*100,1),\"\")","v":""},{"$f":"IFERROR(ROUND(Y45/$P$3*100,1),\"\")","v":""},null,null,null,1,{"$f":"IF(N45>=1,COUNT($N$6:N45),\"\")","v":26},{"$f":"IF($O45=\"\",\"\",IF('データ入力（保護者）'!$L$3=\"\",INDEX('作業（保護者）'!$E$3:$CB$11,P$5,$O45),'データ入力（保護者）'!C45))","v":0},{"$f":"IF($O45=\"\",\"\",IF('データ入力（保護者）'!$L$3=\"\",INDEX('作業（保護者）'!$E$3:$CB$11,Q$5,$O45),'データ入力（保護者）'!D45))","v":0},{"$f":"IF($O45=\"\",\"\",IF('データ入力（保護者）'!$L$3=\"\",INDEX('作業（保護者）'!$E$3:$CB$11,R$5,$O45),'データ入力（保護者）'!E45))","v":0},{"$f":"IF($O45=\"\",\"\",IF('データ入力（保護者）'!$L$3=\"\",INDEX('作業（保護者）'!$E$3:$CB$11,S$5,$O45),'データ入力（保護者）'!F45))","v":0},{"$f":"IF($O45=\"\",\"\",IF('データ入力（保護者）'!$L$3=\"\",INDEX('作業（保護者）'!$E$3:$CB$11,T$5,$O45),'データ入力（保護者）'!G45))","v":0},{"$f":"IF($O45=\"\",\"\",IF('データ入力（保護者）'!$L$3=\"\",INDEX('作業（保護者）'!$E$3:$CB$11,U$5,$O45),'データ入力（保護者）'!H45))","v":0},{"$f":"IF($O45=\"\",\"\",IF('データ入力（保護者）'!$L$3=\"\",INDEX('作業（保護者）'!$E$3:$CB$11,V$5,$O45),'データ入力（保護者）'!I45))","v":0},{"$f":"IF($O45=\"\",\"\",IF('データ入力（保護者）'!$L$3=\"\",INDEX('作業（保護者）'!$E$3:$CB$11,W$5,$O45),'データ入力（保護者）'!J45))","v":0},{"$f":"IF($O45=\"\",\"\",IF('データ入力（保護者）'!$L$3=\"\",INDEX('作業（保護者）'!$E$3:$CB$11,X$5,$O45),'データ入力（保護者）'!K45))","v":0},0]
[null,null,null,null,null,null,null,null,null,null,null,null,null,null,{"$f":"IF(N46>=1,COUNT($N$6:N46),\"\")","v":""},{"$f":"IF($O46=\"\",\"\",IF('データ入力（保護者）'!$L$3=\"\",INDEX('作業（保護者）'!$E$3:$CB$11,P$5,$O46),'データ入力（保護者）'!C46))","v":""},{"$f":"IF($O46=\"\",\"\",IF('データ入力（保護者）'!$L$3=\"\",INDEX('作業（保護者）'!$E$3:$CB$11,Q$5,$O46),'データ入力（保護者）'!D46))","v":""},{"$f":"IF($O46=\"\",\"\",IF('データ入力（保護者）'!$L$3=\"\",INDEX('作業（保護者）'!$E$3:$CB$11,R$5,$O46),'データ入力（保護者）'!E46))","v":""},{"$f":"IF($O46=\"\",\"\",IF('データ入力（保護者）'!$L$3=\"\",INDEX('作業（保護者）'!$E$3:$CB$11,S$5,$O46),'データ入力（保護者）'!F46))","v":""},{"$f":"IF($O46=\"\",\"\",IF('データ入力（保護者）'!$L$3=\"\",INDEX('作業（保護者）'!$E$3:$CB$11,T$5,$O46),'データ入力（保護者）'!G46))","v":""},{"$f":"IF($O46=\"\",\"\",IF('データ入力（保護者）'!$L$3=\"\",INDEX('作業（保護者）'!$E$3:$CB$11,U$5,$O46),'データ入力（保護者）'!H46))","v":""},{"$f":"IF($O46=\"\",\"\",IF('データ入力（保護者）'!$L$3=\"\",INDEX('作業（保護者）'!$E$3:$CB$11,V$5,$O46),'データ入力（保護者）'!I46))","v":""},{"$f":"IF($O46=\"\",\"\",IF('データ入力（保護者）'!$L$3=\"\",INDEX('作業（保護者）'!$E$3:$CB$11,W$5,$O46),'データ入力（保護者）'!J46))","v":""},{"$f":"IF($O46=\"\",\"\",IF('データ入力（保護者）'!$L$3=\"\",INDEX('作業（保護者）'!$E$3:$CB$11,X$5,$O46),'データ入力（保護者）'!K46))","v":""},""]
[null,"質問","各機器を\n使わせていない","保護者","保護者と\nお子様","お子様","ルールは\nない","その他","無回答",null,null,null,null,null,{"$f":"IF(N47>=1,COUNT($N$6:N47),\"\")","v":""},{"$f":"IF($O47=\"\",\"\",IF('データ入力（保護者）'!$L$3=\"\",INDEX('作業（保護者）'!$E$3:$CB$11,P$5,$O47),'データ入力（保護者）'!C47))","v":""},{"$f":"IF($O47=\"\",\"\",IF('データ入力（保護者）'!$L$3=\"\",INDEX('作業（保護者）'!$E$3:$CB$11,Q$5,$O47),'データ入力（保護者）'!D47))","v":""},{"$f":"IF($O47=\"\",\"\",IF('データ入力（保護者）'!$L$3=\"\",INDEX('作業（保護者）'!$E$3:$CB$11,R$5,$O47),'データ入力（保護者）'!E47))","v":""},{"$f":"IF($O47=\"\",\"\",IF('データ入力（保護者）'!$L$3=\"\",INDEX('作業（保護者）'!$E$3:$CB$11,S$5,$O47),'データ入力（保護者）'!F47))","v":""},{"$f":"IF($O47=\"\",\"\",IF('データ入力（保護者）'!$L$3=\"\",INDEX('作業（保護者）'!$E$3:$CB$11,T$5,$O47),'データ入力（保護者）'!G47))","v":""},{"$f":"IF($O47=\"\",\"\",IF('データ入力（保護者）'!$L$3=\"\",INDEX('作業（保護者）'!$E$3:$CB$11,U$5,$O47),'データ入力（保護者）'!H47))","v":""},{"$f":"IF($O47=\"\",\"\",IF('データ入力（保護者）'!$L$3=\"\",INDEX('作業（保護者）'!$E$3:$CB$11,V$5,$O47),'データ入力（保護者）'!I47))","v":""},{"$f":"IF($O47=\"\",\"\",IF('データ入力（保護者）'!$L$3=\"\",INDEX('作業（保護者）'!$E$3:$CB$11,W$5,$O47),'データ入力（保護者）'!J47))","v":""},{"$f":"IF($O47=\"\",\"\",IF('データ入力（保護者）'!$L$3=\"\",INDEX('作業（保護者）'!$E$3:$CB$11,X$5,$O47),'データ入力（保護者）'!K47))","v":""},""]
["(10)","ルールは誰が作りましたか",{"$f":"IFERROR(ROUND(P48/$P$3*100,1),\"\")","v":""},{"$f":"IFERROR(ROUND(Q48/$P$3*100,1),\"\")","v":""},{"$f":"IFERROR(ROUND(R48/$P$3*100,1),\"\")","v":""},{"$f":"IFERROR(ROUND(S48/$P$3*100,1),\"\")","v":""},{"$f":"IFERROR(ROUND(T48/$P$3*100,1),\"\")","v":""},{"$f":"IFERROR(ROUND(U48/$P$3*100,1),\"\")","v":""},{"$f":"IFERROR(ROUND($Y48/$P$3*100,1),\"\")","v":""},null,null,null,null,1,{"$f":"IF(N48>=1,COUNT($N$6:N48),\"\")","v":27},{"$f":"IF($O48=\"\",\"\",IF('データ入力（保護者）'!$L$3=\"\",INDEX('作業（保護者）'!$E$3:$CB$11,P$5,$O48),'データ入力（保護者）'!C48))","v":0},{"$f":"IF($O48=\"\",\"\",IF('データ入力（保護者）'!$L$3=\"\",INDEX('作業（保護者）'!$E$3:$CB$11,Q$5,$O48),'データ入力（保護者）'!D48))","v":0},{"$f":"IF($O48=\"\",\"\",IF('データ入力（保護者）'!$L$3=\"\",INDEX('作業（保護者）'!$E$3:$CB$11,R$5,$O48),'データ入力（保護者）'!E48))","v":0},{"$f":"IF($O48=\"\",\"\",IF('データ入力（保護者）'!$L$3=\"\",INDEX('作業（保護者）'!$E$3:$CB$11,S$5,$O48),'データ入力（保護者）'!F48))","v":0},{"$f":"IF($O48=\"\",\"\",IF('データ入力（保護者）'!$L$3=\"\",INDEX('作業（保護者）'!$E$3:$CB$11,T$5,$O48),'データ入力（保護者）'!G48))","v":0},{"$f":"IF($O48=\"\",\"\",IF('データ入力（保護者）'!$L$3=\"\",INDEX('作業（保護者）'!$E$3:$CB$11,U$5,$O48),'データ入力（保護者）'!H48))","v":0},{"$f":"IF($O48=\"\",\"\",IF('データ入力（保護者）'!$L$3=\"\",INDEX('作業（保護者）'!$E$3:$CB$11,V$5,$O48),'データ入力（保護者）'!I48))","v":0},{"$f":"IF($O48=\"\",\"\",IF('データ入力（保護者）'!$L$3=\"\",INDEX('作業（保護者）'!$E$3:$CB$11,W$5,$O48),'データ入力（保護者）'!J48))","v":0},{"$f":"IF($O48=\"\",\"\",IF('データ入力（保護者）'!$L$3=\"\",INDEX('作業（保護者）'!$E$3:$CB$11,X$5,$O48),'データ入力（保護者）'!K48))","v":0},0]
["お子様の【SNS等の利用】についての質問",null,null,null,null,null,null,null,null,null,null,null,null,null,{"$f":"IF(N49>=1,COUNT($N$6:N49),\"\")","v":""},{"$f":"IF($O49=\"\",\"\",IF('データ入力（保護者）'!$L$3=\"\",INDEX('作業（保護者）'!$E$3:$CB$11,P$5,$O49),'データ入力（保護者）'!C49))","v":""},{"$f":"IF($O49=\"\",\"\",IF('データ入力（保護者）'!$L$3=\"\",INDEX('作業（保護者）'!$E$3:$CB$11,Q$5,$O49),'データ入力（保護者）'!D49))","v":""},{"$f":"IF($O49=\"\",\"\",IF('データ入力（保護者）'!$L$3=\"\",INDEX('作業（保護者）'!$E$3:$CB$11,R$5,$O49),'データ入力（保護者）'!E49))","v":""},{"$f":"IF($O49=\"\",\"\",IF('データ入力（保護者）'!$L$3=\"\",INDEX('作業（保護者）'!$E$3:$CB$11,S$5,$O49),'データ入力（保護者）'!F49))","v":""},{"$f":"IF($O49=\"\",\"\",IF('データ入力（保護者）'!$L$3=\"\",INDEX('作業（保護者）'!$E$3:$CB$11,T$5,$O49),'データ入力（保護者）'!G49))","v":""},{"$f":"IF($O49=\"\",\"\",IF('データ入力（保護者）'!$L$3=\"\",INDEX('作業（保護者）'!$E$3:$CB$11,U$5,$O49),'データ入力（保護者）'!H49))","v":""},{"$f":"IF($O49=\"\",\"\",IF('データ入力（保護者）'!$L$3=\"\",INDEX('作業（保護者）'!$E$3:$CB$11,V$5,$O49),'データ入力（保護者）'!I49))","v":""},{"$f":"IF($O49=\"\",\"\",IF('データ入力（保護者）'!$L$3=\"\",INDEX('作業（保護者）'!$E$3:$CB$11,W$5,$O49),'データ入力（保護者）'!J49))","v":""},{"$f":"IF($O49=\"\",\"\",IF('データ入力（保護者）'!$L$3=\"\",INDEX('作業（保護者）'!$E$3:$CB$11,X$5,$O49),'データ入力（保護者）'!K49))","v":""},""]
[null,"質問","アプリケーション名",null,null,"割合",null,null,null,null,null,null,null,null,{"$f":"IF(N50>=1,COUNT($N$6:N50),\"\")","v":""},{"$f":"IF($O50=\"\",\"\",IF('データ入力（保護者）'!$L$3=\"\",INDEX('作業（保護者）'!$E$3:$CB$11,P$5,$O50),'データ入力（保護者）'!C50))","v":""},{"$f":"IF($O50=\"\",\"\",IF('データ入力（保護者）'!$L$3=\"\",INDEX('作業（保護者）'!$E$3:$CB$11,Q$5,$O50),'データ入力（保護者）'!D50))","v":""},{"$f":"IF($O50=\"\",\"\",IF('データ入力（保護者）'!$L$3=\"\",INDEX('作業（保護者）'!$E$3:$CB$11,R$5,$O50),'データ入力（保護者）'!E50))","v":""},{"$f":"IF($O50=\"\",\"\",IF('データ入力（保護者）'!$L$3=\"\",INDEX('作業（保護者）'!$E$3:$CB$11,S$5,$O50),'データ入力（保護者）'!F50))","v":""},{"$f":"IF($O50=\"\",\"\",IF('データ入力（保護者）'!$L$3=\"\",INDEX('作業（保護者）'!$E$3:$CB$11,T$5,$O50),'データ入力（保護者）'!G50))","v":""},{"$f":"IF($O50=\"\",\"\",IF('データ入力（保護者）'!$L$3=\"\",INDEX('作業（保護者）'!$E$3:$CB$11,U$5,$O50),'データ入力（保護者）'!H50))","v":""},{"$f":"IF($O50=\"\",\"\",IF('データ入力（保護者）'!$L$3=\"\",INDEX('作業（保護者）'!$E$3:$CB$11,V$5,$O50),'データ入力（保護者）'!I50))","v":""},{"$f":"IF($O50=\"\",\"\",IF('データ入力（保護者）'!$L$3=\"\",INDEX('作業（保護者）'!$E$3:$CB$11,W$5,$O50),'データ入力（保護者）'!J50))","v":""},{"$f":"IF($O50=\"\",\"\",IF('データ入力（保護者）'!$L$3=\"\",INDEX('作業（保護者）'!$E$3:$CB$11,X$5,$O50),'データ入力（保護者）'!K50))","v":""},""]
["(11)","お子様が使っていると思われるアプリはどれですか（複数回答可）","使わせていない",null,null,{"$f":"IFERROR(ROUND(P51/$P$3*100,1),\"\")","v":""},null,null,null,null,null,null,null,1,{"$f":"IF(N51>=1,COUNT($N$6:N51),\"\")","v":28},{"$f":"IF($O51=\"\",\"\",IF('データ入力（保護者）'!$L$3=\"\",INDEX('作業（保護者）'!$E$3:$CB$11,P$5,$O51),'データ入力（保護者）'!F51))","v":0},{"$f":"IF($O51=\"\",\"\",IF('データ入力（保護者）'!$L$3=\"\",INDEX('作業（保護者）'!$E$3:$CB$11,Q$5,$O51),'データ入力（保護者）'!G51))","v":0},{"$f":"IF($O51=\"\",\"\",IF('データ入力（保護者）'!$L$3=\"\",INDEX('作業（保護者）'!$E$3:$CB$11,R$5,$O51),'データ入力（保護者）'!H51))","v":0},{"$f":"IF($O51=\"\",\"\",IF('データ入力（保護者）'!$L$3=\"\",INDEX('作業（保護者）'!$E$3:$CB$11,S$5,$O51),'データ入力（保護者）'!I51))","v":0},{"$f":"IF($O51=\"\",\"\",IF('データ入力（保護者）'!$L$3=\"\",INDEX('作業（保護者）'!$E$3:$CB$11,T$5,$O51),'データ入力（保護者）'!J51))","v":0},{"$f":"IF($O51=\"\",\"\",IF('データ入力（保護者）'!$L$3=\"\",INDEX('作業（保護者）'!$E$3:$CB$11,U$5,$O51),'データ入力（保護者）'!K51))","v":0},{"$f":"IF($O51=\"\",\"\",IF('データ入力（保護者）'!$L$3=\"\",INDEX('作業（保護者）'!$E$3:$CB$11,V$5,$O51),'データ入力（保護者）'!L51))","v":0},{"$f":"IF($O51=\"\",\"\",IF('データ入力（保護者）'!$L$3=\"\",INDEX('作業（保護者）'!$E$3:$CB$11,W$5,$O51),'データ入力（保護者）'!M51))","v":0},{"$f":"IF($O51=\"\",\"\",IF('データ入力（保護者）'!$L$3=\"\",INDEX('作業（保護者）'!$E$3:$CB$11,X$5,$O51),'データ入力（保護者）'!N51))","v":0},0]
[null,null,"LINE",null,null,{"$f":"IFERROR(ROUND(P52/$P$3*100,1),\"\")","v":""},null,null,null,null,null,null,null,1,{"$f":"IF(N52>=1,COUNT($N$6:N52),\"\")","v":29},{"$f":"IF($O52=\"\",\"\",IF('データ入力（保護者）'!$L$3=\"\",INDEX('作業（保護者）'!$E$3:$CB$11,P$5,$O52),'データ入力（保護者）'!F52))","v":0},{"$f":"IF($O52=\"\",\"\",IF('データ入力（保護者）'!$L$3=\"\",INDEX('作業（保護者）'!$E$3:$CB$11,Q$5,$O52),'データ入力（保護者）'!G52))","v":0},{"$f":"IF($O52=\"\",\"\",IF('データ入力（保護者）'!$L$3=\"\",INDEX('作業（保護者）'!$E$3:$CB$11,R$5,$O52),'データ入力（保護者）'!H52))","v":0},{"$f":"IF($O52=\"\",\"\",IF('データ入力（保護者）'!$L$3=\"\",INDEX('作業（保護者）'!$E$3:$CB$11,S$5,$O52),'データ入力（保護者）'!I52))","v":0},{"$f":"IF($O52=\"\",\"\",IF('データ入力（保護者）'!$L$3=\"\",INDEX('作業（保護者）'!$E$3:$CB$11,T$5,$O52),'データ入力（保護者）'!J52))","v":0},{"$f":"IF($O52=\"\",\"\",IF('データ入力（保護者）'!$L$3=\"\",INDEX('作業（保護者）'!$E$3:$CB$11,U$5,$O52),'データ入力（保護者）'!K52))","v":0},{"$f":"IF($O52=\"\",\"\",IF('データ入力（保護者）'!$L$3=\"\",INDEX('作業（保護者）'!$E$3:$CB$11,V$5,$O52),'データ入力（保護者）'!L52))","v":0},{"$f":"IF($O52=\"\",\"\",IF('データ入力（保護者）'!$L$3=\"\",INDEX('作業（保護者）'!$E$3:$CB$11,W$5,$O52),'データ入力（保護者）'!M52))","v":0},{"$f":"IF($O52=\"\",\"\",IF('データ入力（保護者）'!$L$3=\"\",INDEX('作業（保護者）'!$E$3:$CB$11,X$5,$O52),'データ入力（保護者）'!N52))","v":0},0]
[null,null,"Twitter",null,null,"",null,null,null,null,null,null,null,1,{"$f":"IF(N53>=1,COUNT($N$6:N53),\"\")","v":30},{"$f":"IF($O53=\"\",\"\",IF('データ入力（保護者）'!$L$3=\"\",INDEX('作業（保護者）'!$E$3:$CB$11,P$5,$O53),'データ入力（保護者）'!F53))","v":0},{"$f":"IF($O53=\"\",\"\",IF('データ入力（保護者）'!$L$3=\"\",INDEX('作業（保護者）'!$E$3:$CB$11,Q$5,$O53),'データ入力（保護者）'!G53))","v":0},{"$f":"IF($O53=\"\",\"\",IF('データ入力（保護者）'!$L$3=\"\",INDEX('作業（保護者）'!$E$3:$CB$11,R$5,$O53),'データ入力（保護者）'!H53))","v":0},{"$f":"IF($O53=\"\",\"\",IF('データ入力（保護者）'!$L$3=\"\",INDEX('作業（保護者）'!$E$3:$CB$11,S$5,$O53),'データ入力（保護者）'!I53))","v":0},{"$f":"IF($O53=\"\",\"\",IF('データ入力（保護者）'!$L$3=\"\",INDEX('作業（保護者）'!$E$3:$CB$11,T$5,$O53),'データ入力（保護者）'!J53))","v":0},{"$f":"IF($O53=\"\",\"\",IF('データ入力（保護者）'!$L$3=\"\",INDEX('作業（保護者）'!$E$3:$CB$11,U$5,$O53),'データ入力（保護者）'!K53))","v":0},{"$f":"IF($O53=\"\",\"\",IF('データ入力（保護者）'!$L$3=\"\",INDEX('作業（保護者）'!$E$3:$CB$11,V$5,$O53),'データ入力（保護者）'!L53))","v":0},{"$f":"IF($O53=\"\",\"\",IF('データ入力（保護者）'!$L$3=\"\",INDEX('作業（保護者）'!$E$3:$CB$11,W$5,$O53),'データ入力（保護者）'!M53))","v":0},{"$f":"IF($O53=\"\",\"\",IF('データ入力（保護者）'!$L$3=\"\",INDEX('作業（保護者）'!$E$3:$CB$11,X$5,$O53),'データ入力（保護者）'!N53))","v":0},0]
[null,null,"Instagram",null,null,"",null,null,null,null,null,null,null,1,{"$f":"IF(N54>=1,COUNT($N$6:N54),\"\")","v":31},{"$f":"IF($O54=\"\",\"\",IF('データ入力（保護者）'!$L$3=\"\",INDEX('作業（保護者）'!$E$3:$CB$11,P$5,$O54),'データ入力（保護者）'!F54))","v":0},{"$f":"IF($O54=\"\",\"\",IF('データ入力（保護者）'!$L$3=\"\",INDEX('作業（保護者）'!$E$3:$CB$11,Q$5,$O54),'データ入力（保護者）'!G54))","v":0},{"$f":"IF($O54=\"\",\"\",IF('データ入力（保護者）'!$L$3=\"\",INDEX('作業（保護者）'!$E$3:$CB$11,R$5,$O54),'データ入力（保護者）'!H54))","v":0},{"$f":"IF($O54=\"\",\"\",IF('データ入力（保護者）'!$L$3=\"\",INDEX('作業（保護者）'!$E$3:$CB$11,S$5,$O54),'データ入力（保護者）'!I54))","v":0},{"$f":"IF($O54=\"\",\"\",IF('データ入力（保護者）'!$L$3=\"\",INDEX('作業（保護者）'!$E$3:$CB$11,T$5,$O54),'データ入力（保護者）'!J54))","v":0},{"$f":"IF($O54=\"\",\"\",IF('データ入力（保護者）'!$L$3=\"\",INDEX('作業（保護者）'!$E$3:$CB$11,U$5,$O54),'データ入力（保護者）'!K54))","v":0},{"$f":"IF($O54=\"\",\"\",IF('データ入力（保護者）'!$L$3=\"\",INDEX('作業（保護者）'!$E$3:$CB$11,V$5,$O54),'データ入力（保護者）'!L54))","v":0},{"$f":"IF($O54=\"\",\"\",IF('データ入力（保護者）'!$L$3=\"\",INDEX('作業（保護者）'!$E$3:$CB$11,W$5,$O54),'データ入力（保護者）'!M54))","v":0},{"$f":"IF($O54=\"\",\"\",IF('データ入力（保護者）'!$L$3=\"\",INDEX('作業（保護者）'!$E$3:$CB$11,X$5,$O54),'データ入力（保護者）'!N54))","v":0},0]
[null,null,"TikTok",null,null,"",null,null,null,null,null,null,null,1,{"$f":"IF(N55>=1,COUNT($N$6:N55),\"\")","v":32},{"$f":"IF($O55=\"\",\"\",IF('データ入力（保護者）'!$L$3=\"\",INDEX('作業（保護者）'!$E$3:$CB$11,P$5,$O55),'データ入力（保護者）'!F55))","v":0},{"$f":"IF($O55=\"\",\"\",IF('データ入力（保護者）'!$L$3=\"\",INDEX('作業（保護者）'!$E$3:$CB$11,Q$5,$O55),'データ入力（保護者）'!G55))","v":0},{"$f":"IF($O55=\"\",\"\",IF('データ入力（保護者）'!$L$3=\"\",INDEX('作業（保護者）'!$E$3:$CB$11,R$5,$O55),'データ入力（保護者）'!H55))","v":0},{"$f":"IF($O55=\"\",\"\",IF('データ入力（保護者）'!$L$3=\"\",INDEX('作業（保護者）'!$E$3:$CB$11,S$5,$O55),'データ入力（保護者）'!I55))","v":0},{"$f":"IF($O55=\"\",\"\",IF('データ入力（保護者）'!$L$3=\"\",INDEX('作業（保護者）'!$E$3:$CB$11,T$5,$O55),'データ入力（保護者）'!J55))","v":0},{"$f":"IF($O55=\"\",\"\",IF('データ入力（保護者）'!$L$3=\"\",INDEX('作業（保護者）'!$E$3:$CB$11,U$5,$O55),'データ入力（保護者）'!K55))","v":0},{"$f":"IF($O55=\"\",\"\",IF('データ入力（保護者）'!$L$3=\"\",INDEX('作業（保護者）'!$E$3:$CB$11,V$5,$O55),'データ入力（保護者）'!L55))","v":0},{"$f":"IF($O55=\"\",\"\",IF('データ入力（保護者）'!$L$3=\"\",INDEX('作業（保護者）'!$E$3:$CB$11,W$5,$O55),'データ入力（保護者）'!M55))","v":0},{"$f":"IF($O55=\"\",\"\",IF('データ入力（保護者）'!$L$3=\"\",INDEX('作業（保護者）'!$E$3:$CB$11,X$5,$O55),'データ入力（保護者）'!N55))","v":0},0]
[null,null,"その他",null,null,"",null,null,null,null,null,null,null,1,{"$f":"IF(N56>=1,COUNT($N$6:N56),\"\")","v":33},{"$f":"IF($O56=\"\",\"\",IF('データ入力（保護者）'!$L$3=\"\",INDEX('作業（保護者）'!$E$3:$CB$11,P$5,$O56),'データ入力（保護者）'!F56))","v":0},{"$f":"IF($O56=\"\",\"\",IF('データ入力（保護者）'!$L$3=\"\",INDEX('作業（保護者）'!$E$3:$CB$11,Q$5,$O56),'データ入力（保護者）'!G56))","v":0},{"$f":"IF($O56=\"\",\"\",IF('データ入力（保護者）'!$L$3=\"\",INDEX('作業（保護者）'!$E$3:$CB$11,R$5,$O56),'データ入力（保護者）'!H56))","v":0},{"$f":"IF($O56=\"\",\"\",IF('データ入力（保護者）'!$L$3=\"\",INDEX('作業（保護者）'!$E$3:$CB$11,S$5,$O56),'データ入力（保護者）'!I56))","v":0},{"$f":"IF($O56=\"\",\"\",IF('データ入力（保護者）'!$L$3=\"\",INDEX('作業（保護者）'!$E$3:$CB$11,T$5,$O56),'データ入力（保護者）'!J56))","v":0},{"$f":"IF($O56=\"\",\"\",IF('データ入力（保護者）'!$L$3=\"\",INDEX('作業（保護者）'!$E$3:$CB$11,U$5,$O56),'データ入力（保護者）'!K56))","v":0},{"$f":"IF($O56=\"\",\"\",IF('データ入力（保護者）'!$L$3=\"\",INDEX('作業（保護者）'!$E$3:$CB$11,V$5,$O56),'データ入力（保護者）'!L56))","v":0},{"$f":"IF($O56=\"\",\"\",IF('データ入力（保護者）'!$L$3=\"\",INDEX('作業（保護者）'!$E$3:$CB$11,W$5,$O56),'データ入力（保護者）'!M56))","v":0},{"$f":"IF($O56=\"\",\"\",IF('データ入力（保護者）'!$L$3=\"\",INDEX('作業（保護者）'!$E$3:$CB$11,X$5,$O56),'データ入力（保護者）'!N56))","v":0},0]
[null,null,"わからない",null,null,"",null,null,null,null,null,null,null,1,{"$f":"IF(N57>=1,COUNT($N$6:N57),\"\")","v":34},{"$f":"IF($O57=\"\",\"\",IF('データ入力（保護者）'!$L$3=\"\",INDEX('作業（保護者）'!$E$3:$CB$11,P$5,$O57),'データ入力（保護者）'!F57))","v":0},{"$f":"IF($O57=\"\",\"\",IF('データ入力（保護者）'!$L$3=\"\",INDEX('作業（保護者）'!$E$3:$CB$11,Q$5,$O57),'データ入力（保護者）'!G57))","v":0},{"$f":"IF($O57=\"\",\"\",IF('データ入力（保護者）'!$L$3=\"\",INDEX('作業（保護者）'!$E$3:$CB$11,R$5,$O57),'データ入力（保護者）'!H57))","v":0},{"$f":"IF($O57=\"\",\"\",IF('データ入力（保護者）'!$L$3=\"\",INDEX('作業（保護者）'!$E$3:$CB$11,S$5,$O57),'データ入力（保護者）'!I57))","v":0},{"$f":"IF($O57=\"\",\"\",IF('データ入力（保護者）'!$L$3=\"\",INDEX('作業（保護者）'!$E$3:$CB$11,T$5,$O57),'データ入力（保護者）'!J57))","v":0},{"$f":"IF($O57=\"\",\"\",IF('データ入力（保護者）'!$L$3=\"\",INDEX('作業（保護者）'!$E$3:$CB$11,U$5,$O57),'データ入力（保護者）'!K57))","v":0},{"$f":"IF($O57=\"\",\"\",IF('データ入力（保護者）'!$L$3=\"\",INDEX('作業（保護者）'!$E$3:$CB$11,V$5,$O57),'データ入力（保護者）'!L57))","v":0},{"$f":"IF($O57=\"\",\"\",IF('データ入力（保護者）'!$L$3=\"\",INDEX('作業（保護者）'!$E$3:$CB$11,W$5,$O57),'データ入力（保護者）'!M57))","v":0},{"$f":"IF($O57=\"\",\"\",IF('データ入力（保護者）'!$L$3=\"\",INDEX('作業（保護者）'!$E$3:$CB$11,X$5,$O57),'データ入力（保護者）'!N57))","v":0},0]
["(12)お子様の【インターネットで起きたトラブル】についての質問",null,null,null,null,null,null,null,null,null,null,null,null,null,{"$f":"IF(N58>=1,COUNT($N$6:N58),\"\")","v":""},{"$f":"IF($O58=\"\",\"\",IF('データ入力（保護者）'!$L$3=\"\",INDEX('作業（保護者）'!$E$3:$CB$11,P$5,$O58),'データ入力（保護者）'!C58))","v":""},{"$f":"IF($O58=\"\",\"\",IF('データ入力（保護者）'!$L$3=\"\",INDEX('作業（保護者）'!$E$3:$CB$11,Q$5,$O58),'データ入力（保護者）'!D58))","v":""},{"$f":"IF($O58=\"\",\"\",IF('データ入力（保護者）'!$L$3=\"\",INDEX('作業（保護者）'!$E$3:$CB$11,R$5,$O58),'データ入力（保護者）'!E58))","v":""},{"$f":"IF($O58=\"\",\"\",IF('データ入力（保護者）'!$L$3=\"\",INDEX('作業（保護者）'!$E$3:$CB$11,S$5,$O58),'データ入力（保護者）'!F58))","v":""},{"$f":"IF($O58=\"\",\"\",IF('データ入力（保護者）'!$L$3=\"\",INDEX('作業（保護者）'!$E$3:$CB$11,T$5,$O58),'データ入力（保護者）'!G58))","v":""},{"$f":"IF($O58=\"\",\"\",IF('データ入力（保護者）'!$L$3=\"\",INDEX('作業（保護者）'!$E$3:$CB$11,U$5,$O58),'データ入力（保護者）'!H58))","v":""},{"$f":"IF($O58=\"\",\"\",IF('データ入力（保護者）'!$L$3=\"\",INDEX('作業（保護者）'!$E$3:$CB$11,V$5,$O58),'データ入力（保護者）'!I58))","v":""},{"$f":"IF($O58=\"\",\"\",IF('データ入力（保護者）'!$L$3=\"\",INDEX('作業（保護者）'!$E$3:$CB$11,W$5,$O58),'データ入力（保護者）'!J58))","v":""},{"$f":"IF($O58=\"\",\"\",IF('データ入力（保護者）'!$L$3=\"\",INDEX('作業（保護者）'!$E$3:$CB$11,X$5,$O58),'データ入力（保護者）'!K58))","v":""},""]
[null,"質問","使わせて\nいない","ある","あるかも\nしれない","ないと\n思われる","ない","わからない","無回答",null,null,null,null,null,{"$f":"IF(N59>=1,COUNT($N$6:N59),\"\")","v":""},{"$f":"IF($O59=\"\",\"\",IF('データ入力（保護者）'!$L$3=\"\",INDEX('作業（保護者）'!$E$3:$CB$11,P$5,$O59),'データ入力（保護者）'!C59))","v":""},{"$f":"IF($O59=\"\",\"\",IF('データ入力（保護者）'!$L$3=\"\",INDEX('作業（保護者）'!$E$3:$CB$11,Q$5,$O59),'データ入力（保護者）'!D59))","v":""},{"$f":"IF($O59=\"\",\"\",IF('データ入力（保護者）'!$L$3=\"\",INDEX('作業（保護者）'!$E$3:$CB$11,R$5,$O59),'データ入力（保護者）'!E59))","v":""},{"$f":"IF($O59=\"\",\"\",IF('データ入力（保護者）'!$L$3=\"\",INDEX('作業（保護者）'!$E$3:$CB$11,S$5,$O59),'データ入力（保護者）'!F59))","v":""},{"$f":"IF($O59=\"\",\"\",IF('データ入力（保護者）'!$L$3=\"\",INDEX('作業（保護者）'!$E$3:$CB$11,T$5,$O59),'データ入力（保護者）'!G59))","v":""},{"$f":"IF($O59=\"\",\"\",IF('データ入力（保護者）'!$L$3=\"\",INDEX('作業（保護者）'!$E$3:$CB$11,U$5,$O59),'データ入力（保護者）'!H59))","v":""},{"$f":"IF($O59=\"\",\"\",IF('データ入力（保護者）'!$L$3=\"\",INDEX('作業（保護者）'!$E$3:$CB$11,V$5,$O59),'データ入力（保護者）'!I59))","v":""},{"$f":"IF($O59=\"\",\"\",IF('データ入力（保護者）'!$L$3=\"\",INDEX('作業（保護者）'!$E$3:$CB$11,W$5,$O59),'データ入力（保護者）'!J59))","v":""},{"$f":"IF($O59=\"\",\"\",IF('データ入力（保護者）'!$L$3=\"\",INDEX('作業（保護者）'!$E$3:$CB$11,X$5,$O59),'データ入力（保護者）'!K59))","v":""},""]
["(12)-1","悪口や嫌がらせのメールを送られたり、SNS・ブログ・プロフなどに書き込まれたりしたことがある",{"$f":"IFERROR(ROUND(P60/$P$3*100,1),\"\")","v":""},{"$f":"IFERROR(ROUND(Q60/$P$3*100,1),\"\")","v":""},{"$f":"IFERROR(ROUND(R60/$P$3*100,1),\"\")","v":""},{"$f":"IFERROR(ROUND(S60/$P$3*100,1),\"\")","v":""},{"$f":"IFERROR(ROUND(T60/$P$3*100,1),\"\")","v":""},{"$f":"IFERROR(ROUND(U60/$P$3*100,1),\"\")","v":""},{"$f":"IFERROR(ROUND($Y60/$P$3*100,1),\"\")","v":""},null,null,null,null,1,{"$f":"IF(N60>=1,COUNT($N$6:N60),\"\")","v":35},{"$f":"IF($O60=\"\",\"\",IF('データ入力（保護者）'!$L$3=\"\",INDEX('作業（保護者）'!$E$3:$CB$11,P$5,$O60),'データ入力（保護者）'!C60))","v":0},{"$f":"IF($O60=\"\",\"\",IF('データ入力（保護者）'!$L$3=\"\",INDEX('作業（保護者）'!$E$3:$CB$11,Q$5,$O60),'データ入力（保護者）'!D60))","v":0},{"$f":"IF($O60=\"\",\"\",IF('データ入力（保護者）'!$L$3=\"\",INDEX('作業（保護者）'!$E$3:$CB$11,R$5,$O60),'データ入力（保護者）'!E60))","v":0},{"$f":"IF($O60=\"\",\"\",IF('データ入力（保護者）'!$L$3=\"\",INDEX('作業（保護者）'!$E$3:$CB$11,S$5,$O60),'データ入力（保護者）'!F60))","v":0},{"$f":"IF($O60=\"\",\"\",IF('データ入力（保護者）'!$L$3=\"\",INDEX('作業（保護者）'!$E$3:$CB$11,T$5,$O60),'データ入力（保護者）'!G60))","v":0},{"$f":"IF($O60=\"\",\"\",IF('データ入力（保護者）'!$L$3=\"\",INDEX('作業（保護者）'!$E$3:$CB$11,U$5,$O60),'データ入力（保護者）'!H60))","v":0},{"$f":"IF($O60=\"\",\"\",IF('データ入力（保護者）'!$L$3=\"\",INDEX('作業（保護者）'!$E$3:$CB$11,V$5,$O60),'データ入力（保護者）'!I60))","v":0},{"$f":"IF($O60=\"\",\"\",IF('データ入力（保護者）'!$L$3=\"\",INDEX('作業（保護者）'!$E$3:$CB$11,W$5,$O60),'データ入力（保護者）'!J60))","v":0},{"$f":"IF($O60=\"\",\"\",IF('データ入力（保護者）'!$L$3=\"\",INDEX('作業（保護者）'!$E$3:$CB$11,X$5,$O60),'データ入力（保護者）'!K60))","v":0},0]
["(12)-2","悪口や嫌がらせのメールを送ったり、SNS・ブログ・プロフなどに書き込んだりしたことがある","","","","","","","",null,null,null,null,1,{"$f":"IF(N61>=1,COUNT($N$6:N61),\"\")","v":36},{"$f":"IF($O61=\"\",\"\",IF('データ入力（保護者）'!$L$3=\"\",INDEX('作業（保護者）'!$E$3:$CB$11,P$5,$O61),'データ入力（保護者）'!C61))","v":0},{"$f":"IF($O61=\"\",\"\",IF('データ入力（保護者）'!$L$3=\"\",INDEX('作業（保護者）'!$E$3:$CB$11,Q$5,$O61),'データ入力（保護者）'!D61))","v":0},{"$f":"IF($O61=\"\",\"\",IF('データ入力（保護者）'!$L$3=\"\",INDEX('作業（保護者）'!$E$3:$CB$11,R$5,$O61),'データ入力（保護者）'!E61))","v":0},{"$f":"IF($O61=\"\",\"\",IF('データ入力（保護者）'!$L$3=\"\",INDEX('作業（保護者）'!$E$3:$CB$11,S$5,$O61),'データ入力（保護者）'!F61))","v":0},{"$f":"IF($O61=\"\",\"\",IF('データ入力（保護者）'!$L$3=\"\",INDEX('作業（保護者）'!$E$3:$CB$11,T$5,$O61),'データ入力（保護者）'!G61))","v":0},{"$f":"IF($O61=\"\",\"\",IF('データ入力（保護者）'!$L$3=\"\",INDEX('作業（保護者）'!$E$3:$CB$11,U$5,$O61),'データ入力（保護者）'!H61))","v":0},{"$f":"IF($O61=\"\",\"\",IF('データ入力（保護者）'!$L$3=\"\",INDEX('作業（保護者）'!$E$3:$CB$11,V$5,$O61),'データ入力（保護者）'!I61))","v":0},{"$f":"IF($O61=\"\",\"\",IF('データ入力（保護者）'!$L$3=\"\",INDEX('作業（保護者）'!$E$3:$CB$11,W$5,$O61),'データ入力（保護者）'!J61))","v":0},{"$f":"IF($O61=\"\",\"\",IF('データ入力（保護者）'!$L$3=\"\",INDEX('作業（保護者）'!$E$3:$CB$11,X$5,$O61),'データ入力（保護者）'!K61))","v":0},0]
["(12)-3","迷惑な内容（アダルトサイトからの通知、不安になる内容など）が送られてきたことがある","","","","","","","",null,null,null,null,1,{"$f":"IF(N62>=1,COUNT($N$6:N62),\"\")","v":37},{"$f":"IF($O62=\"\",\"\",IF('データ入力（保護者）'!$L$3=\"\",INDEX('作業（保護者）'!$E$3:$CB$11,P$5,$O62),'データ入力（保護者）'!C62))","v":0},{"$f":"IF($O62=\"\",\"\",IF('データ入力（保護者）'!$L$3=\"\",INDEX('作業（保護者）'!$E$3:$CB$11,Q$5,$O62),'データ入力（保護者）'!D62))","v":0},{"$f":"IF($O62=\"\",\"\",IF('データ入力（保護者）'!$L$3=\"\",INDEX('作業（保護者）'!$E$3:$CB$11,R$5,$O62),'データ入力（保護者）'!E62))","v":0},{"$f":"IF($O62=\"\",\"\",IF('データ入力（保護者）'!$L$3=\"\",INDEX('作業（保護者）'!$E$3:$CB$11,S$5,$O62),'データ入力（保護者）'!F62))","v":0},{"$f":"IF($O62=\"\",\"\",IF('データ入力（保護者）'!$L$3=\"\",INDEX('作業（保護者）'!$E$3:$CB$11,T$5,$O62),'データ入力（保護者）'!G62))","v":0},{"$f":"IF($O62=\"\",\"\",IF('データ入力（保護者）'!$L$3=\"\",INDEX('作業（保護者）'!$E$3:$CB$11,U$5,$O62),'データ入力（保護者）'!H62))","v":0},{"$f":"IF($O62=\"\",\"\",IF('データ入力（保護者）'!$L$3=\"\",INDEX('作業（保護者）'!$E$3:$CB$11,V$5,$O62),'データ入力（保護者）'!I62))","v":0},{"$f":"IF($O62=\"\",\"\",IF('データ入力（保護者）'!$L$3=\"\",INDEX('作業（保護者）'!$E$3:$CB$11,W$5,$O62),'データ入力（保護者）'!J62))","v":0},{"$f":"IF($O62=\"\",\"\",IF('データ入力（保護者）'!$L$3=\"\",INDEX('作業（保護者）'!$E$3:$CB$11,X$5,$O62),'データ入力（保護者）'!K62))","v":0},0]
["(12)-4","下着姿や裸の動画または画像を送るよう要求されたことがある","","","","","","","",null,null,null,null,1,{"$f":"IF(N63>=1,COUNT($N$6:N63),\"\")","v":38},{"$f":"IF($O63=\"\",\"\",IF('データ入力（保護者）'!$L$3=\"\",INDEX('作業（保護者）'!$E$3:$CB$11,P$5,$O63),'データ入力（保護者）'!C63))","v":0},{"$f":"IF($O63=\"\",\"\",IF('データ入力（保護者）'!$L$3=\"\",INDEX('作業（保護者）'!$E$3:$CB$11,Q$5,$O63),'データ入力（保護者）'!D63))","v":0},{"$f":"IF($O63=\"\",\"\",IF('データ入力（保護者）'!$L$3=\"\",INDEX('作業（保護者）'!$E$3:$CB$11,R$5,$O63),'データ入力（保護者）'!E63))","v":0},{"$f":"IF($O63=\"\",\"\",IF('データ入力（保護者）'!$L$3=\"\",INDEX('作業（保護者）'!$E$3:$CB$11,S$5,$O63),'データ入力（保護者）'!F63))","v":0},{"$f":"IF($O63=\"\",\"\",IF('データ入力（保護者）'!$L$3=\"\",INDEX('作業（保護者）'!$E$3:$CB$11,T$5,$O63),'データ入力（保護者）'!G63))","v":0},{"$f":"IF($O63=\"\",\"\",IF('データ入力（保護者）'!$L$3=\"\",INDEX('作業（保護者）'!$E$3:$CB$11,U$5,$O63),'データ入力（保護者）'!H63))","v":0},{"$f":"IF($O63=\"\",\"\",IF('データ入力（保護者）'!$L$3=\"\",INDEX('作業（保護者）'!$E$3:$CB$11,V$5,$O63),'データ入力（保護者）'!I63))","v":0},{"$f":"IF($O63=\"\",\"\",IF('データ入力（保護者）'!$L$3=\"\",INDEX('作業（保護者）'!$E$3:$CB$11,W$5,$O63),'データ入力（保護者）'!J63))","v":0},{"$f":"IF($O63=\"\",\"\",IF('データ入力（保護者）'!$L$3=\"\",INDEX('作業（保護者）'!$E$3:$CB$11,X$5,$O63),'データ入力（保護者）'!K63))","v":0},0]
["(12)-5","有料サイトの利用料金などについて、身に覚えのない支払いを求められたことがある","","","","","","","",null,null,null,null,1,{"$f":"IF(N64>=1,COUNT($N$6:N64),\"\")","v":39},{"$f":"IF($O64=\"\",\"\",IF('データ入力（保護者）'!$L$3=\"\",INDEX('作業（保護者）'!$E$3:$CB$11,P$5,$O64),'データ入力（保護者）'!C64))","v":0},{"$f":"IF($O64=\"\",\"\",IF('データ入力（保護者）'!$L$3=\"\",INDEX('作業（保護者）'!$E$3:$CB$11,Q$5,$O64),'データ入力（保護者）'!D64))","v":0},{"$f":"IF($O64=\"\",\"\",IF('データ入力（保護者）'!$L$3=\"\",INDEX('作業（保護者）'!$E$3:$CB$11,R$5,$O64),'データ入力（保護者）'!E64))","v":0},{"$f":"IF($O64=\"\",\"\",IF('データ入力（保護者）'!$L$3=\"\",INDEX('作業（保護者）'!$E$3:$CB$11,S$5,$O64),'データ入力（保護者）'!F64))","v":0},{"$f":"IF($O64=\"\",\"\",IF('データ入力（保護者）'!$L$3=\"\",INDEX('作業（保護者）'!$E$3:$CB$11,T$5,$O64),'データ入力（保護者）'!G64))","v":0},{"$f":"IF($O64=\"\",\"\",IF('データ入力（保護者）'!$L$3=\"\",INDEX('作業（保護者）'!$E$3:$CB$11,U$5,$O64),'データ入力（保護者）'!H64))","v":0},{"$f":"IF($O64=\"\",\"\",IF('データ入力（保護者）'!$L$3=\"\",INDEX('作業（保護者）'!$E$3:$CB$11,V$5,$O64),'データ入力（保護者）'!I64))","v":0},{"$f":"IF($O64=\"\",\"\",IF('データ入力（保護者）'!$L$3=\"\",INDEX('作業（保護者）'!$E$3:$CB$11,W$5,$O64),'データ入力（保護者）'!J64))","v":0},{"$f":"IF($O64=\"\",\"\",IF('データ入力（保護者）'!$L$3=\"\",INDEX('作業（保護者）'!$E$3:$CB$11,X$5,$O64),'データ入力（保護者）'!K64))","v":0},0]
["(12)-6","保護者に話しにくいサイトを見たことがある","","","","","","","",null,null,null,null,1,{"$f":"IF(N65>=1,COUNT($N$6:N65),\"\")","v":40},{"$f":"IF($O65=\"\",\"\",IF('データ入力（保護者）'!$L$3=\"\",INDEX('作業（保護者）'!$E$3:$CB$11,P$5,$O65),'データ入力（保護者）'!C65))","v":0},{"$f":"IF($O65=\"\",\"\",IF('データ入力（保護者）'!$L$3=\"\",INDEX('作業（保護者）'!$E$3:$CB$11,Q$5,$O65),'データ入力（保護者）'!D65))","v":0},{"$f":"IF($O65=\"\",\"\",IF('データ入力（保護者）'!$L$3=\"\",INDEX('作業（保護者）'!$E$3:$CB$11,R$5,$O65),'データ入力（保護者）'!E65))","v":0},{"$f":"IF($O65=\"\",\"\",IF('データ入力（保護者）'!$L$3=\"\",INDEX('作業（保護者）'!$E$3:$CB$11,S$5,$O65),'データ入力（保護者）'!F65))","v":0},{"$f":"IF($O65=\"\",\"\",IF('データ入力（保護者）'!$L$3=\"\",INDEX('作業（保護者）'!$E$3:$CB$11,T$5,$O65),'データ入力（保護者）'!G65))","v":0},{"$f":"IF($O65=\"\",\"\",IF('データ入力（保護者）'!$L$3=\"\",INDEX('作業（保護者）'!$E$3:$CB$11,U$5,$O65),'データ入力（保護者）'!H65))","v":0},{"$f":"IF($O65=\"\",\"\",IF('データ入力（保護者）'!$L$3=\"\",INDEX('作業（保護者）'!$E$3:$CB$11,V$5,$O65),'データ入力（保護者）'!I65))","v":0},{"$f":"IF($O65=\"\",\"\",IF('データ入力（保護者）'!$L$3=\"\",INDEX('作業（保護者）'!$E$3:$CB$11,W$5,$O65),'データ入力（保護者）'!J65))","v":0},{"$f":"IF($O65=\"\",\"\",IF('データ入力（保護者）'!$L$3=\"\",INDEX('作業（保護者）'!$E$3:$CB$11,X$5,$O65),'データ入力（保護者）'!K65))","v":0},0]
["(12)-7","お子様自身の情報(名前や写真など）を書き込んだことがある","","","","","","","",null,null,null,null,1,{"$f":"IF(N66>=1,COUNT($N$6:N66),\"\")","v":41},{"$f":"IF($O66=\"\",\"\",IF('データ入力（保護者）'!$L$3=\"\",INDEX('作業（保護者）'!$E$3:$CB$11,P$5,$O66),'データ入力（保護者）'!C66))","v":0},{"$f":"IF($O66=\"\",\"\",IF('データ入力（保護者）'!$L$3=\"\",INDEX('作業（保護者）'!$E$3:$CB$11,Q$5,$O66),'データ入力（保護者）'!D66))","v":0},{"$f":"IF($O66=\"\",\"\",IF('データ入力（保護者）'!$L$3=\"\",INDEX('作業（保護者）'!$E$3:$CB$11,R$5,$O66),'データ入力（保護者）'!E66))","v":0},{"$f":"IF($O66=\"\",\"\",IF('データ入力（保護者）'!$L$3=\"\",INDEX('作業（保護者）'!$E$3:$CB$11,S$5,$O66),'データ入力（保護者）'!F66))","v":0},{"$f":"IF($O66=\"\",\"\",IF('データ入力（保護者）'!$L$3=\"\",INDEX('作業（保護者）'!$E$3:$CB$11,T$5,$O66),'データ入力（保護者）'!G66))","v":0},{"$f":"IF($O66=\"\",\"\",IF('データ入力（保護者）'!$L$3=\"\",INDEX('作業（保護者）'!$E$3:$CB$11,U$5,$O66),'データ入力（保護者）'!H66))","v":0},{"$f":"IF($O66=\"\",\"\",IF('データ入力（保護者）'!$L$3=\"\",INDEX('作業（保護者）'!$E$3:$CB$11,V$5,$O66),'データ入力（保護者）'!I66))","v":0},{"$f":"IF($O66=\"\",\"\",IF('データ入力（保護者）'!$L$3=\"\",INDEX('作業（保護者）'!$E$3:$CB$11,W$5,$O66),'データ入力（保護者）'!J66))","v":0},{"$f":"IF($O66=\"\",\"\",IF('データ入力（保護者）'!$L$3=\"\",INDEX('作業（保護者）'!$E$3:$CB$11,X$5,$O66),'データ入力（保護者）'!K66))","v":0},0]
["(12)-8","他人の情報(名前や写真など）を無断で書き込んだことがある","","","","","","","",null,null,null,null,1,{"$f":"IF(N67>=1,COUNT($N$6:N67),\"\")","v":42},{"$f":"IF($O67=\"\",\"\",IF('データ入力（保護者）'!$L$3=\"\",INDEX('作業（保護者）'!$E$3:$CB$11,P$5,$O67),'データ入力（保護者）'!C67))","v":0},{"$f":"IF($O67=\"\",\"\",IF('データ入力（保護者）'!$L$3=\"\",INDEX('作業（保護者）'!$E$3:$CB$11,Q$5,$O67),'データ入力（保護者）'!D67))","v":0},{"$f":"IF($O67=\"\",\"\",IF('データ入力（保護者）'!$L$3=\"\",INDEX('作業（保護者）'!$E$3:$CB$11,R$5,$O67),'データ入力（保護者）'!E67))","v":0},{"$f":"IF($O67=\"\",\"\",IF('データ入力（保護者）'!$L$3=\"\",INDEX('作業（保護者）'!$E$3:$CB$11,S$5,$O67),'データ入力（保護者）'!F67))","v":0},{"$f":"IF($O67=\"\",\"\",IF('データ入力（保護者）'!$L$3=\"\",INDEX('作業（保護者）'!$E$3:$CB$11,T$5,$O67),'データ入力（保護者）'!G67))","v":0},{"$f":"IF($O67=\"\",\"\",IF('データ入力（保護者）'!$L$3=\"\",INDEX('作業（保護者）'!$E$3:$CB$11,U$5,$O67),'データ入力（保護者）'!H67))","v":0},{"$f":"IF($O67=\"\",\"\",IF('データ入力（保護者）'!$L$3=\"\",INDEX('作業（保護者）'!$E$3:$CB$11,V$5,$O67),'データ入力（保護者）'!I67))","v":0},{"$f":"IF($O67=\"\",\"\",IF('データ入力（保護者）'!$L$3=\"\",INDEX('作業（保護者）'!$E$3:$CB$11,W$5,$O67),'データ入力（保護者）'!J67))","v":0},{"$f":"IF($O67=\"\",\"\",IF('データ入力（保護者）'!$L$3=\"\",INDEX('作業（保護者）'!$E$3:$CB$11,X$5,$O67),'データ入力（保護者）'!K67))","v":0},0]
["(12)-9","他人に嫌がらせをしている動画や、物を壊すなどのいたずらをしている動画を投稿したことがある","","","","","","","",null,null,null,null,1,{"$f":"IF(N68>=1,COUNT($N$6:N68),\"\")","v":43},{"$f":"IF($O68=\"\",\"\",IF('データ入力（保護者）'!$L$3=\"\",INDEX('作業（保護者）'!$E$3:$CB$11,P$5,$O68),'データ入力（保護者）'!C68))","v":0},{"$f":"IF($O68=\"\",\"\",IF('データ入力（保護者）'!$L$3=\"\",INDEX('作業（保護者）'!$E$3:$CB$11,Q$5,$O68),'データ入力（保護者）'!D68))","v":0},{"$f":"IF($O68=\"\",\"\",IF('データ入力（保護者）'!$L$3=\"\",INDEX('作業（保護者）'!$E$3:$CB$11,R$5,$O68),'データ入力（保護者）'!E68))","v":0},{"$f":"IF($O68=\"\",\"\",IF('データ入力（保護者）'!$L$3=\"\",INDEX('作業（保護者）'!$E$3:$CB$11,S$5,$O68),'データ入力（保護者）'!F68))","v":0},{"$f":"IF($O68=\"\",\"\",IF('データ入力（保護者）'!$L$3=\"\",INDEX('作業（保護者）'!$E$3:$CB$11,T$5,$O68),'データ入力（保護者）'!G68))","v":0},{"$f":"IF($O68=\"\",\"\",IF('データ入力（保護者）'!$L$3=\"\",INDEX('作業（保護者）'!$E$3:$CB$11,U$5,$O68),'データ入力（保護者）'!H68))","v":0},{"$f":"IF($O68=\"\",\"\",IF('データ入力（保護者）'!$L$3=\"\",INDEX('作業（保護者）'!$E$3:$CB$11,V$5,$O68),'データ入力（保護者）'!I68))","v":0},{"$f":"IF($O68=\"\",\"\",IF('データ入力（保護者）'!$L$3=\"\",INDEX('作業（保護者）'!$E$3:$CB$11,W$5,$O68),'データ入力（保護者）'!J68))","v":0},{"$f":"IF($O68=\"\",\"\",IF('データ入力（保護者）'!$L$3=\"\",INDEX('作業（保護者）'!$E$3:$CB$11,X$5,$O68),'データ入力（保護者）'!K68))","v":0},0]
["(12)-10","スマホや携帯電話にのめり込んで勉強に集中できなかったり、睡眠不足になったりしたことがある","","","","","","","",null,null,null,null,1,{"$f":"IF(N69>=1,COUNT($N$6:N69),\"\")","v":44},{"$f":"IF($O69=\"\",\"\",IF('データ入力（保護者）'!$L$3=\"\",INDEX('作業（保護者）'!$E$3:$CB$11,P$5,$O69),'データ入力（保護者）'!C69))","v":0},{"$f":"IF($O69=\"\",\"\",IF('データ入力（保護者）'!$L$3=\"\",INDEX('作業（保護者）'!$E$3:$CB$11,Q$5,$O69),'データ入力（保護者）'!D69))","v":0},{"$f":"IF($O69=\"\",\"\",IF('データ入力（保護者）'!$L$3=\"\",INDEX('作業（保護者）'!$E$3:$CB$11,R$5,$O69),'データ入力（保護者）'!E69))","v":0},{"$f":"IF($O69=\"\",\"\",IF('データ入力（保護者）'!$L$3=\"\",INDEX('作業（保護者）'!$E$3:$CB$11,S$5,$O69),'データ入力（保護者）'!F69))","v":0},{"$f":"IF($O69=\"\",\"\",IF('データ入力（保護者）'!$L$3=\"\",INDEX('作業（保護者）'!$E$3:$CB$11,T$5,$O69),'データ入力（保護者）'!G69))","v":0},{"$f":"IF($O69=\"\",\"\",IF('データ入力（保護者）'!$L$3=\"\",INDEX('作業（保護者）'!$E$3:$CB$11,U$5,$O69),'データ入力（保護者）'!H69))","v":0},{"$f":"IF($O69=\"\",\"\",IF('データ入力（保護者）'!$L$3=\"\",INDEX('作業（保護者）'!$E$3:$CB$11,V$5,$O69),'データ入力（保護者）'!I69))","v":0},{"$f":"IF($O69=\"\",\"\",IF('データ入力（保護者）'!$L$3=\"\",INDEX('作業（保護者）'!$E$3:$CB$11,W$5,$O69),'データ入力（保護者）'!J69))","v":0},{"$f":"IF($O69=\"\",\"\",IF('データ入力（保護者）'!$L$3=\"\",INDEX('作業（保護者）'!$E$3:$CB$11,X$5,$O69),'データ入力（保護者）'!K69))","v":0},0]
[null,null,null,null,null,null,null,null,null,null,null,null,null,null,{"$f":"IF(N70>=1,COUNT($N$6:N70),\"\")","v":""},{"$f":"IF($O70=\"\",\"\",IF('データ入力（保護者）'!$L$3=\"\",INDEX('作業（保護者）'!$E$3:$CB$11,P$5,$O70),'データ入力（保護者）'!C70))","v":""},{"$f":"IF($O70=\"\",\"\",IF('データ入力（保護者）'!$L$3=\"\",INDEX('作業（保護者）'!$E$3:$CB$11,Q$5,$O70),'データ入力（保護者）'!D70))","v":""},{"$f":"IF($O70=\"\",\"\",IF('データ入力（保護者）'!$L$3=\"\",INDEX('作業（保護者）'!$E$3:$CB$11,R$5,$O70),'データ入力（保護者）'!E70))","v":""},{"$f":"IF($O70=\"\",\"\",IF('データ入力（保護者）'!$L$3=\"\",INDEX('作業（保護者）'!$E$3:$CB$11,S$5,$O70),'データ入力（保護者）'!F70))","v":""},{"$f":"IF($O70=\"\",\"\",IF('データ入力（保護者）'!$L$3=\"\",INDEX('作業（保護者）'!$E$3:$CB$11,T$5,$O70),'データ入力（保護者）'!G70))","v":""},{"$f":"IF($O70=\"\",\"\",IF('データ入力（保護者）'!$L$3=\"\",INDEX('作業（保護者）'!$E$3:$CB$11,U$5,$O70),'データ入力（保護者）'!H70))","v":""},{"$f":"IF($O70=\"\",\"\",IF('データ入力（保護者）'!$L$3=\"\",INDEX('作業（保護者）'!$E$3:$CB$11,V$5,$O70),'データ入力（保護者）'!I70))","v":""},{"$f":"IF($O70=\"\",\"\",IF('データ入力（保護者）'!$L$3=\"\",INDEX('作業（保護者）'!$E$3:$CB$11,W$5,$O70),'データ入力（保護者）'!J70))","v":""},{"$f":"IF($O70=\"\",\"\",IF('データ入力（保護者）'!$L$3=\"\",INDEX('作業（保護者）'!$E$3:$CB$11,X$5,$O70),'データ入力（保護者）'!K70))","v":""},""]
[null,"質問","アプリケーション名",null,null,"割合",null,null,null,null,null,null,null,null,{"$f":"IF(N71>=1,COUNT($N$6:N71),\"\")","v":""},{"$f":"IF($O71=\"\",\"\",IF('データ入力（保護者）'!$L$3=\"\",INDEX('作業（保護者）'!$E$3:$CB$11,P$5,$O71),'データ入力（保護者）'!C71))","v":""},{"$f":"IF($O71=\"\",\"\",IF('データ入力（保護者）'!$L$3=\"\",INDEX('作業（保護者）'!$E$3:$CB$11,Q$5,$O71),'データ入力（保護者）'!D71))","v":""},{"$f":"IF($O71=\"\",\"\",IF('データ入力（保護者）'!$L$3=\"\",INDEX('作業（保護者）'!$E$3:$CB$11,R$5,$O71),'データ入力（保護者）'!E71))","v":""},{"$f":"IF($O71=\"\",\"\",IF('データ入力（保護者）'!$L$3=\"\",INDEX('作業（保護者）'!$E$3:$CB$11,S$5,$O71),'データ入力（保護者）'!F71))","v":""},{"$f":"IF($O71=\"\",\"\",IF('データ入力（保護者）'!$L$3=\"\",INDEX('作業（保護者）'!$E$3:$CB$11,T$5,$O71),'データ入力（保護者）'!G71))","v":""},{"$f":"IF($O71=\"\",\"\",IF('データ入力（保護者）'!$L$3=\"\",INDEX('作業（保護者）'!$E$3:$CB$11,U$5,$O71),'データ入力（保護者）'!H71))","v":""},{"$f":"IF($O71=\"\",\"\",IF('データ入力（保護者）'!$L$3=\"\",INDEX('作業（保護者）'!$E$3:$CB$11,V$5,$O71),'データ入力（保護者）'!I71))","v":""},{"$f":"IF($O71=\"\",\"\",IF('データ入力（保護者）'!$L$3=\"\",INDEX('作業（保護者）'!$E$3:$CB$11,W$5,$O71),'データ入力（保護者）'!J71))","v":""},{"$f":"IF($O71=\"\",\"\",IF('データ入力（保護者）'!$L$3=\"\",INDEX('作業（保護者）'!$E$3:$CB$11,X$5,$O71),'データ入力（保護者）'!K71))","v":""},{"$f":"IF(O71=\"\",\"\",$P$3-SUM(P71:X71))","v":""}]
["(13)","お子様には、SNSを通じて知り合った人がいると思いますか\nいると思われる場合、どのSNSで知り合ったと思いますか","いない",null,null,{"$f":"IFERROR(ROUND(P72/$P$3*100,1),\"\")","v":""},null,null,null,null,null,null,null,1,{"$f":"IF(N72>=1,COUNT($N$6:N72),\"\")","v":45},{"$f":"IF($O72=\"\",\"\",IF('データ入力（保護者）'!$L$3=\"\",INDEX('作業（保護者）'!$E$3:$CB$11,P$5,$O72),'データ入力（保護者）'!F72))","v":0},{"$f":"IF($O72=\"\",\"\",IF('データ入力（保護者）'!$L$3=\"\",INDEX('作業（保護者）'!$E$3:$CB$11,Q$5,$O72),'データ入力（保護者）'!G72))","v":0},{"$f":"IF($O72=\"\",\"\",IF('データ入力（保護者）'!$L$3=\"\",INDEX('作業（保護者）'!$E$3:$CB$11,R$5,$O72),'データ入力（保護者）'!H72))","v":0},{"$f":"IF($O72=\"\",\"\",IF('データ入力（保護者）'!$L$3=\"\",INDEX('作業（保護者）'!$E$3:$CB$11,S$5,$O72),'データ入力（保護者）'!I72))","v":0},{"$f":"IF($O72=\"\",\"\",IF('データ入力（保護者）'!$L$3=\"\",INDEX('作業（保護者）'!$E$3:$CB$11,T$5,$O72),'データ入力（保護者）'!J72))","v":0},{"$f":"IF($O72=\"\",\"\",IF('データ入力（保護者）'!$L$3=\"\",INDEX('作業（保護者）'!$E$3:$CB$11,U$5,$O72),'データ入力（保護者）'!K72))","v":0},{"$f":"IF($O72=\"\",\"\",IF('データ入力（保護者）'!$L$3=\"\",INDEX('作業（保護者）'!$E$3:$CB$11,V$5,$O72),'データ入力（保護者）'!L72))","v":0},{"$f":"IF($O72=\"\",\"\",IF('データ入力（保護者）'!$L$3=\"\",INDEX('作業（保護者）'!$E$3:$CB$11,W$5,$O72),'データ入力（保護者）'!M72))","v":0},{"$f":"IF($O72=\"\",\"\",IF('データ入力（保護者）'!$L$3=\"\",INDEX('作業（保護者）'!$E$3:$CB$11,X$5,$O72),'データ入力（保護者）'!N72))","v":0},0]
[null,null,"LINE",null,null,"",null,null,null,null,null,null,null,1,{"$f":"IF(N73>=1,COUNT($N$6:N73),\"\")","v":46},{"$f":"IF($O73=\"\",\"\",IF('データ入力（保護者）'!$L$3=\"\",INDEX('作業（保護者）'!$E$3:$CB$11,P$5,$O73),'データ入力（保護者）'!F73))","v":0},{"$f":"IF($O73=\"\",\"\",IF('データ入力（保護者）'!$L$3=\"\",INDEX('作業（保護者）'!$E$3:$CB$11,Q$5,$O73),'データ入力（保護者）'!G73))","v":0},{"$f":"IF($O73=\"\",\"\",IF('データ入力（保護者）'!$L$3=\"\",INDEX('作業（保護者）'!$E$3:$CB$11,R$5,$O73),'データ入力（保護者）'!H73))","v":0},{"$f":"IF($O73=\"\",\"\",IF('データ入力（保護者）'!$L$3=\"\",INDEX('作業（保護者）'!$E$3:$CB$11,S$5,$O73),'データ入力（保護者）'!I73))","v":0},{"$f":"IF($O73=\"\",\"\",IF('データ入力（保護者）'!$L$3=\"\",INDEX('作業（保護者）'!$E$3:$CB$11,T$5,$O73),'データ入力（保護者）'!J73))","v":0},{"$f":"IF($O73=\"\",\"\",IF('データ入力（保護者）'!$L$3=\"\",INDEX('作業（保護者）'!$E$3:$CB$11,U$5,$O73),'データ入力（保護者）'!K73))","v":0},{"$f":"IF($O73=\"\",\"\",IF('データ入力（保護者）'!$L$3=\"\",INDEX('作業（保護者）'!$E$3:$CB$11,V$5,$O73),'データ入力（保護者）'!L73))","v":0},{"$f":"IF($O73=\"\",\"\",IF('データ入力（保護者）'!$L$3=\"\",INDEX('作業（保護者）'!$E$3:$CB$11,W$5,$O73),'データ入力（保護者）'!M73))","v":0},{"$f":"IF($O73=\"\",\"\",IF('データ入力（保護者）'!$L$3=\"\",INDEX('作業（保護者）'!$E$3:$CB$11,X$5,$O73),'データ入力（保護者）'!N73))","v":0},0]
[null,null,"Twitter",null,null,"",null,null,null,null,null,null,null,1,{"$f":"IF(N74>=1,COUNT($N$6:N74),\"\")","v":47},{"$f":"IF($O74=\"\",\"\",IF('データ入力（保護者）'!$L$3=\"\",INDEX('作業（保護者）'!$E$3:$CB$11,P$5,$O74),'データ入力（保護者）'!F74))","v":0},{"$f":"IF($O74=\"\",\"\",IF('データ入力（保護者）'!$L$3=\"\",INDEX('作業（保護者）'!$E$3:$CB$11,Q$5,$O74),'データ入力（保護者）'!G74))","v":0},{"$f":"IF($O74=\"\",\"\",IF('データ入力（保護者）'!$L$3=\"\",INDEX('作業（保護者）'!$E$3:$CB$11,R$5,$O74),'データ入力（保護者）'!H74))","v":0},{"$f":"IF($O74=\"\",\"\",IF('データ入力（保護者）'!$L$3=\"\",INDEX('作業（保護者）'!$E$3:$CB$11,S$5,$O74),'データ入力（保護者）'!I74))","v":0},{"$f":"IF($O74=\"\",\"\",IF('データ入力（保護者）'!$L$3=\"\",INDEX('作業（保護者）'!$E$3:$CB$11,T$5,$O74),'データ入力（保護者）'!J74))","v":0},{"$f":"IF($O74=\"\",\"\",IF('データ入力（保護者）'!$L$3=\"\",INDEX('作業（保護者）'!$E$3:$CB$11,U$5,$O74),'データ入力（保護者）'!K74))","v":0},{"$f":"IF($O74=\"\",\"\",IF('データ入力（保護者）'!$L$3=\"\",INDEX('作業（保護者）'!$E$3:$CB$11,V$5,$O74),'データ入力（保護者）'!L74))","v":0},{"$f":"IF($O74=\"\",\"\",IF('データ入力（保護者）'!$L$3=\"\",INDEX('作業（保護者）'!$E$3:$CB$11,W$5,$O74),'データ入力（保護者）'!M74))","v":0},{"$f":"IF($O74=\"\",\"\",IF('データ入力（保護者）'!$L$3=\"\",INDEX('作業（保護者）'!$E$3:$CB$11,X$5,$O74),'データ入力（保護者）'!N74))","v":0},0]
[null,null,"Instagram",null,null,"",null,null,null,null,null,null,null,1,{"$f":"IF(N75>=1,COUNT($N$6:N75),\"\")","v":48},{"$f":"IF($O75=\"\",\"\",IF('データ入力（保護者）'!$L$3=\"\",INDEX('作業（保護者）'!$E$3:$CB$11,P$5,$O75),'データ入力（保護者）'!F75))","v":0},{"$f":"IF($O75=\"\",\"\",IF('データ入力（保護者）'!$L$3=\"\",INDEX('作業（保護者）'!$E$3:$CB$11,Q$5,$O75),'データ入力（保護者）'!G75))","v":0},{"$f":"IF($O75=\"\",\"\",IF('データ入力（保護者）'!$L$3=\"\",INDEX('作業（保護者）'!$E$3:$CB$11,R$5,$O75),'データ入力（保護者）'!H75))","v":0},{"$f":"IF($O75=\"\",\"\",IF('データ入力（保護者）'!$L$3=\"\",INDEX('作業（保護者）'!$E$3:$CB$11,S$5,$O75),'データ入力（保護者）'!I75))","v":0},{"$f":"IF($O75=\"\",\"\",IF('データ入力（保護者）'!$L$3=\"\",INDEX('作業（保護者）'!$E$3:$CB$11,T$5,$O75),'データ入力（保護者）'!J75))","v":0},{"$f":"IF($O75=\"\",\"\",IF('データ入力（保護者）'!$L$3=\"\",INDEX('作業（保護者）'!$E$3:$CB$11,U$5,$O75),'データ入力（保護者）'!K75))","v":0},{"$f":"IF($O75=\"\",\"\",IF('データ入力（保護者）'!$L$3=\"\",INDEX('作業（保護者）'!$E$3:$CB$11,V$5,$O75),'データ入力（保護者）'!L75))","v":0},{"$f":"IF($O75=\"\",\"\",IF('データ入力（保護者）'!$L$3=\"\",INDEX('作業（保護者）'!$E$3:$CB$11,W$5,$O75),'データ入力（保護者）'!M75))","v":0},{"$f":"IF($O75=\"\",\"\",IF('データ入力（保護者）'!$L$3=\"\",INDEX('作業（保護者）'!$E$3:$CB$11,X$5,$O75),'データ入力（保護者）'!N75))","v":0},0]
[null,null,"TikTok",null,null,"",null,null,null,null,null,null,null,1,{"$f":"IF(N76>=1,COUNT($N$6:N76),\"\")","v":49},{"$f":"IF($O76=\"\",\"\",IF('データ入力（保護者）'!$L$3=\"\",INDEX('作業（保護者）'!$E$3:$CB$11,P$5,$O76),'データ入力（保護者）'!F76))","v":0},{"$f":"IF($O76=\"\",\"\",IF('データ入力（保護者）'!$L$3=\"\",INDEX('作業（保護者）'!$E$3:$CB$11,Q$5,$O76),'データ入力（保護者）'!G76))","v":0},{"$f":"IF($O76=\"\",\"\",IF('データ入力（保護者）'!$L$3=\"\",INDEX('作業（保護者）'!$E$3:$CB$11,R$5,$O76),'データ入力（保護者）'!H76))","v":0},{"$f":"IF($O76=\"\",\"\",IF('データ入力（保護者）'!$L$3=\"\",INDEX('作業（保護者）'!$E$3:$CB$11,S$5,$O76),'データ入力（保護者）'!I76))","v":0},{"$f":"IF($O76=\"\",\"\",IF('データ入力（保護者）'!$L$3=\"\",INDEX('作業（保護者）'!$E$3:$CB$11,T$5,$O76),'データ入力（保護者）'!J76))","v":0},{"$f":"IF($O76=\"\",\"\",IF('データ入力（保護者）'!$L$3=\"\",INDEX('作業（保護者）'!$E$3:$CB$11,U$5,$O76),'データ入力（保護者）'!K76))","v":0},{"$f":"IF($O76=\"\",\"\",IF('データ入力（保護者）'!$L$3=\"\",INDEX('作業（保護者）'!$E$3:$CB$11,V$5,$O76),'データ入力（保護者）'!L76))","v":0},{"$f":"IF($O76=\"\",\"\",IF('データ入力（保護者）'!$L$3=\"\",INDEX('作業（保護者）'!$E$3:$CB$11,W$5,$O76),'データ入力（保護者）'!M76))","v":0},{"$f":"IF($O76=\"\",\"\",IF('データ入力（保護者）'!$L$3=\"\",INDEX('作業（保護者）'!$E$3:$CB$11,X$5,$O76),'データ入力（保護者）'!N76))","v":0},0]
[null,null,"その他",null,null,"",null,null,null,null,null,null,null,1,{"$f":"IF(N77>=1,COUNT($N$6:N77),\"\")","v":50},{"$f":"IF($O77=\"\",\"\",IF('データ入力（保護者）'!$L$3=\"\",INDEX('作業（保護者）'!$E$3:$CB$11,P$5,$O77),'データ入力（保護者）'!F77))","v":0},{"$f":"IF($O77=\"\",\"\",IF('データ入力（保護者）'!$L$3=\"\",INDEX('作業（保護者）'!$E$3:$CB$11,Q$5,$O77),'データ入力（保護者）'!G77))","v":0},{"$f":"IF($O77=\"\",\"\",IF('データ入力（保護者）'!$L$3=\"\",INDEX('作業（保護者）'!$E$3:$CB$11,R$5,$O77),'データ入力（保護者）'!H77))","v":0},{"$f":"IF($O77=\"\",\"\",IF('データ入力（保護者）'!$L$3=\"\",INDEX('作業（保護者）'!$E$3:$CB$11,S$5,$O77),'データ入力（保護者）'!I77))","v":0},{"$f":"IF($O77=\"\",\"\",IF('データ入力（保護者）'!$L$3=\"\",INDEX('作業（保護者）'!$E$3:$CB$11,T$5,$O77),'データ入力（保護者）'!J77))","v":0},{"$f":"IF($O77=\"\",\"\",IF('データ入力（保護者）'!$L$3=\"\",INDEX('作業（保護者）'!$E$3:$CB$11,U$5,$O77),'データ入力（保護者）'!K77))","v":0},{"$f":"IF($O77=\"\",\"\",IF('データ入力（保護者）'!$L$3=\"\",INDEX('作業（保護者）'!$E$3:$CB$11,V$5,$O77),'データ入力（保護者）'!L77))","v":0},{"$f":"IF($O77=\"\",\"\",IF('データ入力（保護者）'!$L$3=\"\",INDEX('作業（保護者）'!$E$3:$CB$11,W$5,$O77),'データ入力（保護者）'!M77))","v":0},{"$f":"IF($O77=\"\",\"\",IF('データ入力（保護者）'!$L$3=\"\",INDEX('作業（保護者）'!$E$3:$CB$11,X$5,$O77),'データ入力（保護者）'!N77))","v":0},0]
[null,null,"わからない",null,null,"",null,null,null,null,null,null,null,1,{"$f":"IF(N78>=1,COUNT($N$6:N78),\"\")","v":51},{"$f":"IF($O78=\"\",\"\",IF('データ入力（保護者）'!$L$3=\"\",INDEX('作業（保護者）'!$E$3:$CB$11,P$5,$O78),'データ入力（保護者）'!F78))","v":0},{"$f":"IF($O78=\"\",\"\",IF('データ入力（保護者）'!$L$3=\"\",INDEX('作業（保護者）'!$E$3:$CB$11,Q$5,$O78),'データ入力（保護者）'!G78))","v":0},{"$f":"IF($O78=\"\",\"\",IF('データ入力（保護者）'!$L$3=\"\",INDEX('作業（保護者）'!$E$3:$CB$11,R$5,$O78),'データ入力（保護者）'!H78))","v":0},{"$f":"IF($O78=\"\",\"\",IF('データ入力（保護者）'!$L$3=\"\",INDEX('作業（保護者）'!$E$3:$CB$11,S$5,$O78),'データ入力（保護者）'!I78))","v":0},{"$f":"IF($O78=\"\",\"\",IF('データ入力（保護者）'!$L$3=\"\",INDEX('作業（保護者）'!$E$3:$CB$11,T$5,$O78),'データ入力（保護者）'!J78))","v":0},{"$f":"IF($O78=\"\",\"\",IF('データ入力（保護者）'!$L$3=\"\",INDEX('作業（保護者）'!$E$3:$CB$11,U$5,$O78),'データ入力（保護者）'!K78))","v":0},{"$f":"IF($O78=\"\",\"\",IF('データ入力（保護者）'!$L$3=\"\",INDEX('作業（保護者）'!$E$3:$CB$11,V$5,$O78),'データ入力（保護者）'!L78))","v":0},{"$f":"IF($O78=\"\",\"\",IF('データ入力（保護者）'!$L$3=\"\",INDEX('作業（保護者）'!$E$3:$CB$11,W$5,$O78),'データ入力（保護者）'!M78))","v":0},{"$f":"IF($O78=\"\",\"\",IF('データ入力（保護者）'!$L$3=\"\",INDEX('作業（保護者）'!$E$3:$CB$11,X$5,$O78),'データ入力（保護者）'!N78))","v":0},0]
[null,null,null,null,null,null,null,null,null,null,null,null,null,null,{"$f":"IF(N79>=1,COUNT($N$6:N79),\"\")","v":""},{"$f":"IF($O79=\"\",\"\",IF('データ入力（保護者）'!$L$3=\"\",INDEX('作業（保護者）'!$E$3:$CB$11,P$5,$O79),'データ入力（保護者）'!C79))","v":""},{"$f":"IF($O79=\"\",\"\",IF('データ入力（保護者）'!$L$3=\"\",INDEX('作業（保護者）'!$E$3:$CB$11,Q$5,$O79),'データ入力（保護者）'!D79))","v":""},{"$f":"IF($O79=\"\",\"\",IF('データ入力（保護者）'!$L$3=\"\",INDEX('作業（保護者）'!$E$3:$CB$11,R$5,$O79),'データ入力（保護者）'!E79))","v":""},{"$f":"IF($O79=\"\",\"\",IF('データ入力（保護者）'!$L$3=\"\",INDEX('作業（保護者）'!$E$3:$CB$11,S$5,$O79),'データ入力（保護者）'!F79))","v":""},{"$f":"IF($O79=\"\",\"\",IF('データ入力（保護者）'!$L$3=\"\",INDEX('作業（保護者）'!$E$3:$CB$11,T$5,$O79),'データ入力（保護者）'!G79))","v":""},{"$f":"IF($O79=\"\",\"\",IF('データ入力（保護者）'!$L$3=\"\",INDEX('作業（保護者）'!$E$3:$CB$11,U$5,$O79),'データ入力（保護者）'!H79))","v":""},{"$f":"IF($O79=\"\",\"\",IF('データ入力（保護者）'!$L$3=\"\",INDEX('作業（保護者）'!$E$3:$CB$11,V$5,$O79),'データ入力（保護者）'!I79))","v":""},{"$f":"IF($O79=\"\",\"\",IF('データ入力（保護者）'!$L$3=\"\",INDEX('作業（保護者）'!$E$3:$CB$11,W$5,$O79),'データ入力（保護者）'!J79))","v":""},{"$f":"IF($O79=\"\",\"\",IF('データ入力（保護者）'!$L$3=\"\",INDEX('作業（保護者）'!$E$3:$CB$11,X$5,$O79),'データ入力（保護者）'!K79))","v":""},""]
[null,"質問","ある","ない","わからない","無回答",null,null,null,null,null,null,null,null,{"$f":"IF(N80>=1,COUNT($N$6:N80),\"\")","v":""},{"$f":"IF($O80=\"\",\"\",IF('データ入力（保護者）'!$L$3=\"\",INDEX('作業（保護者）'!$E$3:$CB$11,P$5,$O80),'データ入力（保護者）'!C80))","v":""},{"$f":"IF($O80=\"\",\"\",IF('データ入力（保護者）'!$L$3=\"\",INDEX('作業（保護者）'!$E$3:$CB$11,Q$5,$O80),'データ入力（保護者）'!D80))","v":""},{"$f":"IF($O80=\"\",\"\",IF('データ入力（保護者）'!$L$3=\"\",INDEX('作業（保護者）'!$E$3:$CB$11,R$5,$O80),'データ入力（保護者）'!E80))","v":""},{"$f":"IF($O80=\"\",\"\",IF('データ入力（保護者）'!$L$3=\"\",INDEX('作業（保護者）'!$E$3:$CB$11,S$5,$O80),'データ入力（保護者）'!F80))","v":""},{"$f":"IF($O80=\"\",\"\",IF('データ入力（保護者）'!$L$3=\"\",INDEX('作業（保護者）'!$E$3:$CB$11,T$5,$O80),'データ入力（保護者）'!G80))","v":""},{"$f":"IF($O80=\"\",\"\",IF('データ入力（保護者）'!$L$3=\"\",INDEX('作業（保護者）'!$E$3:$CB$11,U$5,$O80),'データ入力（保護者）'!H80))","v":""},{"$f":"IF($O80=\"\",\"\",IF('データ入力（保護者）'!$L$3=\"\",INDEX('作業（保護者）'!$E$3:$CB$11,V$5,$O80),'データ入力（保護者）'!I80))","v":""},{"$f":"IF($O80=\"\",\"\",IF('データ入力（保護者）'!$L$3=\"\",INDEX('作業（保護者）'!$E$3:$CB$11,W$5,$O80),'データ入力（保護者）'!J80))","v":""},{"$f":"IF($O80=\"\",\"\",IF('データ入力（保護者）'!$L$3=\"\",INDEX('作業（保護者）'!$E$3:$CB$11,X$5,$O80),'データ入力（保護者）'!K80))","v":""},""]
["(14)-1","お子様は、SNSで知り合った人に自分の電話番号、またはLINEのアカウントなどを教えたことがあると思いますか",{"$f":"IFERROR(ROUND(P81/$P$3*100,1),\"\")","v":""},{"$f":"IFERROR(ROUND(Q81/$P$3*100,1),\"\")","v":""},{"$f":"IFERROR(ROUND(R81/$P$3*100,1),\"\")","v":""},{"$f":"IFERROR(ROUND($Y81/$P$3*100,1),\"\")","v":""},null,null,null,null,null,null,null,1,{"$f":"IF(N81>=1,COUNT($N$6:N81),\"\")","v":52},{"$f":"IF($O81=\"\",\"\",IF('データ入力（保護者）'!$L$3=\"\",INDEX('作業（保護者）'!$E$3:$CB$11,P$5,$O81),'データ入力（保護者）'!C81))","v":0},{"$f":"IF($O81=\"\",\"\",IF('データ入力（保護者）'!$L$3=\"\",INDEX('作業（保護者）'!$E$3:$CB$11,Q$5,$O81),'データ入力（保護者）'!D81))","v":0},{"$f":"IF($O81=\"\",\"\",IF('データ入力（保護者）'!$L$3=\"\",INDEX('作業（保護者）'!$E$3:$CB$11,R$5,$O81),'データ入力（保護者）'!E81))","v":0},{"$f":"IF($O81=\"\",\"\",IF('データ入力（保護者）'!$L$3=\"\",INDEX('作業（保護者）'!$E$3:$CB$11,S$5,$O81),'データ入力（保護者）'!F81))","v":0},{"$f":"IF($O81=\"\",\"\",IF('データ入力（保護者）'!$L$3=\"\",INDEX('作業（保護者）'!$E$3:$CB$11,T$5,$O81),'データ入力（保護者）'!G81))","v":0},{"$f":"IF($O81=\"\",\"\",IF('データ入力（保護者）'!$L$3=\"\",INDEX('作業（保護者）'!$E$3:$CB$11,U$5,$O81),'データ入力（保護者）'!H81))","v":0},{"$f":"IF($O81=\"\",\"\",IF('データ入力（保護者）'!$L$3=\"\",INDEX('作業（保護者）'!$E$3:$CB$11,V$5,$O81),'データ入力（保護者）'!I81))","v":0},{"$f":"IF($O81=\"\",\"\",IF('データ入力（保護者）'!$L$3=\"\",INDEX('作業（保護者）'!$E$3:$CB$11,W$5,$O81),'データ入力（保護者）'!J81))","v":0},{"$f":"IF($O81=\"\",\"\",IF('データ入力（保護者）'!$L$3=\"\",INDEX('作業（保護者）'!$E$3:$CB$11,X$5,$O81),'データ入力（保護者）'!K81))","v":0},0]
["(14)-2","お子様は、SNSで知り合った人と実際に会ったことがあると思いますか","","","","",null,null,null,null,null,null,null,1,{"$f":"IF(N82>=1,COUNT($N$6:N82),\"\")","v":53},{"$f":"IF($O82=\"\",\"\",IF('データ入力（保護者）'!$L$3=\"\",INDEX('作業（保護者）'!$E$3:$CB$11,P$5,$O82),'データ入力（保護者）'!C82))","v":0},{"$f":"IF($O82=\"\",\"\",IF('データ入力（保護者）'!$L$3=\"\",INDEX('作業（保護者）'!$E$3:$CB$11,Q$5,$O82),'データ入力（保護者）'!D82))","v":0},{"$f":"IF($O82=\"\",\"\",IF('データ入力（保護者）'!$L$3=\"\",INDEX('作業（保護者）'!$E$3:$CB$11,R$5,$O82),'データ入力（保護者）'!E82))","v":0},{"$f":"IF($O82=\"\",\"\",IF('データ入力（保護者）'!$L$3=\"\",INDEX('作業（保護者）'!$E$3:$CB$11,S$5,$O82),'データ入力（保護者）'!F82))","v":0},{"$f":"IF($O82=\"\",\"\",IF('データ入力（保護者）'!$L$3=\"\",INDEX('作業（保護者）'!$E$3:$CB$11,T$5,$O82),'データ入力（保護者）'!G82))","v":0},{"$f":"IF($O82=\"\",\"\",IF('データ入力（保護者）'!$L$3=\"\",INDEX('作業（保護者）'!$E$3:$CB$11,U$5,$O82),'データ入力（保護者）'!H82))","v":0},{"$f":"IF($O82=\"\",\"\",IF('データ入力（保護者）'!$L$3=\"\",INDEX('作業（保護者）'!$E$3:$CB$11,V$5,$O82),'データ入力（保護者）'!I82))","v":0},{"$f":"IF($O82=\"\",\"\",IF('データ入力（保護者）'!$L$3=\"\",INDEX('作業（保護者）'!$E$3:$CB$11,W$5,$O82),'データ入力（保護者）'!J82))","v":0},{"$f":"IF($O82=\"\",\"\",IF('データ入力（保護者）'!$L$3=\"\",INDEX('作業（保護者）'!$E$3:$CB$11,X$5,$O82),'データ入力（保護者）'!K82))","v":0},0]
[null,null,null,null,null,null,null,null,null,null,null,null,null,null,{"$f":"IF(N83>=1,COUNT($N$6:N83),\"\")","v":""},{"$f":"IF($O83=\"\",\"\",IF('データ入力（保護者）'!$L$3=\"\",INDEX('作業（保護者）'!$E$3:$CB$11,P$5,$O83),'データ入力（保護者）'!C83))","v":""},{"$f":"IF($O83=\"\",\"\",IF('データ入力（保護者）'!$L$3=\"\",INDEX('作業（保護者）'!$E$3:$CB$11,Q$5,$O83),'データ入力（保護者）'!D83))","v":""},{"$f":"IF($O83=\"\",\"\",IF('データ入力（保護者）'!$L$3=\"\",INDEX('作業（保護者）'!$E$3:$CB$11,R$5,$O83),'データ入力（保護者）'!E83))","v":""},{"$f":"IF($O83=\"\",\"\",IF('データ入力（保護者）'!$L$3=\"\",INDEX('作業（保護者）'!$E$3:$CB$11,S$5,$O83),'データ入力（保護者）'!F83))","v":""},{"$f":"IF($O83=\"\",\"\",IF('データ入力（保護者）'!$L$3=\"\",INDEX('作業（保護者）'!$E$3:$CB$11,T$5,$O83),'データ入力（保護者）'!G83))","v":""},{"$f":"IF($O83=\"\",\"\",IF('データ入力（保護者）'!$L$3=\"\",INDEX('作業（保護者）'!$E$3:$CB$11,U$5,$O83),'データ入力（保護者）'!H83))","v":""},{"$f":"IF($O83=\"\",\"\",IF('データ入力（保護者）'!$L$3=\"\",INDEX('作業（保護者）'!$E$3:$CB$11,V$5,$O83),'データ入力（保護者）'!I83))","v":""},{"$f":"IF($O83=\"\",\"\",IF('データ入力（保護者）'!$L$3=\"\",INDEX('作業（保護者）'!$E$3:$CB$11,W$5,$O83),'データ入力（保護者）'!J83))","v":""},{"$f":"IF($O83=\"\",\"\",IF('データ入力（保護者）'!$L$3=\"\",INDEX('作業（保護者）'!$E$3:$CB$11,X$5,$O83),'データ入力（保護者）'!K83))","v":""},""]
[null,"質問","週２回以上","週１回程度","月１回程度","年１回程度","機器の\n購入時のみ","話し合って\nいない","無回答",null,null,null,null,null,{"$f":"IF(N84>=1,COUNT($N$6:N84),\"\")","v":""},{"$f":"IF($O84=\"\",\"\",IF('データ入力（保護者）'!$L$3=\"\",INDEX('作業（保護者）'!$E$3:$CB$11,P$5,$O84),'データ入力（保護者）'!C84))","v":""},{"$f":"IF($O84=\"\",\"\",IF('データ入力（保護者）'!$L$3=\"\",INDEX('作業（保護者）'!$E$3:$CB$11,Q$5,$O84),'データ入力（保護者）'!D84))","v":""},{"$f":"IF($O84=\"\",\"\",IF('データ入力（保護者）'!$L$3=\"\",INDEX('作業（保護者）'!$E$3:$CB$11,R$5,$O84),'データ入力（保護者）'!E84))","v":""},{"$f":"IF($O84=\"\",\"\",IF('データ入力（保護者）'!$L$3=\"\",INDEX('作業（保護者）'!$E$3:$CB$11,S$5,$O84),'データ入力（保護者）'!F84))","v":""},{"$f":"IF($O84=\"\",\"\",IF('データ入力（保護者）'!$L$3=\"\",INDEX('作業（保護者）'!$E$3:$CB$11,T$5,$O84),'データ入力（保護者）'!G84))","v":""},{"$f":"IF($O84=\"\",\"\",IF('データ入力（保護者）'!$L$3=\"\",INDEX('作業（保護者）'!$E$3:$CB$11,U$5,$O84),'データ入力（保護者）'!H84))","v":""},{"$f":"IF($O84=\"\",\"\",IF('データ入力（保護者）'!$L$3=\"\",INDEX('作業（保護者）'!$E$3:$CB$11,V$5,$O84),'データ入力（保護者）'!I84))","v":""},{"$f":"IF($O84=\"\",\"\",IF('データ入力（保護者）'!$L$3=\"\",INDEX('作業（保護者）'!$E$3:$CB$11,W$5,$O84),'データ入力（保護者）'!J84))","v":""},{"$f":"IF($O84=\"\",\"\",IF('データ入力（保護者）'!$L$3=\"\",INDEX('作業（保護者）'!$E$3:$CB$11,X$5,$O84),'データ入力（保護者）'!K84))","v":""},""]
["(15)","インターネットやSNSの使い方について、お子様とどの程度話し合いますか",{"$f":"IFERROR(ROUND(P85/$P$3*100,1),\"\")","v":""},{"$f":"IFERROR(ROUND(Q85/$P$3*100,1),\"\")","v":""},{"$f":"IFERROR(ROUND(R85/$P$3*100,1),\"\")","v":""},{"$f":"IFERROR(ROUND(S85/$P$3*100,1),\"\")","v":""},{"$f":"IFERROR(ROUND(T85/$P$3*100,1),\"\")","v":""},{"$f":"IFERROR(ROUND(U85/$P$3*100,1),\"\")","v":""},{"$f":"IFERROR(ROUND($Y85/$P$3*100,1),\"\")","v":""},null,null,null,null,1,{"$f":"IF(N85>=1,COUNT($N$6:N85),\"\")","v":54},{"$f":"IF($O85=\"\",\"\",IF('データ入力（保護者）'!$L$3=\"\",INDEX('作業（保護者）'!$E$3:$CB$11,P$5,$O85),'データ入力（保護者）'!C85))","v":0},{"$f":"IF($O85=\"\",\"\",IF('データ入力（保護者）'!$L$3=\"\",INDEX('作業（保護者）'!$E$3:$CB$11,Q$5,$O85),'データ入力（保護者）'!D85))","v":0},{"$f":"IF($O85=\"\",\"\",IF('データ入力（保護者）'!$L$3=\"\",INDEX('作業（保護者）'!$E$3:$CB$11,R$5,$O85),'データ入力（保護者）'!E85))","v":0},{"$f":"IF($O85=\"\",\"\",IF('データ入力（保護者）'!$L$3=\"\",INDEX('作業（保護者）'!$E$3:$CB$11,S$5,$O85),'データ入力（保護者）'!F85))","v":0},{"$f":"IF($O85=\"\",\"\",IF('データ入力（保護者）'!$L$3=\"\",INDEX('作業（保護者）'!$E$3:$CB$11,T$5,$O85),'データ入力（保護者）'!G85))","v":0},{"$f":"IF($O85=\"\",\"\",IF('データ入力（保護者）'!$L$3=\"\",INDEX('作業（保護者）'!$E$3:$CB$11,U$5,$O85),'データ入力（保護者）'!H85))","v":0},{"$f":"IF($O85=\"\",\"\",IF('データ入力（保護者）'!$L$3=\"\",INDEX('作業（保護者）'!$E$3:$CB$11,V$5,$O85),'データ入力（保護者）'!I85))","v":0},{"$f":"IF($O85=\"\",\"\",IF('データ入力（保護者）'!$L$3=\"\",INDEX('作業（保護者）'!$E$3:$CB$11,W$5,$O85),'データ入力（保護者）'!J85))","v":0},{"$f":"IF($O85=\"\",\"\",IF('データ入力（保護者）'!$L$3=\"\",INDEX('作業（保護者）'!$E$3:$CB$11,X$5,$O85),'データ入力（保護者）'!K85))","v":0},0]
["【保護者ご自身のこと】についての質問",null,null,null,null,null,null,null,null,null,null,null,null,null,{"$f":"IF(N86>=1,COUNT($N$6:N86),\"\")","v":""},{"$f":"IF($O86=\"\",\"\",IF('データ入力（保護者）'!$L$3=\"\",INDEX('作業（保護者）'!$E$3:$CB$11,P$5,$O86),'データ入力（保護者）'!C86))","v":""},{"$f":"IF($O86=\"\",\"\",IF('データ入力（保護者）'!$L$3=\"\",INDEX('作業（保護者）'!$E$3:$CB$11,Q$5,$O86),'データ入力（保護者）'!D86))","v":""},{"$f":"IF($O86=\"\",\"\",IF('データ入力（保護者）'!$L$3=\"\",INDEX('作業（保護者）'!$E$3:$CB$11,R$5,$O86),'データ入力（保護者）'!E86))","v":""},{"$f":"IF($O86=\"\",\"\",IF('データ入力（保護者）'!$L$3=\"\",INDEX('作業（保護者）'!$E$3:$CB$11,S$5,$O86),'データ入力（保護者）'!F86))","v":""},{"$f":"IF($O86=\"\",\"\",IF('データ入力（保護者）'!$L$3=\"\",INDEX('作業（保護者）'!$E$3:$CB$11,T$5,$O86),'データ入力（保護者）'!G86))","v":""},{"$f":"IF($O86=\"\",\"\",IF('データ入力（保護者）'!$L$3=\"\",INDEX('作業（保護者）'!$E$3:$CB$11,U$5,$O86),'データ入力（保護者）'!H86))","v":""},{"$f":"IF($O86=\"\",\"\",IF('データ入力（保護者）'!$L$3=\"\",INDEX('作業（保護者）'!$E$3:$CB$11,V$5,$O86),'データ入力（保護者）'!I86))","v":""},{"$f":"IF($O86=\"\",\"\",IF('データ入力（保護者）'!$L$3=\"\",INDEX('作業（保護者）'!$E$3:$CB$11,W$5,$O86),'データ入力（保護者）'!J86))","v":""},{"$f":"IF($O86=\"\",\"\",IF('データ入力（保護者）'!$L$3=\"\",INDEX('作業（保護者）'!$E$3:$CB$11,X$5,$O86),'データ入力（保護者）'!K86))","v":""},""]
[null,"質問","ある","ない","わからない","無回答",null,null,null,null,null,null,null,null,{"$f":"IF(N87>=1,COUNT($N$6:N87),\"\")","v":""},{"$f":"IF($O87=\"\",\"\",IF('データ入力（保護者）'!$L$3=\"\",INDEX('作業（保護者）'!$E$3:$CB$11,P$5,$O87),'データ入力（保護者）'!C87))","v":""},{"$f":"IF($O87=\"\",\"\",IF('データ入力（保護者）'!$L$3=\"\",INDEX('作業（保護者）'!$E$3:$CB$11,Q$5,$O87),'データ入力（保護者）'!D87))","v":""},{"$f":"IF($O87=\"\",\"\",IF('データ入力（保護者）'!$L$3=\"\",INDEX('作業（保護者）'!$E$3:$CB$11,R$5,$O87),'データ入力（保護者）'!E87))","v":""},{"$f":"IF($O87=\"\",\"\",IF('データ入力（保護者）'!$L$3=\"\",INDEX('作業（保護者）'!$E$3:$CB$11,S$5,$O87),'データ入力（保護者）'!F87))","v":""},{"$f":"IF($O87=\"\",\"\",IF('データ入力（保護者）'!$L$3=\"\",INDEX('作業（保護者）'!$E$3:$CB$11,T$5,$O87),'データ入力（保護者）'!G87))","v":""},{"$f":"IF($O87=\"\",\"\",IF('データ入力（保護者）'!$L$3=\"\",INDEX('作業（保護者）'!$E$3:$CB$11,U$5,$O87),'データ入力（保護者）'!H87))","v":""},{"$f":"IF($O87=\"\",\"\",IF('データ入力（保護者）'!$L$3=\"\",INDEX('作業（保護者）'!$E$3:$CB$11,V$5,$O87),'データ入力（保護者）'!I87))","v":""},{"$f":"IF($O87=\"\",\"\",IF('データ入力（保護者）'!$L$3=\"\",INDEX('作業（保護者）'!$E$3:$CB$11,W$5,$O87),'データ入力（保護者）'!J87))","v":""},{"$f":"IF($O87=\"\",\"\",IF('データ入力（保護者）'!$L$3=\"\",INDEX('作業（保護者）'!$E$3:$CB$11,X$5,$O87),'データ入力（保護者）'!K87))","v":""},""]
["(16)","あなたは、Twitter（ツイッター）やInstagram（インスタグラム）などの誰にでも見られる場所に、他人の画像を本人の許可なくアップしたことがありますか",{"$f":"IFERROR(ROUND(P88/$P$3*100,1),\"\")","v":""},{"$f":"IFERROR(ROUND(Q88/$P$3*100,1),\"\")","v":""},{"$f":"IFERROR(ROUND(R88/$P$3*100,1),\"\")","v":""},{"$f":"IFERROR(ROUND($Y88/$P$3*100,1),\"\")","v":""},null,null,null,null,null,null,null,1,{"$f":"IF(N88>=1,COUNT($N$6:N88),\"\")","v":55},{"$f":"IF($O88=\"\",\"\",IF('データ入力（保護者）'!$L$3=\"\",INDEX('作業（保護者）'!$E$3:$CB$11,P$5,$O88),'データ入力（保護者）'!C88))","v":0},{"$f":"IF($O88=\"\",\"\",IF('データ入力（保護者）'!$L$3=\"\",INDEX('作業（保護者）'!$E$3:$CB$11,Q$5,$O88),'データ入力（保護者）'!D88))","v":0},{"$f":"IF($O88=\"\",\"\",IF('データ入力（保護者）'!$L$3=\"\",INDEX('作業（保護者）'!$E$3:$CB$11,R$5,$O88),'データ入力（保護者）'!E88))","v":0},{"$f":"IF($O88=\"\",\"\",IF('データ入力（保護者）'!$L$3=\"\",INDEX('作業（保護者）'!$E$3:$CB$11,S$5,$O88),'データ入力（保護者）'!F88))","v":0},{"$f":"IF($O88=\"\",\"\",IF('データ入力（保護者）'!$L$3=\"\",INDEX('作業（保護者）'!$E$3:$CB$11,T$5,$O88),'データ入力（保護者）'!G88))","v":0},{"$f":"IF($O88=\"\",\"\",IF('データ入力（保護者）'!$L$3=\"\",INDEX('作業（保護者）'!$E$3:$CB$11,U$5,$O88),'データ入力（保護者）'!H88))","v":0},{"$f":"IF($O88=\"\",\"\",IF('データ入力（保護者）'!$L$3=\"\",INDEX('作業（保護者）'!$E$3:$CB$11,V$5,$O88),'データ入力（保護者）'!I88))","v":0},{"$f":"IF($O88=\"\",\"\",IF('データ入力（保護者）'!$L$3=\"\",INDEX('作業（保護者）'!$E$3:$CB$11,W$5,$O88),'データ入力（保護者）'!J88))","v":0},{"$f":"IF($O88=\"\",\"\",IF('データ入力（保護者）'!$L$3=\"\",INDEX('作業（保護者）'!$E$3:$CB$11,X$5,$O88),'データ入力（保護者）'!K88))","v":0},0]
["(17)","あなたはTwitter（ツイッター）やInstagram（インスタグラム）などの誰にでも見られる場所に、自分の画像を許可なくアップされたことがありますか","","","","",null,null,null,null,null,null,null,1,{"$f":"IF(N89>=1,COUNT($N$6:N89),\"\")","v":56},{"$f":"IF($O89=\"\",\"\",IF('データ入力（保護者）'!$L$3=\"\",INDEX('作業（保護者）'!$E$3:$CB$11,P$5,$O89),'データ入力（保護者）'!C89))","v":0},{"$f":"IF($O89=\"\",\"\",IF('データ入力（保護者）'!$L$3=\"\",INDEX('作業（保護者）'!$E$3:$CB$11,Q$5,$O89),'データ入力（保護者）'!D89))","v":0},{"$f":"IF($O89=\"\",\"\",IF('データ入力（保護者）'!$L$3=\"\",INDEX('作業（保護者）'!$E$3:$CB$11,R$5,$O89),'データ入力（保護者）'!E89))","v":0},{"$f":"IF($O89=\"\",\"\",IF('データ入力（保護者）'!$L$3=\"\",INDEX('作業（保護者）'!$E$3:$CB$11,S$5,$O89),'データ入力（保護者）'!F89))","v":0},{"$f":"IF($O89=\"\",\"\",IF('データ入力（保護者）'!$L$3=\"\",INDEX('作業（保護者）'!$E$3:$CB$11,T$5,$O89),'データ入力（保護者）'!G89))","v":0},{"$f":"IF($O89=\"\",\"\",IF('データ入力（保護者）'!$L$3=\"\",INDEX('作業（保護者）'!$E$3:$CB$11,U$5,$O89),'データ入力（保護者）'!H89))","v":0},{"$f":"IF($O89=\"\",\"\",IF('データ入力（保護者）'!$L$3=\"\",INDEX('作業（保護者）'!$E$3:$CB$11,V$5,$O89),'データ入力（保護者）'!I89))","v":0},{"$f":"IF($O89=\"\",\"\",IF('データ入力（保護者）'!$L$3=\"\",INDEX('作業（保護者）'!$E$3:$CB$11,W$5,$O89),'データ入力（保護者）'!J89))","v":0},{"$f":"IF($O89=\"\",\"\",IF('データ入力（保護者）'!$L$3=\"\",INDEX('作業（保護者）'!$E$3:$CB$11,X$5,$O89),'データ入力（保護者）'!K89))","v":0},0]
[null,null,null,null,null,null,null,null,null,null,null,null,null,null,{"$f":"IF(N90>=1,COUNT($N$6:N90),\"\")","v":""},{"$f":"IF($O90=\"\",\"\",IF('データ入力（保護者）'!$L$3=\"\",INDEX('作業（保護者）'!$E$3:$CB$11,P$5,$O90),'データ入力（保護者）'!C90))","v":""},{"$f":"IF($O90=\"\",\"\",IF('データ入力（保護者）'!$L$3=\"\",INDEX('作業（保護者）'!$E$3:$CB$11,Q$5,$O90),'データ入力（保護者）'!D90))","v":""},{"$f":"IF($O90=\"\",\"\",IF('データ入力（保護者）'!$L$3=\"\",INDEX('作業（保護者）'!$E$3:$CB$11,R$5,$O90),'データ入力（保護者）'!E90))","v":""},{"$f":"IF($O90=\"\",\"\",IF('データ入力（保護者）'!$L$3=\"\",INDEX('作業（保護者）'!$E$3:$CB$11,S$5,$O90),'データ入力（保護者）'!F90))","v":""},{"$f":"IF($O90=\"\",\"\",IF('データ入力（保護者）'!$L$3=\"\",INDEX('作業（保護者）'!$E$3:$CB$11,T$5,$O90),'データ入力（保護者）'!G90))","v":""},{"$f":"IF($O90=\"\",\"\",IF('データ入力（保護者）'!$L$3=\"\",INDEX('作業（保護者）'!$E$3:$CB$11,U$5,$O90),'データ入力（保護者）'!H90))","v":""},{"$f":"IF($O90=\"\",\"\",IF('データ入力（保護者）'!$L$3=\"\",INDEX('作業（保護者）'!$E$3:$CB$11,V$5,$O90),'データ入力（保護者）'!I90))","v":""},{"$f":"IF($O90=\"\",\"\",IF('データ入力（保護者）'!$L$3=\"\",INDEX('作業（保護者）'!$E$3:$CB$11,W$5,$O90),'データ入力（保護者）'!J90))","v":""},{"$f":"IF($O90=\"\",\"\",IF('データ入力（保護者）'!$L$3=\"\",INDEX('作業（保護者）'!$E$3:$CB$11,X$5,$O90),'データ入力（保護者）'!K90))","v":""},""]
[null,"質問","選択肢",null,null,null,null,"割合",null,null,null,null,null,null,{"$f":"IF(N91>=1,COUNT($N$6:N91),\"\")","v":""},{"$f":"IF($O91=\"\",\"\",IF('データ入力（保護者）'!$L$3=\"\",INDEX('作業（保護者）'!$E$3:$CB$11,P$5,$O91),'データ入力（保護者）'!C91))","v":""},{"$f":"IF($O91=\"\",\"\",IF('データ入力（保護者）'!$L$3=\"\",INDEX('作業（保護者）'!$E$3:$CB$11,Q$5,$O91),'データ入力（保護者）'!D91))","v":""},{"$f":"IF($O91=\"\",\"\",IF('データ入力（保護者）'!$L$3=\"\",INDEX('作業（保護者）'!$E$3:$CB$11,R$5,$O91),'データ入力（保護者）'!E91))","v":""},{"$f":"IF($O91=\"\",\"\",IF('データ入力（保護者）'!$L$3=\"\",INDEX('作業（保護者）'!$E$3:$CB$11,S$5,$O91),'データ入力（保護者）'!F91))","v":""},{"$f":"IF($O91=\"\",\"\",IF('データ入力（保護者）'!$L$3=\"\",INDEX('作業（保護者）'!$E$3:$CB$11,T$5,$O91),'データ入力（保護者）'!G91))","v":""},{"$f":"IF($O91=\"\",\"\",IF('データ入力（保護者）'!$L$3=\"\",INDEX('作業（保護者）'!$E$3:$CB$11,U$5,$O91),'データ入力（保護者）'!H91))","v":""},{"$f":"IF($O91=\"\",\"\",IF('データ入力（保護者）'!$L$3=\"\",INDEX('作業（保護者）'!$E$3:$CB$11,V$5,$O91),'データ入力（保護者）'!I91))","v":""},{"$f":"IF($O91=\"\",\"\",IF('データ入力（保護者）'!$L$3=\"\",INDEX('作業（保護者）'!$E$3:$CB$11,W$5,$O91),'データ入力（保護者）'!J91))","v":""},{"$f":"IF($O91=\"\",\"\",IF('データ入力（保護者）'!$L$3=\"\",INDEX('作業（保護者）'!$E$3:$CB$11,X$5,$O91),'データ入力（保護者）'!K91))","v":""},""]
["(18)","情報モラル教育として学校で指導してもらいたいこと\n（２つまで回答可）","目的に応じて情報を適切に処理する力を身に付けること",null,null,null,null,{"$f":"IFERROR(ROUND(P92/$P$3*100,1),\"\")","v":""},null,null,null,null,null,1,{"$f":"IF(N92>=1,COUNT($N$6:N92),\"\")","v":57},{"$f":"IF($O92=\"\",\"\",IF('データ入力（保護者）'!$L$3=\"\",INDEX('作業（保護者）'!$E$3:$CB$11,P$5,$O92),'データ入力（保護者）'!H92))","v":0},{"$f":"IF($O92=\"\",\"\",IF('データ入力（保護者）'!$L$3=\"\",INDEX('作業（保護者）'!$E$3:$CB$11,Q$5,$O92),'データ入力（保護者）'!I92))","v":0},{"$f":"IF($O92=\"\",\"\",IF('データ入力（保護者）'!$L$3=\"\",INDEX('作業（保護者）'!$E$3:$CB$11,R$5,$O92),'データ入力（保護者）'!J92))","v":0},{"$f":"IF($O92=\"\",\"\",IF('データ入力（保護者）'!$L$3=\"\",INDEX('作業（保護者）'!$E$3:$CB$11,S$5,$O92),'データ入力（保護者）'!K92))","v":0},{"$f":"IF($O92=\"\",\"\",IF('データ入力（保護者）'!$L$3=\"\",INDEX('作業（保護者）'!$E$3:$CB$11,T$5,$O92),'データ入力（保護者）'!L92))","v":0},{"$f":"IF($O92=\"\",\"\",IF('データ入力（保護者）'!$L$3=\"\",INDEX('作業（保護者）'!$E$3:$CB$11,U$5,$O92),'データ入力（保護者）'!M92))","v":0},{"$f":"IF($O92=\"\",\"\",IF('データ入力（保護者）'!$L$3=\"\",INDEX('作業（保護者）'!$E$3:$CB$11,V$5,$O92),'データ入力（保護者）'!N92))","v":0},{"$f":"IF($O92=\"\",\"\",IF('データ入力（保護者）'!$L$3=\"\",INDEX('作業（保護者）'!$E$3:$CB$11,W$5,$O92),'データ入力（保護者）'!O92))","v":0},{"$f":"IF($O92=\"\",\"\",IF('データ入力（保護者）'!$L$3=\"\",INDEX('作業（保護者）'!$E$3:$CB$11,X$5,$O92),'データ入力（保護者）'!P92))","v":0},0]
[null,null,"パソコン・ネットワークの操作技術を身に付けること",null,null,null,null,{"$f":"IFERROR(ROUND(P93/$P$3*100,1),\"\")","v":""},null,null,null,null,null,1,{"$f":"IF(N93>=1,COUNT($N$6:N93),\"\")","v":58},{"$f":"IF($O93=\"\",\"\",IF('データ入力（保護者）'!$L$3=\"\",INDEX('作業（保護者）'!$E$3:$CB$11,P$5,$O93),'データ入力（保護者）'!H93))","v":0},{"$f":"IF($O93=\"\",\"\",IF('データ入力（保護者）'!$L$3=\"\",INDEX('作業（保護者）'!$E$3:$CB$11,Q$5,$O93),'データ入力（保護者）'!I93))","v":0},{"$f":"IF($O93=\"\",\"\",IF('データ入力（保護者）'!$L$3=\"\",INDEX('作業（保護者）'!$E$3:$CB$11,R$5,$O93),'データ入力（保護者）'!J93))","v":0},{"$f":"IF($O93=\"\",\"\",IF('データ入力（保護者）'!$L$3=\"\",INDEX('作業（保護者）'!$E$3:$CB$11,S$5,$O93),'データ入力（保護者）'!K93))","v":0},{"$f":"IF($O93=\"\",\"\",IF('データ入力（保護者）'!$L$3=\"\",INDEX('作業（保護者）'!$E$3:$CB$11,T$5,$O93),'データ入力（保護者）'!L93))","v":0},{"$f":"IF($O93=\"\",\"\",IF('データ入力（保護者）'!$L$3=\"\",INDEX('作業（保護者）'!$E$3:$CB$11,U$5,$O93),'データ入力（保護者）'!M93))","v":0},{"$f":"IF($O93=\"\",\"\",IF('データ入力（保護者）'!$L$3=\"\",INDEX('作業（保護者）'!$E$3:$CB$11,V$5,$O93),'データ入力（保護者）'!N93))","v":0},{"$f":"IF($O93=\"\",\"\",IF('データ入力（保護者）'!$L$3=\"\",INDEX('作業（保護者）'!$E$3:$CB$11,W$5,$O93),'データ入力（保護者）'!O93))","v":0},{"$f":"IF($O93=\"\",\"\",IF('データ入力（保護者）'!$L$3=\"\",INDEX('作業（保護者）'!$E$3:$CB$11,X$5,$O93),'データ入力（保護者）'!P93))","v":0},0]
[null,null,"パソコン・ネットワークの知識を身に付けること",null,null,null,null,"",null,null,null,null,null,1,{"$f":"IF(N94>=1,COUNT($N$6:N94),\"\")","v":59},{"$f":"IF($O94=\"\",\"\",IF('データ入力（保護者）'!$L$3=\"\",INDEX('作業（保護者）'!$E$3:$CB$11,P$5,$O94),'データ入力（保護者）'!H94))","v":0},{"$f":"IF($O94=\"\",\"\",IF('データ入力（保護者）'!$L$3=\"\",INDEX('作業（保護者）'!$E$3:$CB$11,Q$5,$O94),'データ入力（保護者）'!I94))","v":0},{"$f":"IF($O94=\"\",\"\",IF('データ入力（保護者）'!$L$3=\"\",INDEX('作業（保護者）'!$E$3:$CB$11,R$5,$O94),'データ入力（保護者）'!J94))","v":0},{"$f":"IF($O94=\"\",\"\",IF('データ入力（保護者）'!$L$3=\"\",INDEX('作業（保護者）'!$E$3:$CB$11,S$5,$O94),'データ入力（保護者）'!K94))","v":0},{"$f":"IF($O94=\"\",\"\",IF('データ入力（保護者）'!$L$3=\"\",INDEX('作業（保護者）'!$E$3:$CB$11,T$5,$O94),'データ入力（保護者）'!L94))","v":0},{"$f":"IF($O94=\"\",\"\",IF('データ入力（保護者）'!$L$3=\"\",INDEX('作業（保護者）'!$E$3:$CB$11,U$5,$O94),'データ入力（保護者）'!M94))","v":0},{"$f":"IF($O94=\"\",\"\",IF('データ入力（保護者）'!$L$3=\"\",INDEX('作業（保護者）'!$E$3:$CB$11,V$5,$O94),'データ入力（保護者）'!N94))","v":0},{"$f":"IF($O94=\"\",\"\",IF('データ入力（保護者）'!$L$3=\"\",INDEX('作業（保護者）'!$E$3:$CB$11,W$5,$O94),'データ入力（保護者）'!O94))","v":0},{"$f":"IF($O94=\"\",\"\",IF('データ入力（保護者）'!$L$3=\"\",INDEX('作業（保護者）'!$E$3:$CB$11,X$5,$O94),'データ入力（保護者）'!P94))","v":0},0]
[null,null,"インターネット上でのマナーを身に付けること",null,null,null,null,"",null,null,null,null,null,1,{"$f":"IF(N95>=1,COUNT($N$6:N95),\"\")","v":60},{"$f":"IF($O95=\"\",\"\",IF('データ入力（保護者）'!$L$3=\"\",INDEX('作業（保護者）'!$E$3:$CB$11,P$5,$O95),'データ入力（保護者）'!H95))","v":0},{"$f":"IF($O95=\"\",\"\",IF('データ入力（保護者）'!$L$3=\"\",INDEX('作業（保護者）'!$E$3:$CB$11,Q$5,$O95),'データ入力（保護者）'!I95))","v":0},{"$f":"IF($O95=\"\",\"\",IF('データ入力（保護者）'!$L$3=\"\",INDEX('作業（保護者）'!$E$3:$CB$11,R$5,$O95),'データ入力（保護者）'!J95))","v":0},{"$f":"IF($O95=\"\",\"\",IF('データ入力（保護者）'!$L$3=\"\",INDEX('作業（保護者）'!$E$3:$CB$11,S$5,$O95),'データ入力（保護者）'!K95))","v":0},{"$f":"IF($O95=\"\",\"\",IF('データ入力（保護者）'!$L$3=\"\",INDEX('作業（保護者）'!$E$3:$CB$11,T$5,$O95),'データ入力（保護者）'!L95))","v":0},{"$f":"IF($O95=\"\",\"\",IF('データ入力（保護者）'!$L$3=\"\",INDEX('作業（保護者）'!$E$3:$CB$11,U$5,$O95),'データ入力（保護者）'!M95))","v":0},{"$f":"IF($O95=\"\",\"\",IF('データ入力（保護者）'!$L$3=\"\",INDEX('作業（保護者）'!$E$3:$CB$11,V$5,$O95),'データ入力（保護者）'!N95))","v":0},{"$f":"IF($O95=\"\",\"\",IF('データ入力（保護者）'!$L$3=\"\",INDEX('作業（保護者）'!$E$3:$CB$11,W$5,$O95),'データ入力（保護者）'!O95))","v":0},{"$f":"IF($O95=\"\",\"\",IF('データ入力（保護者）'!$L$3=\"\",INDEX('作業（保護者）'!$E$3:$CB$11,X$5,$O95),'データ入力（保護者）'!P95))","v":0},0]
[null,null,"インターネット上で有害情報や危険なサイトがあることを教え、被害に巻き込まれないようにすること",null,null,null,null,"",null,null,null,null,null,1,{"$f":"IF(N96>=1,COUNT($N$6:N96),\"\")","v":61},{"$f":"IF($O96=\"\",\"\",IF('データ入力（保護者）'!$L$3=\"\",INDEX('作業（保護者）'!$E$3:$CB$11,P$5,$O96),'データ入力（保護者）'!H96))","v":0},{"$f":"IF($O96=\"\",\"\",IF('データ入力（保護者）'!$L$3=\"\",INDEX('作業（保護者）'!$E$3:$CB$11,Q$5,$O96),'データ入力（保護者）'!I96))","v":0},{"$f":"IF($O96=\"\",\"\",IF('データ入力（保護者）'!$L$3=\"\",INDEX('作業（保護者）'!$E$3:$CB$11,R$5,$O96),'データ入力（保護者）'!J96))","v":0},{"$f":"IF($O96=\"\",\"\",IF('データ入力（保護者）'!$L$3=\"\",INDEX('作業（保護者）'!$E$3:$CB$11,S$5,$O96),'データ入力（保護者）'!K96))","v":0},{"$f":"IF($O96=\"\",\"\",IF('データ入力（保護者）'!$L$3=\"\",INDEX('作業（保護者）'!$E$3:$CB$11,T$5,$O96),'データ入力（保護者）'!L96))","v":0},{"$f":"IF($O96=\"\",\"\",IF('データ入力（保護者）'!$L$3=\"\",INDEX('作業（保護者）'!$E$3:$CB$11,U$5,$O96),'データ入力（保護者）'!M96))","v":0},{"$f":"IF($O96=\"\",\"\",IF('データ入力（保護者）'!$L$3=\"\",INDEX('作業（保護者）'!$E$3:$CB$11,V$5,$O96),'データ入力（保護者）'!N96))","v":0},{"$f":"IF($O96=\"\",\"\",IF('データ入力（保護者）'!$L$3=\"\",INDEX('作業（保護者）'!$E$3:$CB$11,W$5,$O96),'データ入力（保護者）'!O96))","v":0},{"$f":"IF($O96=\"\",\"\",IF('データ入力（保護者）'!$L$3=\"\",INDEX('作業（保護者）'!$E$3:$CB$11,X$5,$O96),'データ入力（保護者）'!P96))","v":0},0]
[null,null,"スマホなど、新しい機器の特徴について知ること",null,null,null,null,"",null,null,null,null,null,1,{"$f":"IF(N97>=1,COUNT($N$6:N97),\"\")","v":62},{"$f":"IF($O97=\"\",\"\",IF('データ入力（保護者）'!$L$3=\"\",INDEX('作業（保護者）'!$E$3:$CB$11,P$5,$O97),'データ入力（保護者）'!H97))","v":0},{"$f":"IF($O97=\"\",\"\",IF('データ入力（保護者）'!$L$3=\"\",INDEX('作業（保護者）'!$E$3:$CB$11,Q$5,$O97),'データ入力（保護者）'!I97))","v":0},{"$f":"IF($O97=\"\",\"\",IF('データ入力（保護者）'!$L$3=\"\",INDEX('作業（保護者）'!$E$3:$CB$11,R$5,$O97),'データ入力（保護者）'!J97))","v":0},{"$f":"IF($O97=\"\",\"\",IF('データ入力（保護者）'!$L$3=\"\",INDEX('作業（保護者）'!$E$3:$CB$11,S$5,$O97),'データ入力（保護者）'!K97))","v":0},{"$f":"IF($O97=\"\",\"\",IF('データ入力（保護者）'!$L$3=\"\",INDEX('作業（保護者）'!$E$3:$CB$11,T$5,$O97),'データ入力（保護者）'!L97))","v":0},{"$f":"IF($O97=\"\",\"\",IF('データ入力（保護者）'!$L$3=\"\",INDEX('作業（保護者）'!$E$3:$CB$11,U$5,$O97),'データ入力（保護者）'!M97))","v":0},{"$f":"IF($O97=\"\",\"\",IF('データ入力（保護者）'!$L$3=\"\",INDEX('作業（保護者）'!$E$3:$CB$11,V$5,$O97),'データ入力（保護者）'!N97))","v":0},{"$f":"IF($O97=\"\",\"\",IF('データ入力（保護者）'!$L$3=\"\",INDEX('作業（保護者）'!$E$3:$CB$11,W$5,$O97),'データ入力（保護者）'!O97))","v":0},{"$f":"IF($O97=\"\",\"\",IF('データ入力（保護者）'!$L$3=\"\",INDEX('作業（保護者）'!$E$3:$CB$11,X$5,$O97),'データ入力（保護者）'!P97))","v":0},0]
[null,null,"SNSなど、新しいインターネットの利用形態について知ること",null,null,null,null,"",null,"　",null,null,null,1,{"$f":"IF(N98>=1,COUNT($N$6:N98),\"\")","v":63},{"$f":"IF($O98=\"\",\"\",IF('データ入力（保護者）'!$L$3=\"\",INDEX('作業（保護者）'!$E$3:$CB$11,P$5,$O98),'データ入力（保護者）'!H98))","v":0},{"$f":"IF($O98=\"\",\"\",IF('データ入力（保護者）'!$L$3=\"\",INDEX('作業（保護者）'!$E$3:$CB$11,Q$5,$O98),'データ入力（保護者）'!I98))","v":0},{"$f":"IF($O98=\"\",\"\",IF('データ入力（保護者）'!$L$3=\"\",INDEX('作業（保護者）'!$E$3:$CB$11,R$5,$O98),'データ入力（保護者）'!J98))","v":0},{"$f":"IF($O98=\"\",\"\",IF('データ入力（保護者）'!$L$3=\"\",INDEX('作業（保護者）'!$E$3:$CB$11,S$5,$O98),'データ入力（保護者）'!K98))","v":0},{"$f":"IF($O98=\"\",\"\",IF('データ入力（保護者）'!$L$3=\"\",INDEX('作業（保護者）'!$E$3:$CB$11,T$5,$O98),'データ入力（保護者）'!L98))","v":0},{"$f":"IF($O98=\"\",\"\",IF('データ入力（保護者）'!$L$3=\"\",INDEX('作業（保護者）'!$E$3:$CB$11,U$5,$O98),'データ入力（保護者）'!M98))","v":0},{"$f":"IF($O98=\"\",\"\",IF('データ入力（保護者）'!$L$3=\"\",INDEX('作業（保護者）'!$E$3:$CB$11,V$5,$O98),'データ入力（保護者）'!N98))","v":0},{"$f":"IF($O98=\"\",\"\",IF('データ入力（保護者）'!$L$3=\"\",INDEX('作業（保護者）'!$E$3:$CB$11,W$5,$O98),'データ入力（保護者）'!O98))","v":0},{"$f":"IF($O98=\"\",\"\",IF('データ入力（保護者）'!$L$3=\"\",INDEX('作業（保護者）'!$E$3:$CB$11,X$5,$O98),'データ入力（保護者）'!P98))","v":0},0]
[null,null,"その他",null,null,null,null,"",null,null,null,null,null,1,{"$f":"IF(N99>=1,COUNT($N$6:N99),\"\")","v":64},{"$f":"IF($O99=\"\",\"\",IF('データ入力（保護者）'!$L$3=\"\",INDEX('作業（保護者）'!$E$3:$CB$11,P$5,$O99),'データ入力（保護者）'!H99))","v":0},{"$f":"IF($O99=\"\",\"\",IF('データ入力（保護者）'!$L$3=\"\",INDEX('作業（保護者）'!$E$3:$CB$11,Q$5,$O99),'データ入力（保護者）'!I99))","v":0},{"$f":"IF($O99=\"\",\"\",IF('データ入力（保護者）'!$L$3=\"\",INDEX('作業（保護者）'!$E$3:$CB$11,R$5,$O99),'データ入力（保護者）'!J99))","v":0},{"$f":"IF($O99=\"\",\"\",IF('データ入力（保護者）'!$L$3=\"\",INDEX('作業（保護者）'!$E$3:$CB$11,S$5,$O99),'データ入力（保護者）'!K99))","v":0},{"$f":"IF($O99=\"\",\"\",IF('データ入力（保護者）'!$L$3=\"\",INDEX('作業（保護者）'!$E$3:$CB$11,T$5,$O99),'データ入力（保護者）'!L99))","v":0},{"$f":"IF($O99=\"\",\"\",IF('データ入力（保護者）'!$L$3=\"\",INDEX('作業（保護者）'!$E$3:$CB$11,U$5,$O99),'データ入力（保護者）'!M99))","v":0},{"$f":"IF($O99=\"\",\"\",IF('データ入力（保護者）'!$L$3=\"\",INDEX('作業（保護者）'!$E$3:$CB$11,V$5,$O99),'データ入力（保護者）'!N99))","v":0},{"$f":"IF($O99=\"\",\"\",IF('データ入力（保護者）'!$L$3=\"\",INDEX('作業（保護者）'!$E$3:$CB$11,W$5,$O99),'データ入力（保護者）'!O99))","v":0},{"$f":"IF($O99=\"\",\"\",IF('データ入力（保護者）'!$L$3=\"\",INDEX('作業（保護者）'!$E$3:$CB$11,X$5,$O99),'データ入力（保護者）'!P99))","v":0},0]
[null,null,"特にない",null,null,null,null,"",null,null,null,null,null,1,{"$f":"IF(N100>=1,COUNT($N$6:N100),\"\")","v":65},{"$f":"IF($O100=\"\",\"\",IF('データ入力（保護者）'!$L$3=\"\",INDEX('作業（保護者）'!$E$3:$CB$11,P$5,$O100),'データ入力（保護者）'!H100))","v":0},{"$f":"IF($O100=\"\",\"\",IF('データ入力（保護者）'!$L$3=\"\",INDEX('作業（保護者）'!$E$3:$CB$11,Q$5,$O100),'データ入力（保護者）'!I100))","v":0},{"$f":"IF($O100=\"\",\"\",IF('データ入力（保護者）'!$L$3=\"\",INDEX('作業（保護者）'!$E$3:$CB$11,R$5,$O100),'データ入力（保護者）'!J100))","v":0},{"$f":"IF($O100=\"\",\"\",IF('データ入力（保護者）'!$L$3=\"\",INDEX('作業（保護者）'!$E$3:$CB$11,S$5,$O100),'データ入力（保護者）'!K100))","v":0},{"$f":"IF($O100=\"\",\"\",IF('データ入力（保護者）'!$L$3=\"\",INDEX('作業（保護者）'!$E$3:$CB$11,T$5,$O100),'データ入力（保護者）'!L100))","v":0},{"$f":"IF($O100=\"\",\"\",IF('データ入力（保護者）'!$L$3=\"\",INDEX('作業（保護者）'!$E$3:$CB$11,U$5,$O100),'データ入力（保護者）'!M100))","v":0},{"$f":"IF($O100=\"\",\"\",IF('データ入力（保護者）'!$L$3=\"\",INDEX('作業（保護者）'!$E$3:$CB$11,V$5,$O100),'データ入力（保護者）'!N100))","v":0},{"$f":"IF($O100=\"\",\"\",IF('データ入力（保護者）'!$L$3=\"\",INDEX('作業（保護者）'!$E$3:$CB$11,W$5,$O100),'データ入力（保護者）'!O100))","v":0},{"$f":"IF($O100=\"\",\"\",IF('データ入力（保護者）'!$L$3=\"\",INDEX('作業（保護者）'!$E$3:$CB$11,X$5,$O100),'データ入力（保護者）'!P100))","v":0},0]
[null,null,null,null,null,null,null,null,null,null,null,null,null,null,{"$f":"IF(N101>=1,COUNT($N$6:N101),\"\")","v":""},{"$f":"IF($O101=\"\",\"\",IF('データ入力（保護者）'!$L$3=\"\",INDEX('作業（保護者）'!$E$3:$CB$11,P$5,$O101),'データ入力（保護者）'!C101))","v":""},{"$f":"IF($O101=\"\",\"\",IF('データ入力（保護者）'!$L$3=\"\",INDEX('作業（保護者）'!$E$3:$CB$11,Q$5,$O101),'データ入力（保護者）'!D101))","v":""},{"$f":"IF($O101=\"\",\"\",IF('データ入力（保護者）'!$L$3=\"\",INDEX('作業（保護者）'!$E$3:$CB$11,R$5,$O101),'データ入力（保護者）'!E101))","v":""},{"$f":"IF($O101=\"\",\"\",IF('データ入力（保護者）'!$L$3=\"\",INDEX('作業（保護者）'!$E$3:$CB$11,S$5,$O101),'データ入力（保護者）'!F101))","v":""},{"$f":"IF($O101=\"\",\"\",IF('データ入力（保護者）'!$L$3=\"\",INDEX('作業（保護者）'!$E$3:$CB$11,T$5,$O101),'データ入力（保護者）'!G101))","v":""},{"$f":"IF($O101=\"\",\"\",IF('データ入力（保護者）'!$L$3=\"\",INDEX('作業（保護者）'!$E$3:$CB$11,U$5,$O101),'データ入力（保護者）'!H101))","v":""},{"$f":"IF($O101=\"\",\"\",IF('データ入力（保護者）'!$L$3=\"\",INDEX('作業（保護者）'!$E$3:$CB$11,V$5,$O101),'データ入力（保護者）'!I101))","v":""},{"$f":"IF($O101=\"\",\"\",IF('データ入力（保護者）'!$L$3=\"\",INDEX('作業（保護者）'!$E$3:$CB$11,W$5,$O101),'データ入力（保護者）'!J101))","v":""},{"$f":"IF($O101=\"\",\"\",IF('データ入力（保護者）'!$L$3=\"\",INDEX('作業（保護者）'!$E$3:$CB$11,X$5,$O101),'データ入力（保護者）'!K101))","v":""},""]
[null,"質問","選択肢",null,null,null,null,"割合",null,null,null,null,null,null,{"$f":"IF(N102>=1,COUNT($N$6:N102),\"\")","v":""},{"$f":"IF($O102=\"\",\"\",IF('データ入力（保護者）'!$L$3=\"\",INDEX('作業（保護者）'!$E$3:$CB$11,P$5,$O102),'データ入力（保護者）'!C102))","v":""},{"$f":"IF($O102=\"\",\"\",IF('データ入力（保護者）'!$L$3=\"\",INDEX('作業（保護者）'!$E$3:$CB$11,Q$5,$O102),'データ入力（保護者）'!D102))","v":""},{"$f":"IF($O102=\"\",\"\",IF('データ入力（保護者）'!$L$3=\"\",INDEX('作業（保護者）'!$E$3:$CB$11,R$5,$O102),'データ入力（保護者）'!E102))","v":""},{"$f":"IF($O102=\"\",\"\",IF('データ入力（保護者）'!$L$3=\"\",INDEX('作業（保護者）'!$E$3:$CB$11,S$5,$O102),'データ入力（保護者）'!F102))","v":""},{"$f":"IF($O102=\"\",\"\",IF('データ入力（保護者）'!$L$3=\"\",INDEX('作業（保護者）'!$E$3:$CB$11,T$5,$O102),'データ入力（保護者）'!G102))","v":""},{"$f":"IF($O102=\"\",\"\",IF('データ入力（保護者）'!$L$3=\"\",INDEX('作業（保護者）'!$E$3:$CB$11,U$5,$O102),'データ入力（保護者）'!H102))","v":""},{"$f":"IF($O102=\"\",\"\",IF('データ入力（保護者）'!$L$3=\"\",INDEX('作業（保護者）'!$E$3:$CB$11,V$5,$O102),'データ入力（保護者）'!I102))","v":""},{"$f":"IF($O102=\"\",\"\",IF('データ入力（保護者）'!$L$3=\"\",INDEX('作業（保護者）'!$E$3:$CB$11,W$5,$O102),'データ入力（保護者）'!J102))","v":""},{"$f":"IF($O102=\"\",\"\",IF('データ入力（保護者）'!$L$3=\"\",INDEX('作業（保護者）'!$E$3:$CB$11,X$5,$O102),'データ入力（保護者）'!K102))","v":""},""]
["(19)","お子様がインターネットを利用する上で特に心配なこと\n（2つまで回答可）","利用料金が負担になること",null,null,null,null,{"$f":"IFERROR(ROUND(P103/$P$3*100,1),\"\")","v":""},null,null,null,null,null,1,{"$f":"IF(N103>=1,COUNT($N$6:N103),\"\")","v":66},{"$f":"IF($O103=\"\",\"\",IF('データ入力（保護者）'!$L$3=\"\",INDEX('作業（保護者）'!$E$3:$CB$11,P$5,$O103),'データ入力（保護者）'!H103))","v":0},{"$f":"IF($O103=\"\",\"\",IF('データ入力（保護者）'!$L$3=\"\",INDEX('作業（保護者）'!$E$3:$CB$11,Q$5,$O103),'データ入力（保護者）'!I103))","v":0},{"$f":"IF($O103=\"\",\"\",IF('データ入力（保護者）'!$L$3=\"\",INDEX('作業（保護者）'!$E$3:$CB$11,R$5,$O103),'データ入力（保護者）'!J103))","v":0},{"$f":"IF($O103=\"\",\"\",IF('データ入力（保護者）'!$L$3=\"\",INDEX('作業（保護者）'!$E$3:$CB$11,S$5,$O103),'データ入力（保護者）'!K103))","v":0},{"$f":"IF($O103=\"\",\"\",IF('データ入力（保護者）'!$L$3=\"\",INDEX('作業（保護者）'!$E$3:$CB$11,T$5,$O103),'データ入力（保護者）'!L103))","v":0},{"$f":"IF($O103=\"\",\"\",IF('データ入力（保護者）'!$L$3=\"\",INDEX('作業（保護者）'!$E$3:$CB$11,U$5,$O103),'データ入力（保護者）'!M103))","v":0},{"$f":"IF($O103=\"\",\"\",IF('データ入力（保護者）'!$L$3=\"\",INDEX('作業（保護者）'!$E$3:$CB$11,V$5,$O103),'データ入力（保護者）'!N103))","v":0},{"$f":"IF($O103=\"\",\"\",IF('データ入力（保護者）'!$L$3=\"\",INDEX('作業（保護者）'!$E$3:$CB$11,W$5,$O103),'データ入力（保護者）'!O103))","v":0},{"$f":"IF($O103=\"\",\"\",IF('データ入力（保護者）'!$L$3=\"\",INDEX('作業（保護者）'!$E$3:$CB$11,X$5,$O103),'データ入力（保護者）'!P103))","v":0},0]
[null,null,"勉強の妨げになること",null,null,null,null,"",null,null,null,null,null,1,{"$f":"IF(N104>=1,COUNT($N$6:N104),\"\")","v":67},{"$f":"IF($O104=\"\",\"\",IF('データ入力（保護者）'!$L$3=\"\",INDEX('作業（保護者）'!$E$3:$CB$11,P$5,$O104),'データ入力（保護者）'!H104))","v":0},{"$f":"IF($O104=\"\",\"\",IF('データ入力（保護者）'!$L$3=\"\",INDEX('作業（保護者）'!$E$3:$CB$11,Q$5,$O104),'データ入力（保護者）'!I104))","v":0},{"$f":"IF($O104=\"\",\"\",IF('データ入力（保護者）'!$L$3=\"\",INDEX('作業（保護者）'!$E$3:$CB$11,R$5,$O104),'データ入力（保護者）'!J104))","v":0},{"$f":"IF($O104=\"\",\"\",IF('データ入力（保護者）'!$L$3=\"\",INDEX('作業（保護者）'!$E$3:$CB$11,S$5,$O104),'データ入力（保護者）'!K104))","v":0},{"$f":"IF($O104=\"\",\"\",IF('データ入力（保護者）'!$L$3=\"\",INDEX('作業（保護者）'!$E$3:$CB$11,T$5,$O104),'データ入力（保護者）'!L104))","v":0},{"$f":"IF($O104=\"\",\"\",IF('データ入力（保護者）'!$L$3=\"\",INDEX('作業（保護者）'!$E$3:$CB$11,U$5,$O104),'データ入力（保護者）'!M104))","v":0},{"$f":"IF($O104=\"\",\"\",IF('データ入力（保護者）'!$L$3=\"\",INDEX('作業（保護者）'!$E$3:$CB$11,V$5,$O104),'データ入力（保護者）'!N104))","v":0},{"$f":"IF($O104=\"\",\"\",IF('データ入力（保護者）'!$L$3=\"\",INDEX('作業（保護者）'!$E$3:$CB$11,W$5,$O104),'データ入力（保護者）'!O104))","v":0},{"$f":"IF($O104=\"\",\"\",IF('データ入力（保護者）'!$L$3=\"\",INDEX('作業（保護者）'!$E$3:$CB$11,X$5,$O104),'データ入力（保護者）'!P104))","v":0},0]
[null,null,"子どもの交友関係が分からなくなること",null,null,null,null,"",null,null,null,null,null,1,{"$f":"IF(N105>=1,COUNT($N$6:N105),\"\")","v":68},{"$f":"IF($O105=\"\",\"\",IF('データ入力（保護者）'!$L$3=\"\",INDEX('作業（保護者）'!$E$3:$CB$11,P$5,$O105),'データ入力（保護者）'!H105))","v":0},{"$f":"IF($O105=\"\",\"\",IF('データ入力（保護者）'!$L$3=\"\",INDEX('作業（保護者）'!$E$3:$CB$11,Q$5,$O105),'データ入力（保護者）'!I105))","v":0},{"$f":"IF($O105=\"\",\"\",IF('データ入力（保護者）'!$L$3=\"\",INDEX('作業（保護者）'!$E$3:$CB$11,R$5,$O105),'データ入力（保護者）'!J105))","v":0},{"$f":"IF($O105=\"\",\"\",IF('データ入力（保護者）'!$L$3=\"\",INDEX('作業（保護者）'!$E$3:$CB$11,S$5,$O105),'データ入力（保護者）'!K105))","v":0},{"$f":"IF($O105=\"\",\"\",IF('データ入力（保護者）'!$L$3=\"\",INDEX('作業（保護者）'!$E$3:$CB$11,T$5,$O105),'データ入力（保護者）'!L105))","v":0},{"$f":"IF($O105=\"\",\"\",IF('データ入力（保護者）'!$L$3=\"\",INDEX('作業（保護者）'!$E$3:$CB$11,U$5,$O105),'データ入力（保護者）'!M105))","v":0},{"$f":"IF($O105=\"\",\"\",IF('データ入力（保護者）'!$L$3=\"\",INDEX('作業（保護者）'!$E$3:$CB$11,V$5,$O105),'データ入力（保護者）'!N105))","v":0},{"$f":"IF($O105=\"\",\"\",IF('データ入力（保護者）'!$L$3=\"\",INDEX('作業（保護者）'!$E$3:$CB$11,W$5,$O105),'データ入力（保護者）'!O105))","v":0},{"$f":"IF($O105=\"\",\"\",IF('データ入力（保護者）'!$L$3=\"\",INDEX('作業（保護者）'!$E$3:$CB$11,X$5,$O105),'データ入力（保護者）'!P105))","v":0},0]
[null,null,"生活が不規則になること",null,null,null,null,"",null,null,null,null,null,1,{"$f":"IF(N106>=1,COUNT($N$6:N106),\"\")","v":69},{"$f":"IF($O106=\"\",\"\",IF('データ入力（保護者）'!$L$3=\"\",INDEX('作業（保護者）'!$E$3:$CB$11,P$5,$O106),'データ入力（保護者）'!H106))","v":0},{"$f":"IF($O106=\"\",\"\",IF('データ入力（保護者）'!$L$3=\"\",INDEX('作業（保護者）'!$E$3:$CB$11,Q$5,$O106),'データ入力（保護者）'!I106))","v":0},{"$f":"IF($O106=\"\",\"\",IF('データ入力（保護者）'!$L$3=\"\",INDEX('作業（保護者）'!$E$3:$CB$11,R$5,$O106),'データ入力（保護者）'!J106))","v":0},{"$f":"IF($O106=\"\",\"\",IF('データ入力（保護者）'!$L$3=\"\",INDEX('作業（保護者）'!$E$3:$CB$11,S$5,$O106),'データ入力（保護者）'!K106))","v":0},{"$f":"IF($O106=\"\",\"\",IF('データ入力（保護者）'!$L$3=\"\",INDEX('作業（保護者）'!$E$3:$CB$11,T$5,$O106),'データ入力（保護者）'!L106))","v":0},{"$f":"IF($O106=\"\",\"\",IF('データ入力（保護者）'!$L$3=\"\",INDEX('作業（保護者）'!$E$3:$CB$11,U$5,$O106),'データ入力（保護者）'!M106))","v":0},{"$f":"IF($O106=\"\",\"\",IF('データ入力（保護者）'!$L$3=\"\",INDEX('作業（保護者）'!$E$3:$CB$11,V$5,$O106),'データ入力（保護者）'!N106))","v":0},{"$f":"IF($O106=\"\",\"\",IF('データ入力（保護者）'!$L$3=\"\",INDEX('作業（保護者）'!$E$3:$CB$11,W$5,$O106),'データ入力（保護者）'!O106))","v":0},{"$f":"IF($O106=\"\",\"\",IF('データ入力（保護者）'!$L$3=\"\",INDEX('作業（保護者）'!$E$3:$CB$11,X$5,$O106),'データ入力（保護者）'!P106))","v":0},0]
[null,null,"ネットいじめに遭う恐れがあること",null,null,null,null,"",null,null,null,null,null,1,{"$f":"IF(N107>=1,COUNT($N$6:N107),\"\")","v":70},{"$f":"IF($O107=\"\",\"\",IF('データ入力（保護者）'!$L$3=\"\",INDEX('作業（保護者）'!$E$3:$CB$11,P$5,$O107),'データ入力（保護者）'!H107))","v":0},{"$f":"IF($O107=\"\",\"\",IF('データ入力（保護者）'!$L$3=\"\",INDEX('作業（保護者）'!$E$3:$CB$11,Q$5,$O107),'データ入力（保護者）'!I107))","v":0},{"$f":"IF($O107=\"\",\"\",IF('データ入力（保護者）'!$L$3=\"\",INDEX('作業（保護者）'!$E$3:$CB$11,R$5,$O107),'データ入力（保護者）'!J107))","v":0},{"$f":"IF($O107=\"\",\"\",IF('データ入力（保護者）'!$L$3=\"\",INDEX('作業（保護者）'!$E$3:$CB$11,S$5,$O107),'データ入力（保護者）'!K107))","v":0},{"$f":"IF($O107=\"\",\"\",IF('データ入力（保護者）'!$L$3=\"\",INDEX('作業（保護者）'!$E$3:$CB$11,T$5,$O107),'データ入力（保護者）'!L107))","v":0},{"$f":"IF($O107=\"\",\"\",IF('データ入力（保護者）'!$L$3=\"\",INDEX('作業（保護者）'!$E$3:$CB$11,U$5,$O107),'データ入力（保護者）'!M107))","v":0},{"$f":"IF($O107=\"\",\"\",IF('データ入力（保護者）'!$L$3=\"\",INDEX('作業（保護者）'!$E$3:$CB$11,V$5,$O107),'データ入力（保護者）'!N107))","v":0},{"$f":"IF($O107=\"\",\"\",IF('データ入力（保護者）'!$L$3=\"\",INDEX('作業（保護者）'!$E$3:$CB$11,W$5,$O107),'データ入力（保護者）'!O107))","v":0},{"$f":"IF($O107=\"\",\"\",IF('データ入力（保護者）'!$L$3=\"\",INDEX('作業（保護者）'!$E$3:$CB$11,X$5,$O107),'データ入力（保護者）'!P107))","v":0},0]
[null,null,"詐欺や連れ去りなどの事件に巻き込まれる恐れがあること",null,null,null,null,"",null,null,null,null,null,1,{"$f":"IF(N108>=1,COUNT($N$6:N108),\"\")","v":71},{"$f":"IF($O108=\"\",\"\",IF('データ入力（保護者）'!$L$3=\"\",INDEX('作業（保護者）'!$E$3:$CB$11,P$5,$O108),'データ入力（保護者）'!H108))","v":0},{"$f":"IF($O108=\"\",\"\",IF('データ入力（保護者）'!$L$3=\"\",INDEX('作業（保護者）'!$E$3:$CB$11,Q$5,$O108),'データ入力（保護者）'!I108))","v":0},{"$f":"IF($O108=\"\",\"\",IF('データ入力（保護者）'!$L$3=\"\",INDEX('作業（保護者）'!$E$3:$CB$11,R$5,$O108),'データ入力（保護者）'!J108))","v":0},{"$f":"IF($O108=\"\",\"\",IF('データ入力（保護者）'!$L$3=\"\",INDEX('作業（保護者）'!$E$3:$CB$11,S$5,$O108),'データ入力（保護者）'!K108))","v":0},{"$f":"IF($O108=\"\",\"\",IF('データ入力（保護者）'!$L$3=\"\",INDEX('作業（保護者）'!$E$3:$CB$11,T$5,$O108),'データ入力（保護者）'!L108))","v":0},{"$f":"IF($O108=\"\",\"\",IF('データ入力（保護者）'!$L$3=\"\",INDEX('作業（保護者）'!$E$3:$CB$11,U$5,$O108),'データ入力（保護者）'!M108))","v":0},{"$f":"IF($O108=\"\",\"\",IF('データ入力（保護者）'!$L$3=\"\",INDEX('作業（保護者）'!$E$3:$CB$11,V$5,$O108),'データ入力（保護者）'!N108))","v":0},{"$f":"IF($O108=\"\",\"\",IF('データ入力（保護者）'!$L$3=\"\",INDEX('作業（保護者）'!$E$3:$CB$11,W$5,$O108),'データ入力（保護者）'!O108))","v":0},{"$f":"IF($O108=\"\",\"\",IF('データ入力（保護者）'!$L$3=\"\",INDEX('作業（保護者）'!$E$3:$CB$11,X$5,$O108),'データ入力（保護者）'!P108))","v":0},0]
[null,null,"家族との会話が少なくなること",null,null,null,null,"",null,null,null,null,null,1,{"$f":"IF(N109>=1,COUNT($N$6:N109),\"\")","v":72},{"$f":"IF($O109=\"\",\"\",IF('データ入力（保護者）'!$L$3=\"\",INDEX('作業（保護者）'!$E$3:$CB$11,P$5,$O109),'データ入力（保護者）'!H109))","v":0},{"$f":"IF($O109=\"\",\"\",IF('データ入力（保護者）'!$L$3=\"\",INDEX('作業（保護者）'!$E$3:$CB$11,Q$5,$O109),'データ入力（保護者）'!I109))","v":0},{"$f":"IF($O109=\"\",\"\",IF('データ入力（保護者）'!$L$3=\"\",INDEX('作業（保護者）'!$E$3:$CB$11,R$5,$O109),'データ入力（保護者）'!J109))","v":0},{"$f":"IF($O109=\"\",\"\",IF('データ入力（保護者）'!$L$3=\"\",INDEX('作業（保護者）'!$E$3:$CB$11,S$5,$O109),'データ入力（保護者）'!K109))","v":0},{"$f":"IF($O109=\"\",\"\",IF('データ入力（保護者）'!$L$3=\"\",INDEX('作業（保護者）'!$E$3:$CB$11,T$5,$O109),'データ入力（保護者）'!L109))","v":0},{"$f":"IF($O109=\"\",\"\",IF('データ入力（保護者）'!$L$3=\"\",INDEX('作業（保護者）'!$E$3:$CB$11,U$5,$O109),'データ入力（保護者）'!M109))","v":0},{"$f":"IF($O109=\"\",\"\",IF('データ入力（保護者）'!$L$3=\"\",INDEX('作業（保護者）'!$E$3:$CB$11,V$5,$O109),'データ入力（保護者）'!N109))","v":0},{"$f":"IF($O109=\"\",\"\",IF('データ入力（保護者）'!$L$3=\"\",INDEX('作業（保護者）'!$E$3:$CB$11,W$5,$O109),'データ入力（保護者）'!O109))","v":0},{"$f":"IF($O109=\"\",\"\",IF('データ入力（保護者）'!$L$3=\"\",INDEX('作業（保護者）'!$E$3:$CB$11,X$5,$O109),'データ入力（保護者）'!P109))","v":0},0]
[null,null,"他人と対面でふれあう経験が不足すること",null,null,null,null,"",null,null,null,null,null,1,{"$f":"IF(N110>=1,COUNT($N$6:N110),\"\")","v":73},{"$f":"IF($O110=\"\",\"\",IF('データ入力（保護者）'!$L$3=\"\",INDEX('作業（保護者）'!$E$3:$CB$11,P$5,$O110),'データ入力（保護者）'!H110))","v":0},{"$f":"IF($O110=\"\",\"\",IF('データ入力（保護者）'!$L$3=\"\",INDEX('作業（保護者）'!$E$3:$CB$11,Q$5,$O110),'データ入力（保護者）'!I110))","v":0},{"$f":"IF($O110=\"\",\"\",IF('データ入力（保護者）'!$L$3=\"\",INDEX('作業（保護者）'!$E$3:$CB$11,R$5,$O110),'データ入力（保護者）'!J110))","v":0},{"$f":"IF($O110=\"\",\"\",IF('データ入力（保護者）'!$L$3=\"\",INDEX('作業（保護者）'!$E$3:$CB$11,S$5,$O110),'データ入力（保護者）'!K110))","v":0},{"$f":"IF($O110=\"\",\"\",IF('データ入力（保護者）'!$L$3=\"\",INDEX('作業（保護者）'!$E$3:$CB$11,T$5,$O110),'データ入力（保護者）'!L110))","v":0},{"$f":"IF($O110=\"\",\"\",IF('データ入力（保護者）'!$L$3=\"\",INDEX('作業（保護者）'!$E$3:$CB$11,U$5,$O110),'データ入力（保護者）'!M110))","v":0},{"$f":"IF($O110=\"\",\"\",IF('データ入力（保護者）'!$L$3=\"\",INDEX('作業（保護者）'!$E$3:$CB$11,V$5,$O110),'データ入力（保護者）'!N110))","v":0},{"$f":"IF($O110=\"\",\"\",IF('データ入力（保護者）'!$L$3=\"\",INDEX('作業（保護者）'!$E$3:$CB$11,W$5,$O110),'データ入力（保護者）'!O110))","v":0},{"$f":"IF($O110=\"\",\"\",IF('データ入力（保護者）'!$L$3=\"\",INDEX('作業（保護者）'!$E$3:$CB$11,X$5,$O110),'データ入力（保護者）'!P110))","v":0},0]
[null,null,"ネット依存になる恐れがあること",null,null,null,null,"",null,null,null,null,null,1,{"$f":"IF(N111>=1,COUNT($N$6:N111),\"\")","v":74},{"$f":"IF($O111=\"\",\"\",IF('データ入力（保護者）'!$L$3=\"\",INDEX('作業（保護者）'!$E$3:$CB$11,P$5,$O111),'データ入力（保護者）'!H111))","v":0},{"$f":"IF($O111=\"\",\"\",IF('データ入力（保護者）'!$L$3=\"\",INDEX('作業（保護者）'!$E$3:$CB$11,Q$5,$O111),'データ入力（保護者）'!I111))","v":0},{"$f":"IF($O111=\"\",\"\",IF('データ入力（保護者）'!$L$3=\"\",INDEX('作業（保護者）'!$E$3:$CB$11,R$5,$O111),'データ入力（保護者）'!J111))","v":0},{"$f":"IF($O111=\"\",\"\",IF('データ入力（保護者）'!$L$3=\"\",INDEX('作業（保護者）'!$E$3:$CB$11,S$5,$O111),'データ入力（保護者）'!K111))","v":0},{"$f":"IF($O111=\"\",\"\",IF('データ入力（保護者）'!$L$3=\"\",INDEX('作業（保護者）'!$E$3:$CB$11,T$5,$O111),'データ入力（保護者）'!L111))","v":0},{"$f":"IF($O111=\"\",\"\",IF('データ入力（保護者）'!$L$3=\"\",INDEX('作業（保護者）'!$E$3:$CB$11,U$5,$O111),'データ入力（保護者）'!M111))","v":0},{"$f":"IF($O111=\"\",\"\",IF('データ入力（保護者）'!$L$3=\"\",INDEX('作業（保護者）'!$E$3:$CB$11,V$5,$O111),'データ入力（保護者）'!N111))","v":0},{"$f":"IF($O111=\"\",\"\",IF('データ入力（保護者）'!$L$3=\"\",INDEX('作業（保護者）'!$E$3:$CB$11,W$5,$O111),'データ入力（保護者）'!O111))","v":0},{"$f":"IF($O111=\"\",\"\",IF('データ入力（保護者）'!$L$3=\"\",INDEX('作業（保護者）'!$E$3:$CB$11,X$5,$O111),'データ入力（保護者）'!P111))","v":0},0]
[null,null,"その他",null,null,null,null,"",null,null,null,null,null,1,{"$f":"IF(N112>=1,COUNT($N$6:N112),\"\")","v":75},{"$f":"IF($O112=\"\",\"\",IF('データ入力（保護者）'!$L$3=\"\",INDEX('作業（保護者）'!$E$3:$CB$11,P$5,$O112),'データ入力（保護者）'!H112))","v":0},{"$f":"IF($O112=\"\",\"\",IF('データ入力（保護者）'!$L$3=\"\",INDEX('作業（保護者）'!$E$3:$CB$11,Q$5,$O112),'データ入力（保護者）'!I112))","v":0},{"$f":"IF($O112=\"\",\"\",IF('データ入力（保護者）'!$L$3=\"\",INDEX('作業（保護者）'!$E$3:$CB$11,R$5,$O112),'データ入力（保護者）'!J112))","v":0},{"$f":"IF($O112=\"\",\"\",IF('データ入力（保護者）'!$L$3=\"\",INDEX('作業（保護者）'!$E$3:$CB$11,S$5,$O112),'データ入力（保護者）'!K112))","v":0},{"$f":"IF($O112=\"\",\"\",IF('データ入力（保護者）'!$L$3=\"\",INDEX('作業（保護者）'!$E$3:$CB$11,T$5,$O112),'データ入力（保護者）'!L112))","v":0},{"$f":"IF($O112=\"\",\"\",IF('データ入力（保護者）'!$L$3=\"\",INDEX('作業（保護者）'!$E$3:$CB$11,U$5,$O112),'データ入力（保護者）'!M112))","v":0},{"$f":"IF($O112=\"\",\"\",IF('データ入力（保護者）'!$L$3=\"\",INDEX('作業（保護者）'!$E$3:$CB$11,V$5,$O112),'データ入力（保護者）'!N112))","v":0},{"$f":"IF($O112=\"\",\"\",IF('データ入力（保護者）'!$L$3=\"\",INDEX('作業（保護者）'!$E$3:$CB$11,W$5,$O112),'データ入力（保護者）'!O112))","v":0},{"$f":"IF($O112=\"\",\"\",IF('データ入力（保護者）'!$L$3=\"\",INDEX('作業（保護者）'!$E$3:$CB$11,X$5,$O112),'データ入力（保護者）'!P112))","v":0},0]
[null,null,"特にない",null,null,null,null,"",null,null,null,null,null,1,{"$f":"IF(N113>=1,COUNT($N$6:N113),\"\")","v":76},{"$f":"IF($O113=\"\",\"\",IF('データ入力（保護者）'!$L$3=\"\",INDEX('作業（保護者）'!$E$3:$CB$11,P$5,$O113),'データ入力（保護者）'!H113))","v":0},{"$f":"IF($O113=\"\",\"\",IF('データ入力（保護者）'!$L$3=\"\",INDEX('作業（保護者）'!$E$3:$CB$11,Q$5,$O113),'データ入力（保護者）'!I113))","v":0},{"$f":"IF($O113=\"\",\"\",IF('データ入力（保護者）'!$L$3=\"\",INDEX('作業（保護者）'!$E$3:$CB$11,R$5,$O113),'データ入力（保護者）'!J113))","v":0},{"$f":"IF($O113=\"\",\"\",IF('データ入力（保護者）'!$L$3=\"\",INDEX('作業（保護者）'!$E$3:$CB$11,S$5,$O113),'データ入力（保護者）'!K113))","v":0},{"$f":"IF($O113=\"\",\"\",IF('データ入力（保護者）'!$L$3=\"\",INDEX('作業（保護者）'!$E$3:$CB$11,T$5,$O113),'データ入力（保護者）'!L113))","v":0},{"$f":"IF($O113=\"\",\"\",IF('データ入力（保護者）'!$L$3=\"\",INDEX('作業（保護者）'!$E$3:$CB$11,U$5,$O113),'データ入力（保護者）'!M113))","v":0},{"$f":"IF($O113=\"\",\"\",IF('データ入力（保護者）'!$L$3=\"\",INDEX('作業（保護者）'!$E$3:$CB$11,V$5,$O113),'データ入力（保護者）'!N113))","v":0},{"$f":"IF($O113=\"\",\"\",IF('データ入力（保護者）'!$L$3=\"\",INDEX('作業（保護者）'!$E$3:$CB$11,W$5,$O113),'データ入力（保護者）'!O113))","v":0},{"$f":"IF($O113=\"\",\"\",IF('データ入力（保護者）'!$L$3=\"\",INDEX('作業（保護者）'!$E$3:$CB$11,X$5,$O113),'データ入力（保護者）'!P113))","v":0},0]
[null,null,null,null,null,null,null,null,null,null,null,null,null,null,{"$f":"IF(N114>=1,COUNT($N$6:N114),\"\")","v":""},{"$f":"IF($O114=\"\",\"\",INDEX('作業（保護者）'!$E$3:$CB$11,P$5,$O114))","v":""},{"$f":"IF($O114=\"\",\"\",INDEX('作業（保護者）'!$E$3:$CB$11,Q$5,$O114))","v":""},{"$f":"IF($O114=\"\",\"\",INDEX('作業（保護者）'!$E$3:$CB$11,R$5,$O114))","v":""},{"$f":"IF($O114=\"\",\"\",INDEX('作業（保護者）'!$E$3:$CB$11,S$5,$O114))","v":""},{"$f":"IF($O114=\"\",\"\",INDEX('作業（保護者）'!$E$3:$CB$11,T$5,$O114))","v":""},{"$f":"IF($O114=\"\",\"\",INDEX('作業（保護者）'!$E$3:$CB$11,U$5,$O114))","v":""},{"$f":"IF($O114=\"\",\"\",INDEX('作業（保護者）'!$E$3:$CB$11,V$5,$O114))","v":""},{"$f":"IF($O114=\"\",\"\",INDEX('作業（保護者）'!$E$3:$CB$11,W$5,$O114))","v":""},{"$f":"IF($O114=\"\",\"\",INDEX('作業（保護者）'!$E$3:$CB$11,X$5,$O114))","v":""},""]
[null,null,null,null,null,null,null,null,null,null,null,null,null,null,{"$f":"IF(N115>=1,COUNT($N$6:N115),\"\")","v":""},{"$f":"IF($O115=\"\",\"\",INDEX('作業（保護者）'!$E$3:$CB$11,P$5,$O115))","v":""},{"$f":"IF($O115=\"\",\"\",INDEX('作業（保護者）'!$E$3:$CB$11,Q$5,$O115))","v":""},{"$f":"IF($O115=\"\",\"\",INDEX('作業（保護者）'!$E$3:$CB$11,R$5,$O115))","v":""},{"$f":"IF($O115=\"\",\"\",INDEX('作業（保護者）'!$E$3:$CB$11,S$5,$O115))","v":""},{"$f":"IF($O115=\"\",\"\",INDEX('作業（保護者）'!$E$3:$CB$11,T$5,$O115))","v":""},{"$f":"IF($O115=\"\",\"\",INDEX('作業（保護者）'!$E$3:$CB$11,U$5,$O115))","v":""},{"$f":"IF($O115=\"\",\"\",INDEX('作業（保護者）'!$E$3:$CB$11,V$5,$O115))","v":""},{"$f":"IF($O115=\"\",\"\",INDEX('作業（保護者）'!$E$3:$CB$11,W$5,$O115))","v":""},{"$f":"IF($O115=\"\",\"\",INDEX('作業（保護者）'!$E$3:$CB$11,X$5,$O115))","v":""},""]
[null,null,null,null,null,null,null,null,null,null,null,null,null,null,{"$f":"IF(N116>=1,COUNT($N$6:N116),\"\")","v":""},{"$f":"IF($O116=\"\",\"\",INDEX('作業（保護者）'!$E$3:$CB$11,P$5,$O116))","v":""},{"$f":"IF($O116=\"\",\"\",INDEX('作業（保護者）'!$E$3:$CB$11,Q$5,$O116))","v":""},{"$f":"IF($O116=\"\",\"\",INDEX('作業（保護者）'!$E$3:$CB$11,R$5,$O116))","v":""},{"$f":"IF($O116=\"\",\"\",INDEX('作業（保護者）'!$E$3:$CB$11,S$5,$O116))","v":""},{"$f":"IF($O116=\"\",\"\",INDEX('作業（保護者）'!$E$3:$CB$11,T$5,$O116))","v":""},{"$f":"IF($O116=\"\",\"\",INDEX('作業（保護者）'!$E$3:$CB$11,U$5,$O116))","v":""},{"$f":"IF($O116=\"\",\"\",INDEX('作業（保護者）'!$E$3:$CB$11,V$5,$O116))","v":""},{"$f":"IF($O116=\"\",\"\",INDEX('作業（保護者）'!$E$3:$CB$11,W$5,$O116))","v":""},{"$f":"IF($O116=\"\",\"\",INDEX('作業（保護者）'!$E$3:$CB$11,X$5,$O116))","v":""},""]
[null,null,null,null,null,null,null,null,null,null,null,null,null,null,{"$f":"IF(N117>=1,COUNT($N$6:N117),\"\")","v":""},{"$f":"IF($O117=\"\",\"\",INDEX('作業（保護者）'!$E$3:$CB$11,P$5,$O117))","v":""},{"$f":"IF($O117=\"\",\"\",INDEX('作業（保護者）'!$E$3:$CB$11,Q$5,$O117))","v":""},{"$f":"IF($O117=\"\",\"\",INDEX('作業（保護者）'!$E$3:$CB$11,R$5,$O117))","v":""},{"$f":"IF($O117=\"\",\"\",INDEX('作業（保護者）'!$E$3:$CB$11,S$5,$O117))","v":""},{"$f":"IF($O117=\"\",\"\",INDEX('作業（保護者）'!$E$3:$CB$11,T$5,$O117))","v":""},{"$f":"IF($O117=\"\",\"\",INDEX('作業（保護者）'!$E$3:$CB$11,U$5,$O117))","v":""},{"$f":"IF($O117=\"\",\"\",INDEX('作業（保護者）'!$E$3:$CB$11,V$5,$O117))","v":""},{"$f":"IF($O117=\"\",\"\",INDEX('作業（保護者）'!$E$3:$CB$11,W$5,$O117))","v":""},{"$f":"IF($O117=\"\",\"\",INDEX('作業（保護者）'!$E$3:$CB$11,X$5,$O117))","v":""},""]
[null,null,null,null,null,null,null,null,null,null,null,null,null,null,{"$f":"IF(N118>=1,COUNT($N$6:N118),\"\")","v":""},{"$f":"IF($O118=\"\",\"\",INDEX('作業（保護者）'!$E$3:$CB$11,P$5,$O118))","v":""},{"$f":"IF($O118=\"\",\"\",INDEX('作業（保護者）'!$E$3:$CB$11,Q$5,$O118))","v":""},{"$f":"IF($O118=\"\",\"\",INDEX('作業（保護者）'!$E$3:$CB$11,R$5,$O118))","v":""},{"$f":"IF($O118=\"\",\"\",INDEX('作業（保護者）'!$E$3:$CB$11,S$5,$O118))","v":""},{"$f":"IF($O118=\"\",\"\",INDEX('作業（保護者）'!$E$3:$CB$11,T$5,$O118))","v":""},{"$f":"IF($O118=\"\",\"\",INDEX('作業（保護者）'!$E$3:$CB$11,U$5,$O118))","v":""},{"$f":"IF($O118=\"\",\"\",INDEX('作業（保護者）'!$E$3:$CB$11,V$5,$O118))","v":""},{"$f":"IF($O118=\"\",\"\",INDEX('作業（保護者）'!$E$3:$CB$11,W$5,$O118))","v":""},{"$f":"IF($O118=\"\",\"\",INDEX('作業（保護者）'!$E$3:$CB$11,X$5,$O118))","v":""},""]
[null,null,null,null,null,null,null,null,null,null,null,null,null,null,{"$f":"IF(N119>=1,COUNT($N$6:N119),\"\")","v":""},{"$f":"IF($O119=\"\",\"\",INDEX('作業（保護者）'!$E$3:$CB$11,P$5,$O119))","v":""},{"$f":"IF($O119=\"\",\"\",INDEX('作業（保護者）'!$E$3:$CB$11,Q$5,$O119))","v":""},{"$f":"IF($O119=\"\",\"\",INDEX('作業（保護者）'!$E$3:$CB$11,R$5,$O119))","v":""},{"$f":"IF($O119=\"\",\"\",INDEX('作業（保護者）'!$E$3:$CB$11,S$5,$O119))","v":""},{"$f":"IF($O119=\"\",\"\",INDEX('作業（保護者）'!$E$3:$CB$11,T$5,$O119))","v":""},{"$f":"IF($O119=\"\",\"\",INDEX('作業（保護者）'!$E$3:$CB$11,U$5,$O119))","v":""},{"$f":"IF($O119=\"\",\"\",INDEX('作業（保護者）'!$E$3:$CB$11,V$5,$O119))","v":""},{"$f":"IF($O119=\"\",\"\",INDEX('作業（保護者）'!$E$3:$CB$11,W$5,$O119))","v":""},{"$f":"IF($O119=\"\",\"\",INDEX('作業（保護者）'!$E$3:$CB$11,X$5,$O119))","v":""},""]
[null,null,null,null,null,null,null,null,null,null,null,null,null,null,{"$f":"IF(N120>=1,COUNT($N$6:N120),\"\")","v":""},{"$f":"IF($O120=\"\",\"\",INDEX('作業（保護者）'!$E$3:$CB$11,P$5,$O120))","v":""},{"$f":"IF($O120=\"\",\"\",INDEX('作業（保護者）'!$E$3:$CB$11,Q$5,$O120))","v":""},{"$f":"IF($O120=\"\",\"\",INDEX('作業（保護者）'!$E$3:$CB$11,R$5,$O120))","v":""},{"$f":"IF($O120=\"\",\"\",INDEX('作業（保護者）'!$E$3:$CB$11,S$5,$O120))","v":""},{"$f":"IF($O120=\"\",\"\",INDEX('作業（保護者）'!$E$3:$CB$11,T$5,$O120))","v":""},{"$f":"IF($O120=\"\",\"\",INDEX('作業（保護者）'!$E$3:$CB$11,U$5,$O120))","v":""},{"$f":"IF($O120=\"\",\"\",INDEX('作業（保護者）'!$E$3:$CB$11,V$5,$O120))","v":""},{"$f":"IF($O120=\"\",\"\",INDEX('作業（保護者）'!$E$3:$CB$11,W$5,$O120))","v":""},{"$f":"IF($O120=\"\",\"\",INDEX('作業（保護者）'!$E$3:$CB$11,X$5,$O120))","v":""},""]
[null,null,null,null,null,null,null,null,null,null,null,null,null,null,{"$f":"IF(N121>=1,COUNT($N$6:N121),\"\")","v":""},{"$f":"IF($O121=\"\",\"\",INDEX('作業（保護者）'!$E$3:$CB$11,P$5,$O121))","v":""},{"$f":"IF($O121=\"\",\"\",INDEX('作業（保護者）'!$E$3:$CB$11,Q$5,$O121))","v":""},{"$f":"IF($O121=\"\",\"\",INDEX('作業（保護者）'!$E$3:$CB$11,R$5,$O121))","v":""},{"$f":"IF($O121=\"\",\"\",INDEX('作業（保護者）'!$E$3:$CB$11,S$5,$O121))","v":""},{"$f":"IF($O121=\"\",\"\",INDEX('作業（保護者）'!$E$3:$CB$11,T$5,$O121))","v":""},{"$f":"IF($O121=\"\",\"\",INDEX('作業（保護者）'!$E$3:$CB$11,U$5,$O121))","v":""},{"$f":"IF($O121=\"\",\"\",INDEX('作業（保護者）'!$E$3:$CB$11,V$5,$O121))","v":""},{"$f":"IF($O121=\"\",\"\",INDEX('作業（保護者）'!$E$3:$CB$11,W$5,$O121))","v":""},{"$f":"IF($O121=\"\",\"\",INDEX('作業（保護者）'!$E$3:$CB$11,X$5,$O121))","v":""},""]
[null,null,null,null,null,null,null,null,null,null,null,null,null,null,{"$f":"IF(N122>=1,COUNT($N$6:N122),\"\")","v":""},{"$f":"IF($O122=\"\",\"\",INDEX('作業（保護者）'!$E$3:$CB$11,P$5,$O122))","v":""},{"$f":"IF($O122=\"\",\"\",INDEX('作業（保護者）'!$E$3:$CB$11,Q$5,$O122))","v":""},{"$f":"IF($O122=\"\",\"\",INDEX('作業（保護者）'!$E$3:$CB$11,R$5,$O122))","v":""},{"$f":"IF($O122=\"\",\"\",INDEX('作業（保護者）'!$E$3:$CB$11,S$5,$O122))","v":""},{"$f":"IF($O122=\"\",\"\",INDEX('作業（保護者）'!$E$3:$CB$11,T$5,$O122))","v":""},{"$f":"IF($O122=\"\",\"\",INDEX('作業（保護者）'!$E$3:$CB$11,U$5,$O122))","v":""},{"$f":"IF($O122=\"\",\"\",INDEX('作業（保護者）'!$E$3:$CB$11,V$5,$O122))","v":""},{"$f":"IF($O122=\"\",\"\",INDEX('作業（保護者）'!$E$3:$CB$11,W$5,$O122))","v":""},{"$f":"IF($O122=\"\",\"\",INDEX('作業（保護者）'!$E$3:$CB$11,X$5,$O122))","v":""},""]
[null,null,null,null,null,null,null,null,null,null,null,null,null,null,{"$f":"IF(N123>=1,COUNT($N$6:N123),\"\")","v":""},{"$f":"IF($O123=\"\",\"\",INDEX('作業（保護者）'!$E$3:$CB$11,P$5,$O123))","v":""},{"$f":"IF($O123=\"\",\"\",INDEX('作業（保護者）'!$E$3:$CB$11,Q$5,$O123))","v":""},{"$f":"IF($O123=\"\",\"\",INDEX('作業（保護者）'!$E$3:$CB$11,R$5,$O123))","v":""},{"$f":"IF($O123=\"\",\"\",INDEX('作業（保護者）'!$E$3:$CB$11,S$5,$O123))","v":""},{"$f":"IF($O123=\"\",\"\",INDEX('作業（保護者）'!$E$3:$CB$11,T$5,$O123))","v":""},{"$f":"IF($O123=\"\",\"\",INDEX('作業（保護者）'!$E$3:$CB$11,U$5,$O123))","v":""},{"$f":"IF($O123=\"\",\"\",INDEX('作業（保護者）'!$E$3:$CB$11,V$5,$O123))","v":""},{"$f":"IF($O123=\"\",\"\",INDEX('作業（保護者）'!$E$3:$CB$11,W$5,$O123))","v":""},{"$f":"IF($O123=\"\",\"\",INDEX('作業（保護者）'!$E$3:$CB$11,X$5,$O123))","v":""},""]
[null,null,null,null,null,null,null,null,null,null,null,null,null,null,{"$f":"IF(N124>=1,COUNT($N$6:N124),\"\")","v":""},{"$f":"IF($O124=\"\",\"\",INDEX('作業（保護者）'!$E$3:$CB$11,P$5,$O124))","v":""},{"$f":"IF($O124=\"\",\"\",INDEX('作業（保護者）'!$E$3:$CB$11,Q$5,$O124))","v":""},{"$f":"IF($O124=\"\",\"\",INDEX('作業（保護者）'!$E$3:$CB$11,R$5,$O124))","v":""},{"$f":"IF($O124=\"\",\"\",INDEX('作業（保護者）'!$E$3:$CB$11,S$5,$O124))","v":""},{"$f":"IF($O124=\"\",\"\",INDEX('作業（保護者）'!$E$3:$CB$11,T$5,$O124))","v":""},{"$f":"IF($O124=\"\",\"\",INDEX('作業（保護者）'!$E$3:$CB$11,U$5,$O124))","v":""},{"$f":"IF($O124=\"\",\"\",INDEX('作業（保護者）'!$E$3:$CB$11,V$5,$O124))","v":""},{"$f":"IF($O124=\"\",\"\",INDEX('作業（保護者）'!$E$3:$CB$11,W$5,$O124))","v":""},{"$f":"IF($O124=\"\",\"\",INDEX('作業（保護者）'!$E$3:$CB$11,X$5,$O124))","v":""},""]
[null,null,null,null,null,null,null,null,null,null,null,null,null,null,{"$f":"IF(N125>=1,COUNT($N$6:N125),\"\")","v":""},{"$f":"IF($O125=\"\",\"\",INDEX('作業（保護者）'!$E$3:$CB$11,P$5,$O125))","v":""},{"$f":"IF($O125=\"\",\"\",INDEX('作業（保護者）'!$E$3:$CB$11,Q$5,$O125))","v":""},{"$f":"IF($O125=\"\",\"\",INDEX('作業（保護者）'!$E$3:$CB$11,R$5,$O125))","v":""},{"$f":"IF($O125=\"\",\"\",INDEX('作業（保護者）'!$E$3:$CB$11,S$5,$O125))","v":""},{"$f":"IF($O125=\"\",\"\",INDEX('作業（保護者）'!$E$3:$CB$11,T$5,$O125))","v":""},{"$f":"IF($O125=\"\",\"\",INDEX('作業（保護者）'!$E$3:$CB$11,U$5,$O125))","v":""},{"$f":"IF($O125=\"\",\"\",INDEX('作業（保護者）'!$E$3:$CB$11,V$5,$O125))","v":""},{"$f":"IF($O125=\"\",\"\",INDEX('作業（保護者）'!$E$3:$CB$11,W$5,$O125))","v":""},{"$f":"IF($O125=\"\",\"\",INDEX('作業（保護者）'!$E$3:$CB$11,X$5,$O125))","v":""},""]
[null,null,null,null,null,null,null,null,null,null,null,null,null,null,{"$f":"IF(N126>=1,COUNT($N$6:N126),\"\")","v":""},{"$f":"IF($O126=\"\",\"\",INDEX('作業（保護者）'!$E$3:$CB$11,P$5,$O126))","v":""},{"$f":"IF($O126=\"\",\"\",INDEX('作業（保護者）'!$E$3:$CB$11,Q$5,$O126))","v":""},{"$f":"IF($O126=\"\",\"\",INDEX('作業（保護者）'!$E$3:$CB$11,R$5,$O126))","v":""},{"$f":"IF($O126=\"\",\"\",INDEX('作業（保護者）'!$E$3:$CB$11,S$5,$O126))","v":""},{"$f":"IF($O126=\"\",\"\",INDEX('作業（保護者）'!$E$3:$CB$11,T$5,$O126))","v":""},{"$f":"IF($O126=\"\",\"\",INDEX('作業（保護者）'!$E$3:$CB$11,U$5,$O126))","v":""},{"$f":"IF($O126=\"\",\"\",INDEX('作業（保護者）'!$E$3:$CB$11,V$5,$O126))","v":""},{"$f":"IF($O126=\"\",\"\",INDEX('作業（保護者）'!$E$3:$CB$11,W$5,$O126))","v":""},{"$f":"IF($O126=\"\",\"\",INDEX('作業（保護者）'!$E$3:$CB$11,X$5,$O126))","v":""},""]
[null,null,null,null,null,null,null,null,null,null,null,null,null,null,{"$f":"IF(N127>=1,COUNT($N$6:N127),\"\")","v":""},{"$f":"IF($O127=\"\",\"\",INDEX('作業（保護者）'!$E$3:$CB$11,P$5,$O127))","v":""},{"$f":"IF($O127=\"\",\"\",INDEX('作業（保護者）'!$E$3:$CB$11,Q$5,$O127))","v":""},{"$f":"IF($O127=\"\",\"\",INDEX('作業（保護者）'!$E$3:$CB$11,R$5,$O127))","v":""},{"$f":"IF($O127=\"\",\"\",INDEX('作業（保護者）'!$E$3:$CB$11,S$5,$O127))","v":""},{"$f":"IF($O127=\"\",\"\",INDEX('作業（保護者）'!$E$3:$CB$11,T$5,$O127))","v":""},{"$f":"IF($O127=\"\",\"\",INDEX('作業（保護者）'!$E$3:$CB$11,U$5,$O127))","v":""},{"$f":"IF($O127=\"\",\"\",INDEX('作業（保護者）'!$E$3:$CB$11,V$5,$O127))","v":""},{"$f":"IF($O127=\"\",\"\",INDEX('作業（保護者）'!$E$3:$CB$11,W$5,$O127))","v":""},{"$f":"IF($O127=\"\",\"\",INDEX('作業（保護者）'!$E$3:$CB$11,X$5,$O127))","v":""},""]
[null,null,null,null,null,null,null,null,null,null,null,null,null,null,{"$f":"IF(N128>=1,COUNT($N$6:N128),\"\")","v":""},{"$f":"IF($O128=\"\",\"\",INDEX('作業（保護者）'!$E$3:$CB$11,P$5,$O128))","v":""},{"$f":"IF($O128=\"\",\"\",INDEX('作業（保護者）'!$E$3:$CB$11,Q$5,$O128))","v":""},{"$f":"IF($O128=\"\",\"\",INDEX('作業（保護者）'!$E$3:$CB$11,R$5,$O128))","v":""},{"$f":"IF($O128=\"\",\"\",INDEX('作業（保護者）'!$E$3:$CB$11,S$5,$O128))","v":""},{"$f":"IF($O128=\"\",\"\",INDEX('作業（保護者）'!$E$3:$CB$11,T$5,$O128))","v":""},{"$f":"IF($O128=\"\",\"\",INDEX('作業（保護者）'!$E$3:$CB$11,U$5,$O128))","v":""},{"$f":"IF($O128=\"\",\"\",INDEX('作業（保護者）'!$E$3:$CB$11,V$5,$O128))","v":""},{"$f":"IF($O128=\"\",\"\",INDEX('作業（保護者）'!$E$3:$CB$11,W$5,$O128))","v":""},{"$f":"IF($O128=\"\",\"\",INDEX('作業（保護者）'!$E$3:$CB$11,X$5,$O128))","v":""},""]
[null,null,null,null,null,null,null,null,null,null,null,null,null,null,{"$f":"IF(N129>=1,COUNT($N$6:N129),\"\")","v":""},{"$f":"IF($O129=\"\",\"\",INDEX('作業（保護者）'!$E$3:$CB$11,P$5,$O129))","v":""},{"$f":"IF($O129=\"\",\"\",INDEX('作業（保護者）'!$E$3:$CB$11,Q$5,$O129))","v":""},{"$f":"IF($O129=\"\",\"\",INDEX('作業（保護者）'!$E$3:$CB$11,R$5,$O129))","v":""},{"$f":"IF($O129=\"\",\"\",INDEX('作業（保護者）'!$E$3:$CB$11,S$5,$O129))","v":""},{"$f":"IF($O129=\"\",\"\",INDEX('作業（保護者）'!$E$3:$CB$11,T$5,$O129))","v":""},{"$f":"IF($O129=\"\",\"\",INDEX('作業（保護者）'!$E$3:$CB$11,U$5,$O129))","v":""},{"$f":"IF($O129=\"\",\"\",INDEX('作業（保護者）'!$E$3:$CB$11,V$5,$O129))","v":""},{"$f":"IF($O129=\"\",\"\",INDEX('作業（保護者）'!$E$3:$CB$11,W$5,$O129))","v":""},{"$f":"IF($O129=\"\",\"\",INDEX('作業（保護者）'!$E$3:$CB$11,X$5,$O129))","v":""},""]
[null,null,null,null,null,null,null,null,null,null,null,null,null,null,{"$f":"IF(N130>=1,COUNT($N$6:N130),\"\")","v":""},{"$f":"IF($O130=\"\",\"\",INDEX('作業（保護者）'!$E$3:$CB$11,P$5,$O130))","v":""},{"$f":"IF($O130=\"\",\"\",INDEX('作業（保護者）'!$E$3:$CB$11,Q$5,$O130))","v":""},{"$f":"IF($O130=\"\",\"\",INDEX('作業（保護者）'!$E$3:$CB$11,R$5,$O130))","v":""},{"$f":"IF($O130=\"\",\"\",INDEX('作業（保護者）'!$E$3:$CB$11,S$5,$O130))","v":""},{"$f":"IF($O130=\"\",\"\",INDEX('作業（保護者）'!$E$3:$CB$11,T$5,$O130))","v":""},{"$f":"IF($O130=\"\",\"\",INDEX('作業（保護者）'!$E$3:$CB$11,U$5,$O130))","v":""},{"$f":"IF($O130=\"\",\"\",INDEX('作業（保護者）'!$E$3:$CB$11,V$5,$O130))","v":""},{"$f":"IF($O130=\"\",\"\",INDEX('作業（保護者）'!$E$3:$CB$11,W$5,$O130))","v":""},{"$f":"IF($O130=\"\",\"\",INDEX('作業（保護者）'!$E$3:$CB$11,X$5,$O130))","v":""},""]
[null,null,null,null,null,null,null,null,null,null,null,null,null,null,{"$f":"IF(N131>=1,COUNT($N$6:N131),\"\")","v":""},{"$f":"IF($O131=\"\",\"\",INDEX('作業（保護者）'!$E$3:$CB$11,P$5,$O131))","v":""},{"$f":"IF($O131=\"\",\"\",INDEX('作業（保護者）'!$E$3:$CB$11,Q$5,$O131))","v":""},{"$f":"IF($O131=\"\",\"\",INDEX('作業（保護者）'!$E$3:$CB$11,R$5,$O131))","v":""},{"$f":"IF($O131=\"\",\"\",INDEX('作業（保護者）'!$E$3:$CB$11,S$5,$O131))","v":""},{"$f":"IF($O131=\"\",\"\",INDEX('作業（保護者）'!$E$3:$CB$11,T$5,$O131))","v":""},{"$f":"IF($O131=\"\",\"\",INDEX('作業（保護者）'!$E$3:$CB$11,U$5,$O131))","v":""},{"$f":"IF($O131=\"\",\"\",INDEX('作業（保護者）'!$E$3:$CB$11,V$5,$O131))","v":""},{"$f":"IF($O131=\"\",\"\",INDEX('作業（保護者）'!$E$3:$CB$11,W$5,$O131))","v":""},{"$f":"IF($O131=\"\",\"\",INDEX('作業（保護者）'!$E$3:$CB$11,X$5,$O131))","v":""},""]
[null,null,null,null,null,null,null,null,null,null,null,null,null,null,{"$f":"IF(N132>=1,COUNT($N$6:N132),\"\")","v":""},{"$f":"IF($O132=\"\",\"\",INDEX('作業（保護者）'!$E$3:$CB$11,P$5,$O132))","v":""},{"$f":"IF($O132=\"\",\"\",INDEX('作業（保護者）'!$E$3:$CB$11,Q$5,$O132))","v":""},{"$f":"IF($O132=\"\",\"\",INDEX('作業（保護者）'!$E$3:$CB$11,R$5,$O132))","v":""},{"$f":"IF($O132=\"\",\"\",INDEX('作業（保護者）'!$E$3:$CB$11,S$5,$O132))","v":""},{"$f":"IF($O132=\"\",\"\",INDEX('作業（保護者）'!$E$3:$CB$11,T$5,$O132))","v":""},{"$f":"IF($O132=\"\",\"\",INDEX('作業（保護者）'!$E$3:$CB$11,U$5,$O132))","v":""},{"$f":"IF($O132=\"\",\"\",INDEX('作業（保護者）'!$E$3:$CB$11,V$5,$O132))","v":""},{"$f":"IF($O132=\"\",\"\",INDEX('作業（保護者）'!$E$3:$CB$11,W$5,$O132))","v":""},{"$f":"IF($O132=\"\",\"\",INDEX('作業（保護者）'!$E$3:$CB$11,X$5,$O132))","v":""},""]
[null,null,null,null,null,null,null,null,null,null,null,null,null,null,{"$f":"IF(N133>=1,COUNT($N$6:N133),\"\")","v":""},{"$f":"IF($O133=\"\",\"\",INDEX('作業（保護者）'!$E$3:$CB$11,P$5,$O133))","v":""},{"$f":"IF($O133=\"\",\"\",INDEX('作業（保護者）'!$E$3:$CB$11,Q$5,$O133))","v":""},{"$f":"IF($O133=\"\",\"\",INDEX('作業（保護者）'!$E$3:$CB$11,R$5,$O133))","v":""},{"$f":"IF($O133=\"\",\"\",INDEX('作業（保護者）'!$E$3:$CB$11,S$5,$O133))","v":""},{"$f":"IF($O133=\"\",\"\",INDEX('作業（保護者）'!$E$3:$CB$11,T$5,$O133))","v":""},{"$f":"IF($O133=\"\",\"\",INDEX('作業（保護者）'!$E$3:$CB$11,U$5,$O133))","v":""},{"$f":"IF($O133=\"\",\"\",INDEX('作業（保護者）'!$E$3:$CB$11,V$5,$O133))","v":""},{"$f":"IF($O133=\"\",\"\",INDEX('作業（保護者）'!$E$3:$CB$11,W$5,$O133))","v":""},{"$f":"IF($O133=\"\",\"\",INDEX('作業（保護者）'!$E$3:$CB$11,X$5,$O133))","v":""},""]
[null,null,null,null,null,null,null,null,null,null,null,null,null,null,{"$f":"IF(N134>=1,COUNT($N$6:N134),\"\")","v":""},{"$f":"IF($O134=\"\",\"\",INDEX('作業（保護者）'!$E$3:$CB$11,P$5,$O134))","v":""},{"$f":"IF($O134=\"\",\"\",INDEX('作業（保護者）'!$E$3:$CB$11,Q$5,$O134))","v":""},{"$f":"IF($O134=\"\",\"\",INDEX('作業（保護者）'!$E$3:$CB$11,R$5,$O134))","v":""},{"$f":"IF($O134=\"\",\"\",INDEX('作業（保護者）'!$E$3:$CB$11,S$5,$O134))","v":""},{"$f":"IF($O134=\"\",\"\",INDEX('作業（保護者）'!$E$3:$CB$11,T$5,$O134))","v":""},{"$f":"IF($O134=\"\",\"\",INDEX('作業（保護者）'!$E$3:$CB$11,U$5,$O134))","v":""},{"$f":"IF($O134=\"\",\"\",INDEX('作業（保護者）'!$E$3:$CB$11,V$5,$O134))","v":""},{"$f":"IF($O134=\"\",\"\",INDEX('作業（保護者）'!$E$3:$CB$11,W$5,$O134))","v":""},{"$f":"IF($O134=\"\",\"\",INDEX('作業（保護者）'!$E$3:$CB$11,X$5,$O134))","v":""},""]
[null,null,null,null,null,null,null,null,null,null,null,null,null,null,{"$f":"IF(N135>=1,COUNT($N$6:N135),\"\")","v":""},{"$f":"IF($O135=\"\",\"\",INDEX('作業（保護者）'!$E$3:$CB$11,P$5,$O135))","v":""},{"$f":"IF($O135=\"\",\"\",INDEX('作業（保護者）'!$E$3:$CB$11,Q$5,$O135))","v":""},{"$f":"IF($O135=\"\",\"\",INDEX('作業（保護者）'!$E$3:$CB$11,R$5,$O135))","v":""},{"$f":"IF($O135=\"\",\"\",INDEX('作業（保護者）'!$E$3:$CB$11,S$5,$O135))","v":""},{"$f":"IF($O135=\"\",\"\",INDEX('作業（保護者）'!$E$3:$CB$11,T$5,$O135))","v":""},{"$f":"IF($O135=\"\",\"\",INDEX('作業（保護者）'!$E$3:$CB$11,U$5,$O135))","v":""},{"$f":"IF($O135=\"\",\"\",INDEX('作業（保護者）'!$E$3:$CB$11,V$5,$O135))","v":""},{"$f":"IF($O135=\"\",\"\",INDEX('作業（保護者）'!$E$3:$CB$11,W$5,$O135))","v":""},{"$f":"IF($O135=\"\",\"\",INDEX('作業（保護者）'!$E$3:$CB$11,X$5,$O135))","v":""},{"$f":"IF(O135=\"\",\"\",$P$3-SUM(P135:X135))","v":""}]

{"sheet":"作業（児童生徒）","index":7,"n_rows":11,"n_cols":80,"rows_kept":11,"cut":false,"hidden":false,"merged":[]}
[null,null,null,null,"基本（きほん）的な生活に関するしつ問です。それぞれあてはまるものをぬりつぶしてください。　あなたは、毎日朝食を食べますか（ときどき食べる場合には「どちらともいえない」を選択してください）選択（せんたく）","基本（きほん）的な生活に関するしつ問です。それぞれあてはまるものをぬりつぶしてください。　あなたは、毎日決まった時間にねていますか（週に２、３回ねる時間が遅くなるときは「どちらともいえない」を選択してください）選択（せんたく）","平日のすいみん時間は何時間くらいですか。あてはまるものを１つぬりつぶしてください。","平日の宿題や塾（じゅく）の時間も含めた家庭学習の時間は何時間くらいですか。あてはまるものを１つぬりつぶしてください。","あなたは自分のスマホを持っていますか。","各機器によるインターネットの利用に関するしつ問です。あてはまるものをぬりつぶしてください。　　　　　　※「インターネットの利用」とはYouTube（ユーチューブ）やホームページを見たり、LINE（ライン）やTwitter（ツ　　イッター）などを使ったりすることです。あなたはスマホでインターネットを使っていますか（タブレットをのぞく）選択","各機器によるインターネットの利用に関するしつ問です。あてはまるものをぬりつぶしてください。　　　　　　※「インターネットの利用」とはYouTube（ユーチューブ）やホームページを見たり、LINE（ライン）やTwitter（ツ　　イッター）などを使ったりすることです。あなたはタブレットやパソコンでインターネットを使っていますか選択","各機器によるインターネットの利用に関するしつ問です。あてはまるものをぬりつぶしてください。　　　　　　※「インターネットの利用」とはYouTube（ユーチューブ）やホームページを見たり、LINE（ライン）やTwitter（ツ　　イッター）などを使ったりすることです。あなたはゲーム機でインターネットを使っていますか選択","以下の各機器をどれくらい使っていますか。平日のへいきん使用時間としてあてはまるものをぬりつぶしてください。（勉強のために使うこともふくむ）　スマホ・タブレット選択","以下の各機器をどれくらい使っていますか。平日のへいきん使用時間としてあてはまるものをぬりつぶしてください。（勉強のために使うこともふくむ）　パソコン選択","以下の各機器をどれくらい使っていますか。平日のへいきん使用時間としてあてはまるものをぬりつぶしてください。（勉強のために使うこともふくむ）　ゲーム機選択","以下の各機器を勉強のために使っている時間はどれくらいですか。平日のへいきん使用時間として、あてはまるものをぬりつぶしてください。　スマホ・タブレット選択","以下の各機器を勉強のために使っている時間はどれくらいですか。平日のへいきん使用時間として、あてはまるものをぬりつぶしてください。　パソコン選択","以下の各機器を勉強のために使っている時間はどれくらいですか。平日のへいきん使用時間として、あてはまるものをぬりつぶしてください。　ゲーム機（学習ソフトなど）選択","あなたの家庭では、各機器を使う場合のルールとして決めていることはありますか。それぞれあてはまるものをぬりつぶしてください。　利用時間（何時間以内など）選択","あなたの家庭では、各機器を使う場合のルールとして決めていることはありますか。それぞれあてはまるものをぬりつぶしてください。　利用してよい時間帯（何時から何時までなど）選択","あなたの家庭では、各機器を使う場合のルールとして決めていることはありますか。それぞれあてはまるものをぬりつぶしてください。　通話やデータ通信などに利用できる金がく選択","あなたの家庭では、各機器を使う場合のルールとして決めていることはありますか。それぞれあてはまるものをぬりつぶしてください。　有料、無料に限らず、アプリをダウンロードすることについて選択","あなたの家庭では、各機器を使う場合のルールとして決めていることはありますか。それぞれあてはまるものをぬりつぶしてください。　お金をはらって有料アプリやゲーム内のアイテムを買うことについて選択","あなたの家庭では、各機器を使う場合のルールとして決めていることはありますか。それぞれあてはまるものをぬりつぶしてください。　ツイッターやラインなど、インターネットへ書きこむことについて選択","あなたの家庭では、各機器を使う場合のルールとして決めていることはありますか。それぞれあてはまるものをぬりつぶしてください。　ユーチューブやホームページなど、インターネットを見ることについて選択","あなたの家庭では、各機器を使う場合のルールとして決めていることはありますか。それぞれあてはまるものをぬりつぶしてください。　家の中では、リビング（家族が集まる部屋）だけで使うこと選択","あなたの家庭では、各機器を使う場合のルールとして決めていることはありますか。それぞれあてはまるものをぬりつぶしてください。　ほご者と一緒（いっしょ）の時にしか使わないこと選択","あなたの家庭では、各機器を使う場合のルールとして決めていることはありますか。それぞれあてはまるものをぬりつぶしてください。　その他のルール選択","ルールはだれが作りましたか。あてはまるものを１つぬりつぶしてください。","各機器を使う場合のルールについてのしつ問です。あてはまるものをぬりつぶしてください。　各機器を使うときのルールは守っていますか選択","あなたの使う機器にはフィルタリングがかけられていますか。あてはまるものをぬりつぶしてください。　　　　　\\n　※フィルタリングとは、子どもに見せたくない内容（ないよう）を、見せないようにブロックするサービスです。　スマホ・タブレット選択","あなたの使う機器にはフィルタリングがかけられていますか。あてはまるものをぬりつぶしてください。　　　　　\\n　※フィルタリングとは、子どもに見せたくない内容（ないよう）を、見せないようにブロックするサービスです。　パソコン選択","あなたの使う機器にはフィルタリングがかけられていますか。あてはまるものをぬりつぶしてください。　　　　　\\n　※フィルタリングとは、子どもに見せたくない内容（ないよう）を、見せないようにブロックするサービスです。　ゲーム機選択","あなたがよく利用するSNSは何ですか。あてはまるもの全てをぬりつぶしてください。","あなたがよく利用するSNSは何ですか。あてはまるもの全てをぬりつぶしてください。","あなたがよく利用するSNSは何ですか。あてはまるもの全てをぬりつぶしてください。","あなたがよく利用するSNSは何ですか。あてはまるもの全てをぬりつぶしてください。","あなたがよく利用するSNSは何ですか。あてはまるもの全てをぬりつぶしてください。","あなたがよく利用するSNSは何ですか。あてはまるもの全てをぬりつぶしてください。","SNSの利用についてのしつ問です。利用しているサービスについて答えてください。また、SNSを利用していない場合は「いいえ」をぬりつぶしてください。　家族以外の知り合いと、無料通話をする選択","SNSの利用についてのしつ問です。利用しているサービスについて答えてください。また、SNSを利用していない場合は「いいえ」をぬりつぶしてください。　家族以外の知り合いと1対1でメッセージのやりとりをする選択","SNSの利用についてのしつ問です。利用しているサービスについて答えてください。また、SNSを利用していない場合は「いいえ」をぬりつぶしてください。　グループを作って、グループ内でメッセージのやりとりをする選択","SNSの利用についてのしつ問です。利用しているサービスについて答えてください。また、SNSを利用していない場合は「いいえ」をぬりつぶしてください。　家族と、無料通話やメッセージのやりとりをする選択","SNSの利用についてのしつ問です。利用しているサービスについて答えてください。また、SNSを利用していない場合は「いいえ」をぬりつぶしてください。　記事を投稿（とうこう）する選択","SNSの利用についてのしつ問です。利用しているサービスについて答えてください。また、SNSを利用していない場合は「いいえ」をぬりつぶしてください。　SNS内のアプリを使う選択","SNSの利用についてのしつ問です。利用しているサービスについて答えてください。また、SNSを利用していない場合は「いいえ」をぬりつぶしてください。　お店からのお知らせを見たり、クーポンをもらったりする。選択","ラインなどを使ってメッセージを送る回数は、へいきんすると一日にどれくらいですか。あてはまるものを１つぬりつぶしてください。","友だちにメールやメッセージを送って返事が返ってこない時、どれくらいでイライラしたり不安になったりしますか。あてはまるものを１つぬりつぶしてください。","やりたいことがあるのにメールやメッセージがきてこまることがありますか。あてはまるものを１つぬりつぶしてください。","SNSで知り合った人はいますか。知り合った人がいる場合は、どのSNSで知り合いましたか。あてはまるものを全てぬりつぶしてください。","SNSで知り合った人はいますか。知り合った人がいる場合は、どのSNSで知り合いましたか。あてはまるものを全てぬりつぶしてください。","SNSで知り合った人はいますか。知り合った人がいる場合は、どのSNSで知り合いましたか。あてはまるものを全てぬりつぶしてください。","SNSで知り合った人はいますか。知り合った人がいる場合は、どのSNSで知り合いましたか。あてはまるものを全てぬりつぶしてください。","SNSで知り合った人はいますか。知り合った人がいる場合は、どのSNSで知り合いましたか。あてはまるものを全てぬりつぶしてください。","SNSで知り合った人はいますか。知り合った人がいる場合は、どのSNSで知り合いましたか。あてはまるものを全てぬりつぶしてください。","SNSで知り合った人に自分の電話番号、またはラインのアカウントなどを教えたことがありますか。あてはまるものをぬりつぶしてください。","SNSで知り合った人と実際（じっさい）に会ったことがありますか。あてはまるものをぬりつぶしてください。","インターネットやラインなどのSNSを利用していて起きたトラブルに関する各しつ問に対し、あてはまるものをぬりつぶしてください。\\n　悪口やいやがらせのメールを送られたり、SNS・ブログ・プロフなどに書きこまれたりしたことがある選択","インターネットやラインなどのSNSを利用していて起きたトラブルに関する各しつ問に対し、あてはまるものをぬりつぶしてください。\\n　悪口やいやがらせのメールを送ったり、SNS・ブログ・プロフなどに書きこんだりしたことがある選択","インターネットやラインなどのSNSを利用していて起きたトラブルに関する各しつ問に対し、あてはまるものをぬりつぶしてください。\\n　迷惑（めいわく）な内よう（アダルトサイトからの通知や、不安になる内ようなど）が送られてきたことがある選択","インターネットやラインなどのSNSを利用していて起きたトラブルに関する各しつ問に対し、あてはまるものをぬりつぶしてください。\\n　下着すがたや裸（はだか）の動画または画像（がぞう）を送るように要求されたことがある選択","インターネットやラインなどのSNSを利用していて起きたトラブルに関する各しつ問に対し、あてはまるものをぬりつぶしてください。\\n　有料サイトの利用料金などについて、身に覚えのない支払（しはら）いを求められたことがある選択","インターネットやラインなどのSNSを利用していて起きたトラブルに関する各しつ問に対し、あてはまるものをぬりつぶしてください。\\n　ほご者に話しにくいサイトを見たことがある選択","インターネットやラインなどのSNSを利用していて起きたトラブルに関する各しつ問に対し、あてはまるものをぬりつぶしてください。\\n　自分のじょうほう（名前や写真など）を書きこんだことがある選択","インターネットやラインなどのSNSを利用していて起きたトラブルに関する各しつ問に対し、あてはまるものをぬりつぶしてください。\\n　他人のじょうほう（名前や写真など）をむだんで書きこんだことがある選択","インターネットやラインなどのSNSを利用していて起きたトラブルに関する各しつ問に対し、あてはまるものをぬりつぶしてください。\\n　他人にいやがらせをしている動画や、物をこわすなどのいたずらをしている動画を投稿（とうこう）したことがある選択","インターネットやラインなどのSNSを利用していて起きたトラブルに関する各しつ問に対し、あてはまるものをぬりつぶしてください。\\n　スマホや携帯（けいたい）電話にのめりこんで勉強に集中できなかったり、睡眠（すいみん）不足になったりしたことがある選択","各しつ問に対し、あてはまるものをぬりつぶしてください。　各機器を使って動画の撮影（さつえい）をしたことがある選択","各しつ問に対し、あてはまるものをぬりつぶしてください。　ユーチューブやツイッター、ティックトックなどに動画を投稿（とうこう）したことがある選択","各しつ問に対し、あなたはどう思いますか。あてはまるものをぬりつぶしてください。　BGM（動画につける音楽)はお店で売っているCDを買えば、自分の動画のBGMとして利用し、ユーチューブなどに投稿（とうこう）してもよい選択","各しつ問に対し、あなたはどう思いますか。あてはまるものをぬりつぶしてください。　ダンス動画は、ユーチューブで使われている音楽を使っておどったものなら、ユーチューブなどに投稿（とうこう）してもよい選択","各しつ問に対し、あなたはどう思いますか。あてはまるものをぬりつぶしてください。　カラオケボックスなどで、自分がカラオケに合わせて歌ったものであれば、ユーチューブなどに投稿（とうこう）してもよい選択","インターネットを利用する上でのきけんなこと（有害サイトやインターネット上でのやりとりのきけんなど）や正しい使い方について、あなたは何によって説明を受けたり学んだりしましたか。あてはまるものを全てをぬりつぶしてください。　","インターネットを利用する上でのきけんなこと（有害サイトやインターネット上でのやりとりのきけんなど）や正しい使い方について、あなたは何によって説明を受けたり学んだりしましたか。あてはまるものを全てをぬりつぶしてください。　","インターネットを利用する上でのきけんなこと（有害サイトやインターネット上でのやりとりのきけんなど）や正しい使い方について、あなたは何によって説明を受けたり学んだりしましたか。あてはまるものを全てをぬりつぶしてください。　","インターネットを利用する上でのきけんなこと（有害サイトやインターネット上でのやりとりのきけんなど）や正しい使い方について、あなたは何によって説明を受けたり学んだりしましたか。あてはまるものを全てをぬりつぶしてください。　","インターネットを利用する上でのきけんなこと（有害サイトやインターネット上でのやりとりのきけんなど）や正しい使い方について、あなたは何によって説明を受けたり学んだりしましたか。あてはまるものを全てをぬりつぶしてください。　","インターネットを利用する上でのきけんなこと（有害サイトやインターネット上でのやりとりのきけんなど）や正しい使い方について、あなたは何によって説明を受けたり学んだりしましたか。あてはまるものを全てをぬりつぶしてください。　","インターネットを利用する上でのきけんなこと（有害サイトやインターネット上でのやりとりのきけんなど）や正しい使い方について、あなたは何によって説明を受けたり学んだりしましたか。あてはまるものを全てをぬりつぶしてください。　","インターネットを利用する上でのきけんなこと（有害サイトやインターネット上でのやりとりのきけんなど）や正しい使い方について、あなたは何によって説明を受けたり学んだりしましたか。あてはまるものを全てをぬりつぶしてください。　"]
["回答数",null,null,null,"はい,どちらともいえない,いいえ","はい,どちらともいえない,いいえ","４時間未満,４時間～６時間未満,６時間～８時間未満,８時間以上","30分未満,30分～１時間未満,１時間～２時間未満,２時間～３時間未満,３時間以上","持っている,持っていない","家にない,自分のもので使っている,家族のもので使っている,家にあるが使っていない","家にない,自分のもので使っている,家族のもので使っている,家にあるが使っていない","家にない,自分のもので使っている,家族のもので使っている,家にあるが使っていない","家にない,0分,30分未満使っている,30分以上1時間未満,1時間以上2時間未満,2時間以上3時間未満,3時間以上4時間未満,4時間以上","家にない,0分,30分未満使っている,30分以上1時間未満,1時間以上2時間未満,2時間以上3時間未満,3時間以上4時間未満,4時間以上","家にない,0分,30分未満使っている,30分以上1時間未満,1時間以上2時間未満,2時間以上3時間未満,3時間以上4時間未満,4時間以上","家にない,0分,30分未満使っている,30分以上1時間未満,1時間以上2時間未満,2時間以上3時間未満,3時間以上4時間未満,4時間以上","家にない,0分,30分未満使っている,30分以上1時間未満,1時間以上2時間未満,2時間以上3時間未満,3時間以上4時間未満,4時間以上","家にない,0分,30分未満使っている,30分以上1時間未満,1時間以上2時間未満,2時間以上3時間未満,3時間以上4時間未満,4時間以上","家にない,決められている,決められていない","家にない,決められている,決められていない","家にない,決められている,決められていない","家にない,決められている,決められていない","家にない,決められている,決められていない","家にない,決められている,決められていない","家にない,決められている,決められていない","家にない,決められている,決められていない","家にない,決められている,決められていない","家にない,決められている,決められていない","各機器を使っていない,ほご者,ほご者と自分,自分,ルールはない,その他","家にない,守っている,だいたい守っている,あまり守っていない,ほとんど守っていない,ルールがない","家にない,かけられている,かけられていない,わからない","家にない,かけられている,かけられていない,わからない","家にない,かけられている,かけられていない,わからない","使っていない","ライン","ツイッター","インスタグラム","ティックトック","その他","はい,いいえ","はい,いいえ","はい,いいえ","はい,いいえ","はい,いいえ","はい,いいえ","はい,いいえ","0回（または使っていない）,1～5回,6～10回,11～30回,31～50回,51回以上","送らない（または使っていない）,3分以内,10分以内,30分以内,60分以内,特にイライラしたり不安になったりしない","使っていない,よくある,ときどきある,ほとんどない,全くない","知り合ったことはない","ライン","ツイッター","インスタグラム","ティックトック","その他","ある,ない,知り合ったことはない","ある,ない,知り合ったことはない","利用していない,はい,いいえ","利用していない,はい,いいえ","利用していない,はい,いいえ","利用していない,はい,いいえ","利用していない,はい,いいえ","利用していない,はい,いいえ","利用していない,はい,いいえ","利用していない,はい,いいえ","利用していない,はい,いいえ","利用していない,はい,いいえ","ある,ない","ある,ない","良いと思う,いけないと思う,わからない","良いと思う,いけないと思う,わからない","良いと思う,いけないと思う,わからない","学校（学校内の先生）","学校（学校以外の人）","ほご者","スマホのはん売店","友だち","テレビや本・ざっし","インターネット","特にない"]
[{"$f":"COUNT('データ貼付け（児童生徒）'!A3:A279)","v":0},null,null,1,{"$f":"COUNTIFS('データ貼付け（児童生徒）'!E$3:E$279,$D3)","v":0},{"$f":"COUNTIFS('データ貼付け（児童生徒）'!F$3:F$279,$D3)","v":0},{"$f":"COUNTIFS('データ貼付け（児童生徒）'!G$3:G$279,$D3)","v":0},{"$f":"COUNTIFS('データ貼付け（児童生徒）'!H$3:H$279,$D3)","v":0},{"$f":"COUNTIFS('データ貼付け（児童生徒）'!I$3:I$279,$D3)","v":0},{"$f":"COUNTIFS('データ貼付け（児童生徒）'!J$3:J$279,$D3)","v":0},{"$f":"COUNTIFS('データ貼付け（児童生徒）'!K$3:K$279,$D3)","v":0},{"$f":"COUNTIFS('データ貼付け（児童生徒）'!L$3:L$279,$D3)","v":0},{"$f":"COUNTIFS('データ貼付け（児童生徒）'!M$3:M$279,$D3)","v":0},{"$f":"COUNTIFS('データ貼付け（児童生徒）'!N$3:N$279,$D3)","v":0},{"$f":"COUNTIFS('データ貼付け（児童生徒）'!O$3:O$279,$D3)","v":0},{"$f":"COUNTIFS('データ貼付け（児童生徒）'!P$3:P$279,$D3)","v":0},{"$f":"COUNTIFS('データ貼付け（児童生徒）'!Q$3:Q$279,$D3)","v":0},{"$f":"COUNTIFS('データ貼付け（児童生徒）'!R$3:R$279,$D3)","v":0},{"$f":"COUNTIFS('データ貼付け（児童生徒）'!S$3:S$279,$D3)","v":0},{"$f":"COUNTIFS('データ貼付け（児童生徒）'!T$3:T$279,$D3)","v":0},{"$f":"COUNTIFS('データ貼付け（児童生徒）'!U$3:U$279,$D3)","v":0},{"$f":"COUNTIFS('データ貼付け（児童生徒）'!V$3:V$279,$D3)","v":0},{"$f":"COUNTIFS('データ貼付け（児童生徒）'!W$3:W$279,$D3)","v":0},{"$f":"COUNTIFS('データ貼付け（児童生徒）'!X$3:X$279,$D3)","v":0},{"$f":"COUNTIFS('データ貼付け（児童生徒）'!Y$3:Y$279,$D3)","v":0},{"$f":"COUNTIFS('データ貼付け（児童生徒）'!Z$3:Z$279,$D3)","v":0},{"$f":"COUNTIFS('データ貼付け（児童生徒）'!AA$3:AA$279,$D3)","v":0},{"$f":"COUNTIFS('データ貼付け（児童生徒）'!AB$3:AB$279,$D3)","v":0},{"$f":"COUNTIFS('データ貼付け（児童生徒）'!AC$3:AC$279,$D3)","v":0},{"$f":"COUNTIFS('データ貼付け（児童生徒）'!AD$3:AD$279,$D3)","v":0},{"$f":"COUNTIFS('データ貼付け（児童生徒）'!AE$3:AE$279,$D3)","v":0},{"$f":"COUNTIFS('データ貼付け（児童生徒）'!AF$3:AF$279,$D3)","v":0},{"$f":"COUNTIFS('データ貼付け（児童生徒）'!AG$3:AG$279,$D3)","v":0},{"$f":"COUNTIFS('データ貼付け（児童生徒）'!AH$3:AH$279,$D3)","v":0},{"$f":"COUNTIFS('データ貼付け（児童生徒）'!AI$3:AI$279,$D3)","v":0},{"$f":"COUNTIFS('データ貼付け（児童生徒）'!AJ$3:AJ$279,$D3)","v":0},{"$f":"COUNTIFS('データ貼付け（児童生徒）'!AK$3:AK$279,$D3)","v":0},{"$f":"COUNTIFS('データ貼付け（児童生徒）'!AL$3:AL$279,$D3)","v":0},{"$f":"COUNTIFS('データ貼付け（児童生徒）'!AM$3:AM$279,$D3)","v":0},{"$f":"COUNTIFS('データ貼付け（児童生徒）'!AN$3:AN$279,$D3)","v":0},{"$f":"COUNTIFS('データ貼付け（児童生徒）'!AO$3:AO$279,$D3)","v":0},{"$f":"COUNTIFS('データ貼付け（児童生徒）'!AP$3:AP$279,$D3)","v":0},{"$f":"COUNTIFS('データ貼付け（児童生徒）'!AQ$3:AQ$279,$D3)","v":0},{"$f":"COUNTIFS('データ貼付け（児童生徒）'!AR$3:AR$279,$D3)","v":0},{"$f":"COUNTIFS('データ貼付け（児童生徒）'!AS$3:AS$279,$D3)","v":0},{"$f":"COUNTIFS('データ貼付け（児童生徒）'!AT$3:AT$279,$D3)","v":0},{"$f":"COUNTIFS('データ貼付け（児童生徒）'!AU$3:AU$279,$D3)","v":0},{"$f":"COUNTIFS('データ貼付け（児童生徒）'!AV$3:AV$279,$D3)","v":0},{"$f":"COUNTIFS('データ貼付け（児童生徒）'!AW$3:AW$279,$D3)","v":0},{"$f":"COUNTIFS('データ貼付け（児童生徒）'!AX$3:AX$279,$D3)","v":0},{"$f":"COUNTIFS('データ貼付け（児童生徒）'!AY$3:AY$279,$D3)","v":0},{"$f":"COUNTIFS('データ貼付け（児童生徒）'!AZ$3:AZ$279,$D3)","v":0},{"$f":"COUNTIFS('データ貼付け（児童生徒）'!BA$3:BA$279,$D3)","v":0},{"$f":"COUNTIFS('データ貼付け（児童生徒）'!BB$3:BB$279,$D3)","v":0},{"$f":"COUNTIFS('データ貼付け（児童生徒）'!BC$3:BC$279,$D3)","v":0},{"$f":"COUNTIFS('データ貼付け（児童生徒）'!BD$3:BD$279,$D3)","v":0},{"$f":"COUNTIFS('データ貼付け（児童生徒）'!BE$3:BE$279,$D3)","v":0},{"$f":"COUNTIFS('データ貼付け（児童生徒）'!BF$3:BF$279,$D3)","v":0},{"$f":"COUNTIFS('データ貼付け（児童生徒）'!BG$3:BG$279,$D3)","v":0},{"$f":"COUNTIFS('データ貼付け（児童生徒）'!BH$3:BH$279,$D3)","v":0},{"$f":"COUNTIFS('データ貼付け（児童生徒）'!BI$3:BI$279,$D3)","v":0},{"$f":"COUNTIFS('データ貼付け（児童生徒）'!BJ$3:BJ$279,$D3)","v":0},{"$f":"COUNTIFS('データ貼付け（児童生徒）'!BK$3:BK$279,$D3)","v":0},{"$f":"COUNTIFS('データ貼付け（児童生徒）'!BL$3:BL$279,$D3)","v":0},{"$f":"COUNTIFS('データ貼付け（児童生徒）'!BM$3:BM$279,$D3)","v":0},{"$f":"COUNTIFS('データ貼付け（児童生徒）'!BN$3:BN$279,$D3)","v":0},{"$f":"COUNTIFS('データ貼付け（児童生徒）'!BO$3:BO$279,$D3)","v":0},{"$f":"COUNTIFS('データ貼付け（児童生徒）'!BP$3:BP$279,$D3)","v":0},{"$f":"COUNTIFS('データ貼付け（児童生徒）'!BQ$3:BQ$279,$D3)","v":0},{"$f":"COUNTIFS('データ貼付け（児童生徒）'!BR$3:BR$279,$D3)","v":0},{"$f":"COUNTIFS('データ貼付け（児童生徒）'!BS$3:BS$279,$D3)","v":0},{"$f":"COUNTIFS('データ貼付け（児童生徒）'!BT$3:BT$279,$D3)","v":0},{"$f":"COUNTIFS('データ貼付け（児童生徒）'!BU$3:BU$279,$D3)","v":0},{"$f":"COUNTIFS('データ貼付け（児童生徒）'!BV$3:BV$279,$D3)","v":0},{"$f":"COUNTIFS('データ貼付け（児童生徒）'!BW$3:BW$279,$D3)","v":0},{"$f":"COUNTIFS('データ貼付け（児童生徒）'!BX$3:BX$279,$D3)","v":0},{"$f":"COUNTIFS('データ貼付け（児童生徒）'!BY$3:BY$279,$D3)","v":0},{"$f":"COUNTIFS('データ貼付け（児童生徒）'!BZ$3:BZ$279,$D3)","v":0},{"$f":"COUNTIFS('データ貼付け（児童生徒）'!CA$3:CA$279,$D3)","v":0},{"$f":"COUNTIFS('データ貼付け（児童生徒）'!CB$3:CB$279,$D3)","v":0}]
[null,null,null,2,{"$f":"COUNTIFS('データ貼付け（児童生徒）'!E$3:E$279,$D4)","v":0},{"$f":"COUNTIFS('データ貼付け（児童生徒）'!F$3:F$279,$D4)","v":0},{"$f":"COUNTIFS('データ貼付け（児童生徒）'!G$3:G$279,$D4)","v":0},{"$f":"COUNTIFS('データ貼付け（児童生徒）'!H$3:H$279,$D4)","v":0},{"$f":"COUNTIFS('データ貼付け（児童生徒）'!I$3:I$279,$D4)","v":0},{"$f":"COUNTIFS('データ貼付け（児童生徒）'!J$3:J$279,$D4)","v":0},{"$f":"COUNTIFS('データ貼付け（児童生徒）'!K$3:K$279,$D4)","v":0},{"$f":"COUNTIFS('データ貼付け（児童生徒）'!L$3:L$279,$D4)","v":0},{"$f":"COUNTIFS('データ貼付け（児童生徒）'!M$3:M$279,$D4)","v":0},{"$f":"COUNTIFS('データ貼付け（児童生徒）'!N$3:N$279,$D4)","v":0},{"$f":"COUNTIFS('データ貼付け（児童生徒）'!O$3:O$279,$D4)","v":0},{"$f":"COUNTIFS('データ貼付け（児童生徒）'!P$3:P$279,$D4)","v":0},{"$f":"COUNTIFS('データ貼付け（児童生徒）'!Q$3:Q$279,$D4)","v":0},{"$f":"COUNTIFS('データ貼付け（児童生徒）'!R$3:R$279,$D4)","v":0},{"$f":"COUNTIFS('データ貼付け（児童生徒）'!S$3:S$279,$D4)","v":0},{"$f":"COUNTIFS('データ貼付け（児童生徒）'!T$3:T$279,$D4)","v":0},{"$f":"COUNTIFS('データ貼付け（児童生徒）'!U$3:U$279,$D4)","v":0},{"$f":"COUNTIFS('データ貼付け（児童生徒）'!V$3:V$279,$D4)","v":0},{"$f":"COUNTIFS('データ貼付け（児童生徒）'!W$3:W$279,$D4)","v":0},{"$f":"COUNTIFS('データ貼付け（児童生徒）'!X$3:X$279,$D4)","v":0},{"$f":"COUNTIFS('データ貼付け（児童生徒）'!Y$3:Y$279,$D4)","v":0},{"$f":"COUNTIFS('データ貼付け（児童生徒）'!Z$3:Z$279,$D4)","v":0},{"$f":"COUNTIFS('データ貼付け（児童生徒）'!AA$3:AA$279,$D4)","v":0},{"$f":"COUNTIFS('データ貼付け（児童生徒）'!AB$3:AB$279,$D4)","v":0},{"$f":"COUNTIFS('データ貼付け（児童生徒）'!AC$3:AC$279,$D4)","v":0},{"$f":"COUNTIFS('データ貼付け（児童生徒）'!AD$3:AD$279,$D4)","v":0},{"$f":"COUNTIFS('データ貼付け（児童生徒）'!AE$3:AE$279,$D4)","v":0},{"$f":"COUNTIFS('データ貼付け（児童生徒）'!AF$3:AF$279,$D4)","v":0},{"$f":"COUNTIFS('データ貼付け（児童生徒）'!AG$3:AG$279,$D4)","v":0},{"$f":"COUNTIFS('データ貼付け（児童生徒）'!AH$3:AH$279,$D4)","v":0},{"$f":"COUNTIFS('データ貼付け（児童生徒）'!AI$3:AI$279,$D4)","v":0},{"$f":"COUNTIFS('データ貼付け（児童生徒）'!AJ$3:AJ$279,$D4)","v":0},{"$f":"COUNTIFS('データ貼付け（児童生徒）'!AK$3:AK$279,$D4)","v":0},{"$f":"COUNTIFS('データ貼付け（児童生徒）'!AL$3:AL$279,$D4)","v":0},{"$f":"COUNTIFS('データ貼付け（児童生徒）'!AM$3:AM$279,$D4)","v":0},{"$f":"COUNTIFS('データ貼付け（児童生徒）'!AN$3:AN$279,$D4)","v":0},{"$f":"COUNTIFS('データ貼付け（児童生徒）'!AO$3:AO$279,$D4)","v":0},{"$f":"COUNTIFS('データ貼付け（児童生徒）'!AP$3:AP$279,$D4)","v":0},{"$f":"COUNTIFS('データ貼付け（児童生徒）'!AQ$3:AQ$279,$D4)","v":0},{"$f":"COUNTIFS('データ貼付け（児童生徒）'!AR$3:AR$279,$D4)","v":0},{"$f":"COUNTIFS('データ貼付け（児童生徒）'!AS$3:AS$279,$D4)","v":0},{"$f":"COUNTIFS('データ貼付け（児童生徒）'!AT$3:AT$279,$D4)","v":0},{"$f":"COUNTIFS('データ貼付け（児童生徒）'!AU$3:AU$279,$D4)","v":0},{"$f":"COUNTIFS('データ貼付け（児童生徒）'!AV$3:AV$279,$D4)","v":0},{"$f":"COUNTIFS('データ貼付け（児童生徒）'!AW$3:AW$279,$D4)","v":0},{"$f":"COUNTIFS('データ貼付け（児童生徒）'!AX$3:AX$279,$D4)","v":0},{"$f":"COUNTIFS('データ貼付け（児童生徒）'!AY$3:AY$279,$D4)","v":0},{"$f":"COUNTIFS('データ貼付け（児童生徒）'!AZ$3:AZ$279,$D4)","v":0},{"$f":"COUNTIFS('データ貼付け（児童生徒）'!BA$3:BA$279,$D4)","v":0},{"$f":"COUNTIFS('データ貼付け（児童生徒）'!BB$3:BB$279,$D4)","v":0},{"$f":"COUNTIFS('データ貼付け（児童生徒）'!BC$3:BC$279,$D4)","v":0},{"$f":"COUNTIFS('データ貼付け（児童生徒）'!BD$3:BD$279,$D4)","v":0},{"$f":"COUNTIFS('データ貼付け（児童生徒）'!BE$3:BE$279,$D4)","v":0},{"$f":"COUNTIFS('データ貼付け（児童生徒）'!BF$3:BF$279,$D4)","v":0},{"$f":"COUNTIFS('データ貼付け（児童生徒）'!BG$3:BG$279,$D4)","v":0},{"$f":"COUNTIFS('データ貼付け（児童生徒）'!BH$3:BH$279,$D4)","v":0},{"$f":"COUNTIFS('データ貼付け（児童生徒）'!BI$3:BI$279,$D4)","v":0},{"$f":"COUNTIFS('データ貼付け（児童生徒）'!BJ$3:BJ$279,$D4)","v":0},{"$f":"COUNTIFS('データ貼付け（児童生徒）'!BK$3:BK$279,$D4)","v":0},{"$f":"COUNTIFS('データ貼付け（児童生徒）'!BL$3:BL$279,$D4)","v":0},{"$f":"COUNTIFS('データ貼付け（児童生徒）'!BM$3:BM$279,$D4)","v":0},{"$f":"COUNTIFS('データ貼付け（児童生徒）'!BN$3:BN$279,$D4)","v":0},{"$f":"COUNTIFS('データ貼付け（児童生徒）'!BO$3:BO$279,$D4)","v":0},{"$f":"COUNTIFS('データ貼付け（児童生徒）'!BP$3:BP$279,$D4)","v":0},{"$f":"COUNTIFS('データ貼付け（児童生徒）'!BQ$3:BQ$279,$D4)","v":0},{"$f":"COUNTIFS('データ貼付け（児童生徒）'!BR$3:BR$279,$D4)","v":0},{"$f":"COUNTIFS('データ貼付け（児童生徒）'!BS$3:BS$279,$D4)","v":0},{"$f":"COUNTIFS('データ貼付け（児童生徒）'!BT$3:BT$279,$D4)","v":0},{"$f":"COUNTIFS('データ貼付け（児童生徒）'!BU$3:BU$279,$D4)","v":0},{"$f":"COUNTIFS('データ貼付け（児童生徒）'!BV$3:BV$279,$D4)","v":0},{"$f":"COUNTIFS('データ貼付け（児童生徒）'!BW$3:BW$279,$D4)","v":0},{"$f":"COUNTIFS('データ貼付け（児童生徒）'!BX$3:BX$279,$D4)","v":0},{"$f":"COUNTIFS('データ貼付け（児童生徒）'!BY$3:BY$279,$D4)","v":0},{"$f":"COUNTIFS('データ貼付け（児童生徒）'!BZ$3:BZ$279,$D4)","v":0},{"$f":"COUNTIFS('データ貼付け（児童生徒）'!CA$3:CA$279,$D4)","v":0},{"$f":"COUNTIFS('データ貼付け（児童生徒）'!CB$3:CB$279,$D4)","v":0}]
[null,null,null,3,{"$f":"COUNTIFS('データ貼付け（児童生徒）'!E$3:E$279,$D5)","v":0},{"$f":"COUNTIFS('データ貼付け（児童生徒）'!F$3:F$279,$D5)","v":0},{"$f":"COUNTIFS('データ貼付け（児童生徒）'!G$3:G$279,$D5)","v":0},{"$f":"COUNTIFS('データ貼付け（児童生徒）'!H$3:H$279,$D5)","v":0},{"$f":"COUNTIFS('データ貼付け（児童生徒）'!I$3:I$279,$D5)","v":0},{"$f":"COUNTIFS('データ貼付け（児童生徒）'!J$3:J$279,$D5)","v":0},{"$f":"COUNTIFS('データ貼付け（児童生徒）'!K$3:K$279,$D5)","v":0},{"$f":"COUNTIFS('データ貼付け（児童生徒）'!L$3:L$279,$D5)","v":0},{"$f":"COUNTIFS('データ貼付け（児童生徒）'!M$3:M$279,$D5)","v":0},{"$f":"COUNTIFS('データ貼付け（児童生徒）'!N$3:N$279,$D5)","v":0},{"$f":"COUNTIFS('データ貼付け（児童生徒）'!O$3:O$279,$D5)","v":0},{"$f":"COUNTIFS('データ貼付け（児童生徒）'!P$3:P$279,$D5)","v":0},{"$f":"COUNTIFS('データ貼付け（児童生徒）'!Q$3:Q$279,$D5)","v":0},{"$f":"COUNTIFS('データ貼付け（児童生徒）'!R$3:R$279,$D5)","v":0},{"$f":"COUNTIFS('データ貼付け（児童生徒）'!S$3:S$279,$D5)","v":0},{"$f":"COUNTIFS('データ貼付け（児童生徒）'!T$3:T$279,$D5)","v":0},{"$f":"COUNTIFS('データ貼付け（児童生徒）'!U$3:U$279,$D5)","v":0},{"$f":"COUNTIFS('データ貼付け（児童生徒）'!V$3:V$279,$D5)","v":0},{"$f":"COUNTIFS('データ貼付け（児童生徒）'!W$3:W$279,$D5)","v":0},{"$f":"COUNTIFS('データ貼付け（児童生徒）'!X$3:X$279,$D5)","v":0},{"$f":"COUNTIFS('データ貼付け（児童生徒）'!Y$3:Y$279,$D5)","v":0},{"$f":"COUNTIFS('データ貼付け（児童生徒）'!Z$3:Z$279,$D5)","v":0},{"$f":"COUNTIFS('データ貼付け（児童生徒）'!AA$3:AA$279,$D5)","v":0},{"$f":"COUNTIFS('データ貼付け（児童生徒）'!AB$3:AB$279,$D5)","v":0},{"$f":"COUNTIFS('データ貼付け（児童生徒）'!AC$3:AC$279,$D5)","v":0},{"$f":"COUNTIFS('データ貼付け（児童生徒）'!AD$3:AD$279,$D5)","v":0},{"$f":"COUNTIFS('データ貼付け（児童生徒）'!AE$3:AE$279,$D5)","v":0},{"$f":"COUNTIFS('データ貼付け（児童生徒）'!AF$3:AF$279,$D5)","v":0},{"$f":"COUNTIFS('データ貼付け（児童生徒）'!AG$3:AG$279,$D5)","v":0},{"$f":"COUNTIFS('データ貼付け（児童生徒）'!AH$3:AH$279,$D5)","v":0},{"$f":"COUNTIFS('データ貼付け（児童生徒）'!AI$3:AI$279,$D5)","v":0},{"$f":"COUNTIFS('データ貼付け（児童生徒）'!AJ$3:AJ$279,$D5)","v":0},{"$f":"COUNTIFS('データ貼付け（児童生徒）'!AK$3:AK$279,$D5)","v":0},{"$f":"COUNTIFS('データ貼付け（児童生徒）'!AL$3:AL$279,$D5)","v":0},{"$f":"COUNTIFS('データ貼付け（児童生徒）'!AM$3:AM$279,$D5)","v":0},{"$f":"COUNTIFS('データ貼付け（児童生徒）'!AN$3:AN$279,$D5)","v":0},{"$f":"COUNTIFS('データ貼付け（児童生徒）'!AO$3:AO$279,$D5)","v":0},{"$f":"COUNTIFS('データ貼付け（児童生徒）'!AP$3:AP$279,$D5)","v":0},{"$f":"COUNTIFS('データ貼付け（児童生徒）'!AQ$3:AQ$279,$D5)","v":0},{"$f":"COUNTIFS('データ貼付け（児童生徒）'!AR$3:AR$279,$D5)","v":0},{"$f":"COUNTIFS('データ貼付け（児童生徒）'!AS$3:AS$279,$D5)","v":0},{"$f":"COUNTIFS('データ貼付け（児童生徒）'!AT$3:AT$279,$D5)","v":0},{"$f":"COUNTIFS('データ貼付け（児童生徒）'!AU$3:AU$279,$D5)","v":0},{"$f":"COUNTIFS('データ貼付け（児童生徒）'!AV$3:AV$279,$D5)","v":0},{"$f":"COUNTIFS('データ貼付け（児童生徒）'!AW$3:AW$279,$D5)","v":0},{"$f":"COUNTIFS('データ貼付け（児童生徒）'!AX$3:AX$279,$D5)","v":0},{"$f":"COUNTIFS('データ貼付け（児童生徒）'!AY$3:AY$279,$D5)","v":0},{"$f":"COUNTIFS('データ貼付け（児童生徒）'!AZ$3:AZ$279,$D5)","v":0},{"$f":"COUNTIFS('データ貼付け（児童生徒）'!BA$3:BA$279,$D5)","v":0},{"$f":"COUNTIFS('データ貼付け（児童生徒）'!BB$3:BB$279,$D5)","v":0},{"$f":"COUNTIFS('データ貼付け（児童生徒）'!BC$3:BC$279,$D5)","v":0},{"$f":"COUNTIFS('データ貼付け（児童生徒）'!BD$3:BD$279,$D5)","v":0},{"$f":"COUNTIFS('データ貼付け（児童生徒）'!BE$3:BE$279,$D5)","v":0},{"$f":"COUNTIFS('データ貼付け（児童生徒）'!BF$3:BF$279,$D5)","v":0},{"$f":"COUNTIFS('データ貼付け（児童生徒）'!BG$3:BG$279,$D5)","v":0},{"$f":"COUNTIFS('データ貼付け（児童生徒）'!BH$3:BH$279,$D5)","v":0},{"$f":"COUNTIFS('データ貼付け（児童生徒）'!BI$3:BI$279,$D5)","v":0},{"$f":"COUNTIFS('データ貼付け（児童生徒）'!BJ$3:BJ$279,$D5)","v":0},{"$f":"COUNTIFS('データ貼付け（児童生徒）'!BK$3:BK$279,$D5)","v":0},{"$f":"COUNTIFS('データ貼付け（児童生徒）'!BL$3:BL$279,$D5)","v":0},{"$f":"COUNTIFS('データ貼付け（児童生徒）'!BM$3:BM$279,$D5)","v":0},{"$f":"COUNTIFS('データ貼付け（児童生徒）'!BN$3:BN$279,$D5)","v":0},{"$f":"COUNTIFS('データ貼付け（児童生徒）'!BO$3:BO$279,$D5)","v":0},{"$f":"COUNTIFS('データ貼付け（児童生徒）'!BP$3:BP$279,$D5)","v":0},{"$f":"COUNTIFS('データ貼付け（児童生徒）'!BQ$3:BQ$279,$D5)","v":0},{"$f":"COUNTIFS('データ貼付け（児童生徒）'!BR$3:BR$279,$D5)","v":0},{"$f":"COUNTIFS('データ貼付け（児童生徒）'!BS$3:BS$279,$D5)","v":0},{"$f":"COUNTIFS('データ貼付け（児童生徒）'!BT$3:BT$279,$D5)","v":0},{"$f":"COUNTIFS('データ貼付け（児童生徒）'!BU$3:BU$279,$D5)","v":0},{"$f":"COUNTIFS('データ貼付け（児童生徒）'!BV$3:BV$279,$D5)","v":0},{"$f":"COUNTIFS('データ貼付け（児童生徒）'!BW$3:BW$279,$D5)","v":0},{"$f":"COUNTIFS('データ貼付け（児童生徒）'!BX$3:BX$279,$D5)","v":0},{"$f":"COUNTIFS('データ貼付け（児童生徒）'!BY$3:BY$279,$D5)","v":0},{"$f":"COUNTIFS('データ貼付け（児童生徒）'!BZ$3:BZ$279,$D5)","v":0},{"$f":"COUNTIFS('データ貼付け（児童生徒）'!CA$3:CA$279,$D5)","v":0},{"$f":"COUNTIFS('データ貼付け（児童生徒）'!CB$3:CB$279,$D5)","v":0}]
[null,null,null,4,{"$f":"COUNTIFS('データ貼付け（児童生徒）'!E$3:E$279,$D6)","v":0},{"$f":"COUNTIFS('データ貼付け（児童生徒）'!F$3:F$279,$D6)","v":0},{"$f":"COUNTIFS('データ貼付け（児童生徒）'!G$3:G$279,$D6)","v":0},{"$f":"COUNTIFS('データ貼付け（児童生徒）'!H$3:H$279,$D6)","v":0},{"$f":"COUNTIFS('データ貼付け（児童生徒）'!I$3:I$279,$D6)","v":0},{"$f":"COUNTIFS('データ貼付け（児童生徒）'!J$3:J$279,$D6)","v":0},{"$f":"COUNTIFS('データ貼付け（児童生徒）'!K$3:K$279,$D6)","v":0},{"$f":"COUNTIFS('データ貼付け（児童生徒）'!L$3:L$279,$D6)","v":0},{"$f":"COUNTIFS('データ貼付け（児童生徒）'!M$3:M$279,$D6)","v":0},{"$f":"COUNTIFS('データ貼付け（児童生徒）'!N$3:N$279,$D6)","v":0},{"$f":"COUNTIFS('データ貼付け（児童生徒）'!O$3:O$279,$D6)","v":0},{"$f":"COUNTIFS('データ貼付け（児童生徒）'!P$3:P$279,$D6)","v":0},{"$f":"COUNTIFS('データ貼付け（児童生徒）'!Q$3:Q$279,$D6)","v":0},{"$f":"COUNTIFS('データ貼付け（児童生徒）'!R$3:R$279,$D6)","v":0},{"$f":"COUNTIFS('データ貼付け（児童生徒）'!S$3:S$279,$D6)","v":0},{"$f":"COUNTIFS('データ貼付け（児童生徒）'!T$3:T$279,$D6)","v":0},{"$f":"COUNTIFS('データ貼付け（児童生徒）'!U$3:U$279,$D6)","v":0},{"$f":"COUNTIFS('データ貼付け（児童生徒）'!V$3:V$279,$D6)","v":0},{"$f":"COUNTIFS('データ貼付け（児童生徒）'!W$3:W$279,$D6)","v":0},{"$f":"COUNTIFS('データ貼付け（児童生徒）'!X$3:X$279,$D6)","v":0},{"$f":"COUNTIFS('データ貼付け（児童生徒）'!Y$3:Y$279,$D6)","v":0},{"$f":"COUNTIFS('データ貼付け（児童生徒）'!Z$3:Z$279,$D6)","v":0},{"$f":"COUNTIFS('データ貼付け（児童生徒）'!AA$3:AA$279,$D6)","v":0},{"$f":"COUNTIFS('データ貼付け（児童生徒）'!AB$3:AB$279,$D6)","v":0},{"$f":"COUNTIFS('データ貼付け（児童生徒）'!AC$3:AC$279,$D6)","v":0},{"$f":"COUNTIFS('データ貼付け（児童生徒）'!AD$3:AD$279,$D6)","v":0},{"$f":"COUNTIFS('データ貼付け（児童生徒）'!AE$3:AE$279,$D6)","v":0},{"$f":"COUNTIFS('データ貼付け（児童生徒）'!AF$3:AF$279,$D6)","v":0},{"$f":"COUNTIFS('データ貼付け（児童生徒）'!AG$3:AG$279,$D6)","v":0},{"$f":"COUNTIFS('データ貼付け（児童生徒）'!AH$3:AH$279,$D6)","v":0},{"$f":"COUNTIFS('データ貼付け（児童生徒）'!AI$3:AI$279,$D6)","v":0},{"$f":"COUNTIFS('データ貼付け（児童生徒）'!AJ$3:AJ$279,$D6)","v":0},{"$f":"COUNTIFS('データ貼付け（児童生徒）'!AK$3:AK$279,$D6)","v":0},{"$f":"COUNTIFS('データ貼付け（児童生徒）'!AL$3:AL$279,$D6)","v":0},{"$f":"COUNTIFS('データ貼付け（児童生徒）'!AM$3:AM$279,$D6)","v":0},{"$f":"COUNTIFS('データ貼付け（児童生徒）'!AN$3:AN$279,$D6)","v":0},{"$f":"COUNTIFS('データ貼付け（児童生徒）'!AO$3:AO$279,$D6)","v":0},{"$f":"COUNTIFS('データ貼付け（児童生徒）'!AP$3:AP$279,$D6)","v":0},{"$f":"COUNTIFS('データ貼付け（児童生徒）'!AQ$3:AQ$279,$D6)","v":0},{"$f":"COUNTIFS('データ貼付け（児童生徒）'!AR$3:AR$279,$D6)","v":0},{"$f":"COUNTIFS('データ貼付け（児童生徒）'!AS$3:AS$279,$D6)","v":0},{"$f":"COUNTIFS('データ貼付け（児童生徒）'!AT$3:AT$279,$D6)","v":0},{"$f":"COUNTIFS('データ貼付け（児童生徒）'!AU$3:AU$279,$D6)","v":0},{"$f":"COUNTIFS('データ貼付け（児童生徒）'!AV$3:AV$279,$D6)","v":0},{"$f":"COUNTIFS('データ貼付け（児童生徒）'!AW$3:AW$279,$D6)","v":0},{"$f":"COUNTIFS('データ貼付け（児童生徒）'!AX$3:AX$279,$D6)","v":0},{"$f":"COUNTIFS('データ貼付け（児童生徒）'!AY$3:AY$279,$D6)","v":0},{"$f":"COUNTIFS('データ貼付け（児童生徒）'!AZ$3:AZ$279,$D6)","v":0},{"$f":"COUNTIFS('データ貼付け（児童生徒）'!BA$3:BA$279,$D6)","v":0},{"$f":"COUNTIFS('データ貼付け（児童生徒）'!BB$3:BB$279,$D6)","v":0},{"$f":"COUNTIFS('データ貼付け（児童生徒）'!BC$3:BC$279,$D6)","v":0},{"$f":"COUNTIFS('データ貼付け（児童生徒）'!BD$3:BD$279,$D6)","v":0},{"$f":"COUNTIFS('データ貼付け（児童生徒）'!BE$3:BE$279,$D6)","v":0},{"$f":"COUNTIFS('データ貼付け（児童生徒）'!BF$3:BF$279,$D6)","v":0},{"$f":"COUNTIFS('データ貼付け（児童生徒）'!BG$3:BG$279,$D6)","v":0},{"$f":"COUNTIFS('データ貼付け（児童生徒）'!BH$3:BH$279,$D6)","v":0},{"$f":"COUNTIFS('データ貼付け（児童生徒）'!BI$3:BI$279,$D6)","v":0},{"$f":"COUNTIFS('データ貼付け（児童生徒）'!BJ$3:BJ$279,$D6)","v":0},{"$f":"COUNTIFS('データ貼付け（児童生徒）'!BK$3:BK$279,$D6)","v":0},{"$f":"COUNTIFS('データ貼付け（児童生徒）'!BL$3:BL$279,$D6)","v":0},{"$f":"COUNTIFS('データ貼付け（児童生徒）'!BM$3:BM$279,$D6)","v":0},{"$f":"COUNTIFS('データ貼付け（児童生徒）'!BN$3:BN$279,$D6)","v":0},{"$f":"COUNTIFS('データ貼付け（児童生徒）'!BO$3:BO$279,$D6)","v":0},{"$f":"COUNTIFS('データ貼付け（児童生徒）'!BP$3:BP$279,$D6)","v":0},{"$f":"COUNTIFS('データ貼付け（児童生徒）'!BQ$3:BQ$279,$D6)","v":0},{"$f":"COUNTIFS('データ貼付け（児童生徒）'!BR$3:BR$279,$D6)","v":0},{"$f":"COUNTIFS('データ貼付け（児童生徒）'!BS$3:BS$279,$D6)","v":0},{"$f":"COUNTIFS('データ貼付け（児童生徒）'!BT$3:BT$279,$D6)","v":0},{"$f":"COUNTIFS('データ貼付け（児童生徒）'!BU$3:BU$279,$D6)","v":0},{"$f":"COUNTIFS('データ貼付け（児童生徒）'!BV$3:BV$279,$D6)","v":0},{"$f":"COUNTIFS('データ貼付け（児童生徒）'!BW$3:BW$279,$D6)","v":0},{"$f":"COUNTIFS('データ貼付け（児童生徒）'!BX$3:BX$279,$D6)","v":0},{"$f":"COUNTIFS('データ貼付け（児童生徒）'!BY$3:BY$279,$D6)","v":0},{"$f":"COUNTIFS('データ貼付け（児童生徒）'!BZ$3:BZ$279,$D6)","v":0},{"$f":"COUNTIFS('データ貼付け（児童生徒）'!CA$3:CA$279,$D6)","v":0},{"$f":"COUNTIFS('データ貼付け（児童生徒）'!CB$3:CB$279,$D6)","v":0}]
[null,null,null,5,{"$f":"COUNTIFS('データ貼付け（児童生徒）'!E$3:E$279,$D7)","v":0},{"$f":"COUNTIFS('データ貼付け（児童生徒）'!F$3:F$279,$D7)","v":0},{"$f":"COUNTIFS('データ貼付け（児童生徒）'!G$3:G$279,$D7)","v":0},{"$f":"COUNTIFS('データ貼付け（児童生徒）'!H$3:H$279,$D7)","v":0},{"$f":"COUNTIFS('データ貼付け（児童生徒）'!I$3:I$279,$D7)","v":0},{"$f":"COUNTIFS('データ貼付け（児童生徒）'!J$3:J$279,$D7)","v":0},{"$f":"COUNTIFS('データ貼付け（児童生徒）'!K$3:K$279,$D7)","v":0},{"$f":"COUNTIFS('データ貼付け（児童生徒）'!L$3:L$279,$D7)","v":0},{"$f":"COUNTIFS('データ貼付け（児童生徒）'!M$3:M$279,$D7)","v":0},{"$f":"COUNTIFS('データ貼付け（児童生徒）'!N$3:N$279,$D7)","v":0},{"$f":"COUNTIFS('データ貼付け（児童生徒）'!O$3:O$279,$D7)","v":0},{"$f":"COUNTIFS('データ貼付け（児童生徒）'!P$3:P$279,$D7)","v":0},{"$f":"COUNTIFS('データ貼付け（児童生徒）'!Q$3:Q$279,$D7)","v":0},{"$f":"COUNTIFS('データ貼付け（児童生徒）'!R$3:R$279,$D7)","v":0},{"$f":"COUNTIFS('データ貼付け（児童生徒）'!S$3:S$279,$D7)","v":0},{"$f":"COUNTIFS('データ貼付け（児童生徒）'!T$3:T$279,$D7)","v":0},{"$f":"COUNTIFS('データ貼付け（児童生徒）'!U$3:U$279,$D7)","v":0},{"$f":"COUNTIFS('データ貼付け（児童生徒）'!V$3:V$279,$D7)","v":0},{"$f":"COUNTIFS('データ貼付け（児童生徒）'!W$3:W$279,$D7)","v":0},{"$f":"COUNTIFS('データ貼付け（児童生徒）'!X$3:X$279,$D7)","v":0},{"$f":"COUNTIFS('データ貼付け（児童生徒）'!Y$3:Y$279,$D7)","v":0},{"$f":"COUNTIFS('データ貼付け（児童生徒）'!Z$3:Z$279,$D7)","v":0},{"$f":"COUNTIFS('データ貼付け（児童生徒）'!AA$3:AA$279,$D7)","v":0},{"$f":"COUNTIFS('データ貼付け（児童生徒）'!AB$3:AB$279,$D7)","v":0},{"$f":"COUNTIFS('データ貼付け（児童生徒）'!AC$3:AC$279,$D7)","v":0},{"$f":"COUNTIFS('データ貼付け（児童生徒）'!AD$3:AD$279,$D7)","v":0},{"$f":"COUNTIFS('データ貼付け（児童生徒）'!AE$3:AE$279,$D7)","v":0},{"$f":"COUNTIFS('データ貼付け（児童生徒）'!AF$3:AF$279,$D7)","v":0},{"$f":"COUNTIFS('データ貼付け（児童生徒）'!AG$3:AG$279,$D7)","v":0},{"$f":"COUNTIFS('データ貼付け（児童生徒）'!AH$3:AH$279,$D7)","v":0},{"$f":"COUNTIFS('データ貼付け（児童生徒）'!AI$3:AI$279,$D7)","v":0},{"$f":"COUNTIFS('データ貼付け（児童生徒）'!AJ$3:AJ$279,$D7)","v":0},{"$f":"COUNTIFS('データ貼付け（児童生徒）'!AK$3:AK$279,$D7)","v":0},{"$f":"COUNTIFS('データ貼付け（児童生徒）'!AL$3:AL$279,$D7)","v":0},{"$f":"COUNTIFS('データ貼付け（児童生徒）'!AM$3:AM$279,$D7)","v":0},{"$f":"COUNTIFS('データ貼付け（児童生徒）'!AN$3:AN$279,$D7)","v":0},{"$f":"COUNTIFS('データ貼付け（児童生徒）'!AO$3:AO$279,$D7)","v":0},{"$f":"COUNTIFS('データ貼付け（児童生徒）'!AP$3:AP$279,$D7)","v":0},{"$f":"COUNTIFS('データ貼付け（児童生徒）'!AQ$3:AQ$279,$D7)","v":0},{"$f":"COUNTIFS('データ貼付け（児童生徒）'!AR$3:AR$279,$D7)","v":0},{"$f":"COUNTIFS('データ貼付け（児童生徒）'!AS$3:AS$279,$D7)","v":0},{"$f":"COUNTIFS('データ貼付け（児童生徒）'!AT$3:AT$279,$D7)","v":0},{"$f":"COUNTIFS('データ貼付け（児童生徒）'!AU$3:AU$279,$D7)","v":0},{"$f":"COUNTIFS('データ貼付け（児童生徒）'!AV$3:AV$279,$D7)","v":0},{"$f":"COUNTIFS('データ貼付け（児童生徒）'!AW$3:AW$279,$D7)","v":0},{"$f":"COUNTIFS('データ貼付け（児童生徒）'!AX$3:AX$279,$D7)","v":0},{"$f":"COUNTIFS('データ貼付け（児童生徒）'!AY$3:AY$279,$D7)","v":0},{"$f":"COUNTIFS('データ貼付け（児童生徒）'!AZ$3:AZ$279,$D7)","v":0},{"$f":"COUNTIFS('データ貼付け（児童生徒）'!BA$3:BA$279,$D7)","v":0},{"$f":"COUNTIFS('データ貼付け（児童生徒）'!BB$3:BB$279,$D7)","v":0},{"$f":"COUNTIFS('データ貼付け（児童生徒）'!BC$3:BC$279,$D7)","v":0},{"$f":"COUNTIFS('データ貼付け（児童生徒）'!BD$3:BD$279,$D7)","v":0},{"$f":"COUNTIFS('データ貼付け（児童生徒）'!BE$3:BE$279,$D7)","v":0},{"$f":"COUNTIFS('データ貼付け（児童生徒）'!BF$3:BF$279,$D7)","v":0},{"$f":"COUNTIFS('データ貼付け（児童生徒）'!BG$3:BG$279,$D7)","v":0},{"$f":"COUNTIFS('データ貼付け（児童生徒）'!BH$3:BH$279,$D7)","v":0},{"$f":"COUNTIFS('データ貼付け（児童生徒）'!BI$3:BI$279,$D7)","v":0},{"$f":"COUNTIFS('データ貼付け（児童生徒）'!BJ$3:BJ$279,$D7)","v":0},{"$f":"COUNTIFS('データ貼付け（児童生徒）'!BK$3:BK$279,$D7)","v":0},{"$f":"COUNTIFS('データ貼付け（児童生徒）'!BL$3:BL$279,$D7)","v":0},{"$f":"COUNTIFS('データ貼付け（児童生徒）'!BM$3:BM$279,$D7)","v":0},{"$f":"COUNTIFS('データ貼付け（児童生徒）'!BN$3:BN$279,$D7)","v":0},{"$f":"COUNTIFS('データ貼付け（児童生徒）'!BO$3:BO$279,$D7)","v":0},{"$f":"COUNTIFS('データ貼付け（児童生徒）'!BP$3:BP$279,$D7)","v":0},{"$f":"COUNTIFS('データ貼付け（児童生徒）'!BQ$3:BQ$279,$D7)","v":0},{"$f":"COUNTIFS('データ貼付け（児童生徒）'!BR$3:BR$279,$D7)","v":0},{"$f":"COUNTIFS('データ貼付け（児童生徒）'!BS$3:BS$279,$D7)","v":0},{"$f":"COUNTIFS('データ貼付け（児童生徒）'!BT$3:BT$279,$D7)","v":0},{"$f":"COUNTIFS('データ貼付け（児童生徒）'!BU$3:BU$279,$D7)","v":0},{"$f":"COUNTIFS('データ貼付け（児童生徒）'!BV$3:BV$279,$D7)","v":0},{"$f":"COUNTIFS('データ貼付け（児童生徒）'!BW$3:BW$279,$D7)","v":0},{"$f":"COUNTIFS('データ貼付け（児童生徒）'!BX$3:BX$279,$D7)","v":0},{"$f":"COUNTIFS('データ貼付け（児童生徒）'!BY$3:BY$279,$D7)","v":0},{"$f":"COUNTIFS('データ貼付け（児童生徒）'!BZ$3:BZ$279,$D7)","v":0},{"$f":"COUNTIFS('データ貼付け（児童生徒）'!CA$3:CA$279,$D7)","v":0},{"$f":"COUNTIFS('データ貼付け（児童生徒）'!CB$3:CB$279,$D7)","v":0}]
[null,null,null,6,{"$f":"COUNTIFS('データ貼付け（児童生徒）'!E$3:E$279,$D8)","v":0},{"$f":"COUNTIFS('データ貼付け（児童生徒）'!F$3:F$279,$D8)","v":0},{"$f":"COUNTIFS('データ貼付け（児童生徒）'!G$3:G$279,$D8)","v":0},{"$f":"COUNTIFS('データ貼付け（児童生徒）'!H$3:H$279,$D8)","v":0},{"$f":"COUNTIFS('データ貼付け（児童生徒）'!I$3:I$279,$D8)","v":0},{"$f":"COUNTIFS('データ貼付け（児童生徒）'!J$3:J$279,$D8)","v":0},{"$f":"COUNTIFS('データ貼付け（児童生徒）'!K$3:K$279,$D8)","v":0},{"$f":"COUNTIFS('データ貼付け（児童生徒）'!L$3:L$279,$D8)","v":0},{"$f":"COUNTIFS('データ貼付け（児童生徒）'!M$3:M$279,$D8)","v":0},{"$f":"COUNTIFS('データ貼付け（児童生徒）'!N$3:N$279,$D8)","v":0},{"$f":"COUNTIFS('データ貼付け（児童生徒）'!O$3:O$279,$D8)","v":0},{"$f":"COUNTIFS('データ貼付け（児童生徒）'!P$3:P$279,$D8)","v":0},{"$f":"COUNTIFS('データ貼付け（児童生徒）'!Q$3:Q$279,$D8)","v":0},{"$f":"COUNTIFS('データ貼付け（児童生徒）'!R$3:R$279,$D8)","v":0},{"$f":"COUNTIFS('データ貼付け（児童生徒）'!S$3:S$279,$D8)","v":0},{"$f":"COUNTIFS('データ貼付け（児童生徒）'!T$3:T$279,$D8)","v":0},{"$f":"COUNTIFS('データ貼付け（児童生徒）'!U$3:U$279,$D8)","v":0},{"$f":"COUNTIFS('データ貼付け（児童生徒）'!V$3:V$279,$D8)","v":0},{"$f":"COUNTIFS('データ貼付け（児童生徒）'!W$3:W$279,$D8)","v":0},{"$f":"COUNTIFS('データ貼付け（児童生徒）'!X$3:X$279,$D8)","v":0},{"$f":"COUNTIFS('データ貼付け（児童生徒）'!Y$3:Y$279,$D8)","v":0},{"$f":"COUNTIFS('データ貼付け（児童生徒）'!Z$3:Z$279,$D8)","v":0},{"$f":"COUNTIFS('データ貼付け（児童生徒）'!AA$3:AA$279,$D8)","v":0},{"$f":"COUNTIFS('データ貼付け（児童生徒）'!AB$3:AB$279,$D8)","v":0},{"$f":"COUNTIFS('データ貼付け（児童生徒）'!AC$3:AC$279,$D8)","v":0},{"$f":"COUNTIFS('データ貼付け（児童生徒）'!AD$3:AD$279,$D8)","v":0},{"$f":"COUNTIFS('データ貼付け（児童生徒）'!AE$3:AE$279,$D8)","v":0},{"$f":"COUNTIFS('データ貼付け（児童生徒）'!AF$3:AF$279,$D8)","v":0},{"$f":"COUNTIFS('データ貼付け（児童生徒）'!AG$3:AG$279,$D8)","v":0},{"$f":"COUNTIFS('データ貼付け（児童生徒）'!AH$3:AH$279,$D8)","v":0},{"$f":"COUNTIFS('データ貼付け（児童生徒）'!AI$3:AI$279,$D8)","v":0},{"$f":"COUNTIFS('データ貼付け（児童生徒）'!AJ$3:AJ$279,$D8)","v":0},{"$f":"COUNTIFS('データ貼付け（児童生徒）'!AK$3:AK$279,$D8)","v":0},{"$f":"COUNTIFS('データ貼付け（児童生徒）'!AL$3:AL$279,$D8)","v":0},{"$f":"COUNTIFS('データ貼付け（児童生徒）'!AM$3:AM$279,$D8)","v":0},{"$f":"COUNTIFS('データ貼付け（児童生徒）'!AN$3:AN$279,$D8)","v":0},{"$f":"COUNTIFS('データ貼付け（児童生徒）'!AO$3:AO$279,$D8)","v":0},{"$f":"COUNTIFS('データ貼付け（児童生徒）'!AP$3:AP$279,$D8)","v":0},{"$f":"COUNTIFS('データ貼付け（児童生徒）'!AQ$3:AQ$279,$D8)","v":0},{"$f":"COUNTIFS('データ貼付け（児童生徒）'!AR$3:AR$279,$D8)","v":0},{"$f":"COUNTIFS('データ貼付け（児童生徒）'!AS$3:AS$279,$D8)","v":0},{"$f":"COUNTIFS('データ貼付け（児童生徒）'!AT$3:AT$279,$D8)","v":0},{"$f":"COUNTIFS('データ貼付け（児童生徒）'!AU$3:AU$279,$D8)","v":0},{"$f":"COUNTIFS('データ貼付け（児童生徒）'!AV$3:AV$279,$D8)","v":0},{"$f":"COUNTIFS('データ貼付け（児童生徒）'!AW$3:AW$279,$D8)","v":0},{"$f":"COUNTIFS('データ貼付け（児童生徒）'!AX$3:AX$279,$D8)","v":0},{"$f":"COUNTIFS('データ貼付け（児童生徒）'!AY$3:AY$279,$D8)","v":0},{"$f":"COUNTIFS('データ貼付け（児童生徒）'!AZ$3:AZ$279,$D8)","v":0},{"$f":"COUNTIFS('データ貼付け（児童生徒）'!BA$3:BA$279,$D8)","v":0},{"$f":"COUNTIFS('データ貼付け（児童生徒）'!BB$3:BB$279,$D8)","v":0},{"$f":"COUNTIFS('データ貼付け（児童生徒）'!BC$3:BC$279,$D8)","v":0},{"$f":"COUNTIFS('データ貼付け（児童生徒）'!BD$3:BD$279,$D8)","v":0},{"$f":"COUNTIFS('データ貼付け（児童生徒）'!BE$3:BE$279,$D8)","v":0},{"$f":"COUNTIFS('データ貼付け（児童生徒）'!BF$3:BF$279,$D8)","v":0},{"$f":"COUNTIFS('データ貼付け（児童生徒）'!BG$3:BG$279,$D8)","v":0},{"$f":"COUNTIFS('データ貼付け（児童生徒）'!BH$3:BH$279,$D8)","v":0},{"$f":"COUNTIFS('データ貼付け（児童生徒）'!BI$3:BI$279,$D8)","v":0},{"$f":"COUNTIFS('データ貼付け（児童生徒）'!BJ$3:BJ$279,$D8)","v":0},{"$f":"COUNTIFS('データ貼付け（児童生徒）'!BK$3:BK$279,$D8)","v":0},{"$f":"COUNTIFS('データ貼付け（児童生徒）'!BL$3:BL$279,$D8)","v":0},{"$f":"COUNTIFS('データ貼付け（児童生徒）'!BM$3:BM$279,$D8)","v":0},{"$f":"COUNTIFS('データ貼付け（児童生徒）'!BN$3:BN$279,$D8)","v":0},{"$f":"COUNTIFS('データ貼付け（児童生徒）'!BO$3:BO$279,$D8)","v":0},{"$f":"COUNTIFS('データ貼付け（児童生徒）'!BP$3:BP$279,$D8)","v":0},{"$f":"COUNTIFS('データ貼付け（児童生徒）'!BQ$3:BQ$279,$D8)","v":0},{"$f":"COUNTIFS('データ貼付け（児童生徒）'!BR$3:BR$279,$D8)","v":0},{"$f":"COUNTIFS('データ貼付け（児童生徒）'!BS$3:BS$279,$D8)","v":0},{"$f":"COUNTIFS('データ貼付け（児童生徒）'!BT$3:BT$279,$D8)","v":0},{"$f":"COUNTIFS('データ貼付け（児童生徒）'!BU$3:BU$279,$D8)","v":0},{"$f":"COUNTIFS('データ貼付け（児童生徒）'!BV$3:BV$279,$D8)","v":0},{"$f":"COUNTIFS('データ貼付け（児童生徒）'!BW$3:BW$279,$D8)","v":0},{"$f":"COUNTIFS('データ貼付け（児童生徒）'!BX$3:BX$279,$D8)","v":0},{"$f":"COUNTIFS('データ貼付け（児童生徒）'!BY$3:BY$279,$D8)","v":0},{"$f":"COUNTIFS('データ貼付け（児童生徒）'!BZ$3:BZ$279,$D8)","v":0},{"$f":"COUNTIFS('データ貼付け（児童生徒）'!CA$3:CA$279,$D8)","v":0},{"$f":"COUNTIFS('データ貼付け（児童生徒）'!CB$3:CB$279,$D8)","v":0}]
[null,null,null,7,{"$f":"COUNTIFS('データ貼付け（児童生徒）'!E$3:E$279,$D9)","v":0},{"$f":"COUNTIFS('データ貼付け（児童生徒）'!F$3:F$279,$D9)","v":0},{"$f":"COUNTIFS('データ貼付け（児童生徒）'!G$3:G$279,$D9)","v":0},{"$f":"COUNTIFS('データ貼付け（児童生徒）'!H$3:H$279,$D9)","v":0},{"$f":"COUNTIFS('データ貼付け（児童生徒）'!I$3:I$279,$D9)","v":0},{"$f":"COUNTIFS('データ貼付け（児童生徒）'!J$3:J$279,$D9)","v":0},{"$f":"COUNTIFS('データ貼付け（児童生徒）'!K$3:K$279,$D9)","v":0},{"$f":"COUNTIFS('データ貼付け（児童生徒）'!L$3:L$279,$D9)","v":0},{"$f":"COUNTIFS('データ貼付け（児童生徒）'!M$3:M$279,$D9)","v":0},{"$f":"COUNTIFS('データ貼付け（児童生徒）'!N$3:N$279,$D9)","v":0},{"$f":"COUNTIFS('データ貼付け（児童生徒）'!O$3:O$279,$D9)","v":0},{"$f":"COUNTIFS('データ貼付け（児童生徒）'!P$3:P$279,$D9)","v":0},{"$f":"COUNTIFS('データ貼付け（児童生徒）'!Q$3:Q$279,$D9)","v":0},{"$f":"COUNTIFS('データ貼付け（児童生徒）'!R$3:R$279,$D9)","v":0},{"$f":"COUNTIFS('データ貼付け（児童生徒）'!S$3:S$279,$D9)","v":0},{"$f":"COUNTIFS('データ貼付け（児童生徒）'!T$3:T$279,$D9)","v":0},{"$f":"COUNTIFS('データ貼付け（児童生徒）'!U$3:U$279,$D9)","v":0},{"$f":"COUNTIFS('データ貼付け（児童生徒）'!V$3:V$279,$D9)","v":0},{"$f":"COUNTIFS('データ貼付け（児童生徒）'!W$3:W$279,$D9)","v":0},{"$f":"COUNTIFS('データ貼付け（児童生徒）'!X$3:X$279,$D9)","v":0},{"$f":"COUNTIFS('データ貼付け（児童生徒）'!Y$3:Y$279,$D9)","v":0},{"$f":"COUNTIFS('データ貼付け（児童生徒）'!Z$3:Z$279,$D9)","v":0},{"$f":"COUNTIFS('データ貼付け（児童生徒）'!AA$3:AA$279,$D9)","v":0},{"$f":"COUNTIFS('データ貼付け（児童生徒）'!AB$3:AB$279,$D9)","v":0},{"$f":"COUNTIFS('データ貼付け（児童生徒）'!AC$3:AC$279,$D9)","v":0},{"$f":"COUNTIFS('データ貼付け（児童生徒）'!AD$3:AD$279,$D9)","v":0},{"$f":"COUNTIFS('データ貼付け（児童生徒）'!AE$3:AE$279,$D9)","v":0},{"$f":"COUNTIFS('データ貼付け（児童生徒）'!AF$3:AF$279,$D9)","v":0},{"$f":"COUNTIFS('データ貼付け（児童生徒）'!AG$3:AG$279,$D9)","v":0},{"$f":"COUNTIFS('データ貼付け（児童生徒）'!AH$3:AH$279,$D9)","v":0},{"$f":"COUNTIFS('データ貼付け（児童生徒）'!AI$3:AI$279,$D9)","v":0},{"$f":"COUNTIFS('データ貼付け（児童生徒）'!AJ$3:AJ$279,$D9)","v":0},{"$f":"COUNTIFS('データ貼付け（児童生徒）'!AK$3:AK$279,$D9)","v":0},{"$f":"COUNTIFS('データ貼付け（児童生徒）'!AL$3:AL$279,$D9)","v":0},{"$f":"COUNTIFS('データ貼付け（児童生徒）'!AM$3:AM$279,$D9)","v":0},{"$f":"COUNTIFS('データ貼付け（児童生徒）'!AN$3:AN$279,$D9)","v":0},{"$f":"COUNTIFS('データ貼付け（児童生徒）'!AO$3:AO$279,$D9)","v":0},{"$f":"COUNTIFS('データ貼付け（児童生徒）'!AP$3:AP$279,$D9)","v":0},{"$f":"COUNTIFS('データ貼付け（児童生徒）'!AQ$3:AQ$279,$D9)","v":0},{"$f":"COUNTIFS('データ貼付け（児童生徒）'!AR$3:AR$279,$D9)","v":0},{"$f":"COUNTIFS('データ貼付け（児童生徒）'!AS$3:AS$279,$D9)","v":0},{"$f":"COUNTIFS('データ貼付け（児童生徒）'!AT$3:AT$279,$D9)","v":0},{"$f":"COUNTIFS('データ貼付け（児童生徒）'!AU$3:AU$279,$D9)","v":0},{"$f":"COUNTIFS('データ貼付け（児童生徒）'!AV$3:AV$279,$D9)","v":0},{"$f":"COUNTIFS('データ貼付け（児童生徒）'!AW$3:AW$279,$D9)","v":0},{"$f":"COUNTIFS('データ貼付け（児童生徒）'!AX$3:AX$279,$D9)","v":0},{"$f":"COUNTIFS('データ貼付け（児童生徒）'!AY$3:AY$279,$D9)","v":0},{"$f":"COUNTIFS('データ貼付け（児童生徒）'!AZ$3:AZ$279,$D9)","v":0},{"$f":"COUNTIFS('データ貼付け（児童生徒）'!BA$3:BA$279,$D9)","v":0},{"$f":"COUNTIFS('データ貼付け（児童生徒）'!BB$3:BB$279,$D9)","v":0},{"$f":"COUNTIFS('データ貼付け（児童生徒）'!BC$3:BC$279,$D9)","v":0},{"$f":"COUNTIFS('データ貼付け（児童生徒）'!BD$3:BD$279,$D9)","v":0},{"$f":"COUNTIFS('データ貼付け（児童生徒）'!BE$3:BE$279,$D9)","v":0},{"$f":"COUNTIFS('データ貼付け（児童生徒）'!BF$3:BF$279,$D9)","v":0},{"$f":"COUNTIFS('データ貼付け（児童生徒）'!BG$3:BG$279,$D9)","v":0},{"$f":"COUNTIFS('データ貼付け（児童生徒）'!BH$3:BH$279,$D9)","v":0},{"$f":"COUNTIFS('データ貼付け（児童生徒）'!BI$3:BI$279,$D9)","v":0},{"$f":"COUNTIFS('データ貼付け（児童生徒）'!BJ$3:BJ$279,$D9)","v":0},{"$f":"COUNTIFS('データ貼付け（児童生徒）'!BK$3:BK$279,$D9)","v":0},{"$f":"COUNTIFS('データ貼付け（児童生徒）'!BL$3:BL$279,$D9)","v":0},{"$f":"COUNTIFS('データ貼付け（児童生徒）'!BM$3:BM$279,$D9)","v":0},{"$f":"COUNTIFS('データ貼付け（児童生徒）'!BN$3:BN$279,$D9)","v":0},{"$f":"COUNTIFS('データ貼付け（児童生徒）'!BO$3:BO$279,$D9)","v":0},{"$f":"COUNTIFS('データ貼付け（児童生徒）'!BP$3:BP$279,$D9)","v":0},{"$f":"COUNTIFS('データ貼付け（児童生徒）'!BQ$3:BQ$279,$D9)","v":0},{"$f":"COUNTIFS('データ貼付け（児童生徒）'!BR$3:BR$279,$D9)","v":0},{"$f":"COUNTIFS('データ貼付け（児童生徒）'!BS$3:BS$279,$D9)","v":0},{"$f":"COUNTIFS('データ貼付け（児童生徒）'!BT$3:BT$279,$D9)","v":0},{"$f":"COUNTIFS('データ貼付け（児童生徒）'!BU$3:BU$279,$D9)","v":0},{"$f":"COUNTIFS('データ貼付け（児童生徒）'!BV$3:BV$279,$D9)","v":0},{"$f":"COUNTIFS('データ貼付け（児童生徒）'!BW$3:BW$279,$D9)","v":0},{"$f":"COUNTIFS('データ貼付け（児童生徒）'!BX$3:BX$279,$D9)","v":0},{"$f":"COUNTIFS('データ貼付け（児童生徒）'!BY$3:BY$279,$D9)","v":0},{"$f":"COUNTIFS('データ貼付け（児童生徒）'!BZ$3:BZ$279,$D9)","v":0},{"$f":"COUNTIFS('データ貼付け（児童生徒）'!CA$3:CA$279,$D9)","v":0},{"$f":"COUNTIFS('データ貼付け（児童生徒）'!CB$3:CB$279,$D9)","v":0}]
[null,null,null,8,{"$f":"COUNTIFS('データ貼付け（児童生徒）'!E$3:E$279,$D10)","v":0},{"$f":"COUNTIFS('データ貼付け（児童生徒）'!F$3:F$279,$D10)","v":0},{"$f":"COUNTIFS('データ貼付け（児童生徒）'!G$3:G$279,$D10)","v":0},{"$f":"COUNTIFS('データ貼付け（児童生徒）'!H$3:H$279,$D10)","v":0},{"$f":"COUNTIFS('データ貼付け（児童生徒）'!I$3:I$279,$D10)","v":0},{"$f":"COUNTIFS('データ貼付け（児童生徒）'!J$3:J$279,$D10)","v":0},{"$f":"COUNTIFS('データ貼付け（児童生徒）'!K$3:K$279,$D10)","v":0},{"$f":"COUNTIFS('データ貼付け（児童生徒）'!L$3:L$279,$D10)","v":0},{"$f":"COUNTIFS('データ貼付け（児童生徒）'!M$3:M$279,$D10)","v":0},{"$f":"COUNTIFS('データ貼付け（児童生徒）'!N$3:N$279,$D10)","v":0},{"$f":"COUNTIFS('データ貼付け（児童生徒）'!O$3:O$279,$D10)","v":0},{"$f":"COUNTIFS('データ貼付け（児童生徒）'!P$3:P$279,$D10)","v":0},{"$f":"COUNTIFS('データ貼付け（児童生徒）'!Q$3:Q$279,$D10)","v":0},{"$f":"COUNTIFS('データ貼付け（児童生徒）'!R$3:R$279,$D10)","v":0},{"$f":"COUNTIFS('データ貼付け（児童生徒）'!S$3:S$279,$D10)","v":0},{"$f":"COUNTIFS('データ貼付け（児童生徒）'!T$3:T$279,$D10)","v":0},{"$f":"COUNTIFS('データ貼付け（児童生徒）'!U$3:U$279,$D10)","v":0},{"$f":"COUNTIFS('データ貼付け（児童生徒）'!V$3:V$279,$D10)","v":0},{"$f":"COUNTIFS('データ貼付け（児童生徒）'!W$3:W$279,$D10)","v":0},{"$f":"COUNTIFS('データ貼付け（児童生徒）'!X$3:X$279,$D10)","v":0},{"$f":"COUNTIFS('データ貼付け（児童生徒）'!Y$3:Y$279,$D10)","v":0},{"$f":"COUNTIFS('データ貼付け（児童生徒）'!Z$3:Z$279,$D10)","v":0},{"$f":"COUNTIFS('データ貼付け（児童生徒）'!AA$3:AA$279,$D10)","v":0},{"$f":"COUNTIFS('データ貼付け（児童生徒）'!AB$3:AB$279,$D10)","v":0},{"$f":"COUNTIFS('データ貼付け（児童生徒）'!AC$3:AC$279,$D10)","v":0},{"$f":"COUNTIFS('データ貼付け（児童生徒）'!AD$3:AD$279,$D10)","v":0},{"$f":"COUNTIFS('データ貼付け（児童生徒）'!AE$3:AE$279,$D10)","v":0},{"$f":"COUNTIFS('データ貼付け（児童生徒）'!AF$3:AF$279,$D10)","v":0},{"$f":"COUNTIFS('データ貼付け（児童生徒）'!AG$3:AG$279,$D10)","v":0},{"$f":"COUNTIFS('データ貼付け（児童生徒）'!AH$3:AH$279,$D10)","v":0},{"$f":"COUNTIFS('データ貼付け（児童生徒）'!AI$3:AI$279,$D10)","v":0},{"$f":"COUNTIFS('データ貼付け（児童生徒）'!AJ$3:AJ$279,$D10)","v":0},{"$f":"COUNTIFS('データ貼付け（児童生徒）'!AK$3:AK$279,$D10)","v":0},{"$f":"COUNTIFS('データ貼付け（児童生徒）'!AL$3:AL$279,$D10)","v":0},{"$f":"COUNTIFS('データ貼付け（児童生徒）'!AM$3:AM$279,$D10)","v":0},{"$f":"COUNTIFS('データ貼付け（児童生徒）'!AN$3:AN$279,$D10)","v":0},{"$f":"COUNTIFS('データ貼付け（児童生徒）'!AO$3:AO$279,$D10)","v":0},{"$f":"COUNTIFS('データ貼付け（児童生徒）'!AP$3:AP$279,$D10)","v":0},{"$f":"COUNTIFS('データ貼付け（児童生徒）'!AQ$3:AQ$279,$D10)","v":0},{"$f":"COUNTIFS('データ貼付け（児童生徒）'!AR$3:AR$279,$D10)","v":0},{"$f":"COUNTIFS('データ貼付け（児童生徒）'!AS$3:AS$279,$D10)","v":0},{"$f":"COUNTIFS('データ貼付け（児童生徒）'!AT$3:AT$279,$D10)","v":0},{"$f":"COUNTIFS('データ貼付け（児童生徒）'!AU$3:AU$279,$D10)","v":0},{"$f":"COUNTIFS('データ貼付け（児童生徒）'!AV$3:AV$279,$D10)","v":0},{"$f":"COUNTIFS('データ貼付け（児童生徒）'!AW$3:AW$279,$D10)","v":0},{"$f":"COUNTIFS('データ貼付け（児童生徒）'!AX$3:AX$279,$D10)","v":0},{"$f":"COUNTIFS('データ貼付け（児童生徒）'!AY$3:AY$279,$D10)","v":0},{"$f":"COUNTIFS('データ貼付け（児童生徒）'!AZ$3:AZ$279,$D10)","v":0},{"$f":"COUNTIFS('データ貼付け（児童生徒）'!BA$3:BA$279,$D10)","v":0},{"$f":"COUNTIFS('データ貼付け（児童生徒）'!BB$3:BB$279,$D10)","v":0},{"$f":"COUNTIFS('データ貼付け（児童生徒）'!BC$3:BC$279,$D10)","v":0},{"$f":"COUNTIFS('データ貼付け（児童生徒）'!BD$3:BD$279,$D10)","v":0},{"$f":"COUNTIFS('データ貼付け（児童生徒）'!BE$3:BE$279,$D10)","v":0},{"$f":"COUNTIFS('データ貼付け（児童生徒）'!BF$3:BF$279,$D10)","v":0},{"$f":"COUNTIFS('データ貼付け（児童生徒）'!BG$3:BG$279,$D10)","v":0},{"$f":"COUNTIFS('データ貼付け（児童生徒）'!BH$3:BH$279,$D10)","v":0},{"$f":"COUNTIFS('データ貼付け（児童生徒）'!BI$3:BI$279,$D10)","v":0},{"$f":"COUNTIFS('データ貼付け（児童生徒）'!BJ$3:BJ$279,$D10)","v":0},{"$f":"COUNTIFS('データ貼付け（児童生徒）'!BK$3:BK$279,$D10)","v":0},{"$f":"COUNTIFS('データ貼付け（児童生徒）'!BL$3:BL$279,$D10)","v":0},{"$f":"COUNTIFS('データ貼付け（児童生徒）'!BM$3:BM$279,$D10)","v":0},{"$f":"COUNTIFS('データ貼付け（児童生徒）'!BN$3:BN$279,$D10)","v":0},{"$f":"COUNTIFS('データ貼付け（児童生徒）'!BO$3:BO$279,$D10)","v":0},{"$f":"COUNTIFS('データ貼付け（児童生徒）'!BP$3:BP$279,$D10)","v":0},{"$f":"COUNTIFS('データ貼付け（児童生徒）'!BQ$3:BQ$279,$D10)","v":0},{"$f":"COUNTIFS('データ貼付け（児童生徒）'!BR$3:BR$279,$D10)","v":0},{"$f":"COUNTIFS('データ貼付け（児童生徒）'!BS$3:BS$279,$D10)","v":0},{"$f":"COUNTIFS('データ貼付け（児童生徒）'!BT$3:BT$279,$D10)","v":0},{"$f":"COUNTIFS('データ貼付け（児童生徒）'!BU$3:BU$279,$D10)","v":0},{"$f":"COUNTIFS('データ貼付け（児童生徒）'!BV$3:BV$279,$D10)","v":0},{"$f":"COUNTIFS('データ貼付け（児童生徒）'!BW$3:BW$279,$D10)","v":0},{"$f":"COUNTIFS('データ貼付け（児童生徒）'!BX$3:BX$279,$D10)","v":0},{"$f":"COUNTIFS('データ貼付け（児童生徒）'!BY$3:BY$279,$D10)","v":0},{"$f":"COUNTIFS('データ貼付け（児童生徒）'!BZ$3:BZ$279,$D10)","v":0},{"$f":"COUNTIFS('データ貼付け（児童生徒）'!CA$3:CA$279,$D10)","v":0},{"$f":"COUNTIFS('データ貼付け（児童生徒）'!CB$3:CB$279,$D10)","v":0}]
[null,null,null,9,{"$f":"COUNTIFS('データ貼付け（児童生徒）'!E$3:E$279,$D11)","v":0},{"$f":"COUNTIFS('データ貼付け（児童生徒）'!F$3:F$279,$D11)","v":0},{"$f":"COUNTIFS('データ貼付け（児童生徒）'!G$3:G$279,$D11)","v":0},{"$f":"COUNTIFS('データ貼付け（児童生徒）'!H$3:H$279,$D11)","v":0},{"$f":"COUNTIFS('データ貼付け（児童生徒）'!I$3:I$279,$D11)","v":0},{"$f":"COUNTIFS('データ貼付け（児童生徒）'!J$3:J$279,$D11)","v":0},{"$f":"COUNTIFS('データ貼付け（児童生徒）'!K$3:K$279,$D11)","v":0},{"$f":"COUNTIFS('データ貼付け（児童生徒）'!L$3:L$279,$D11)","v":0},{"$f":"COUNTIFS('データ貼付け（児童生徒）'!M$3:M$279,$D11)","v":0},{"$f":"COUNTIFS('データ貼付け（児童生徒）'!N$3:N$279,$D11)","v":0},{"$f":"COUNTIFS('データ貼付け（児童生徒）'!O$3:O$279,$D11)","v":0},{"$f":"COUNTIFS('データ貼付け（児童生徒）'!P$3:P$279,$D11)","v":0},{"$f":"COUNTIFS('データ貼付け（児童生徒）'!Q$3:Q$279,$D11)","v":0},{"$f":"COUNTIFS('データ貼付け（児童生徒）'!R$3:R$279,$D11)","v":0},{"$f":"COUNTIFS('データ貼付け（児童生徒）'!S$3:S$279,$D11)","v":0},{"$f":"COUNTIFS('データ貼付け（児童生徒）'!T$3:T$279,$D11)","v":0},{"$f":"COUNTIFS('データ貼付け（児童生徒）'!U$3:U$279,$D11)","v":0},{"$f":"COUNTIFS('データ貼付け（児童生徒）'!V$3:V$279,$D11)","v":0},{"$f":"COUNTIFS('データ貼付け（児童生徒）'!W$3:W$279,$D11)","v":0},{"$f":"COUNTIFS('データ貼付け（児童生徒）'!X$3:X$279,$D11)","v":0},{"$f":"COUNTIFS('データ貼付け（児童生徒）'!Y$3:Y$279,$D11)","v":0},{"$f":"COUNTIFS('データ貼付け（児童生徒）'!Z$3:Z$279,$D11)","v":0},{"$f":"COUNTIFS('データ貼付け（児童生徒）'!AA$3:AA$279,$D11)","v":0},{"$f":"COUNTIFS('データ貼付け（児童生徒）'!AB$3:AB$279,$D11)","v":0},{"$f":"COUNTIFS('データ貼付け（児童生徒）'!AC$3:AC$279,$D11)","v":0},{"$f":"COUNTIFS('データ貼付け（児童生徒）'!AD$3:AD$279,$D11)","v":0},{"$f":"COUNTIFS('データ貼付け（児童生徒）'!AE$3:AE$279,$D11)","v":0},{"$f":"COUNTIFS('データ貼付け（児童生徒）'!AF$3:AF$279,$D11)","v":0},{"$f":"COUNTIFS('データ貼付け（児童生徒）'!AG$3:AG$279,$D11)","v":0},{"$f":"COUNTIFS('データ貼付け（児童生徒）'!AH$3:AH$279,$D11)","v":0},{"$f":"COUNTIFS('データ貼付け（児童生徒）'!AI$3:AI$279,$D11)","v":0},{"$f":"COUNTIFS('データ貼付け（児童生徒）'!AJ$3:AJ$279,$D11)","v":0},{"$f":"COUNTIFS('データ貼付け（児童生徒）'!AK$3:AK$279,$D11)","v":0},{"$f":"COUNTIFS('データ貼付け（児童生徒）'!AL$3:AL$279,$D11)","v":0},{"$f":"COUNTIFS('データ貼付け（児童生徒）'!AM$3:AM$279,$D11)","v":0},{"$f":"COUNTIFS('データ貼付け（児童生徒）'!AN$3:AN$279,$D11)","v":0},{"$f":"COUNTIFS('データ貼付け（児童生徒）'!AO$3:AO$279,$D11)","v":0},{"$f":"COUNTIFS('データ貼付け（児童生徒）'!AP$3:AP$279,$D11)","v":0},{"$f":"COUNTIFS('データ貼付け（児童生徒）'!AQ$3:AQ$279,$D11)","v":0},{"$f":"COUNTIFS('データ貼付け（児童生徒）'!AR$3:AR$279,$D11)","v":0},{"$f":"COUNTIFS('データ貼付け（児童生徒）'!AS$3:AS$279,$D11)","v":0},{"$f":"COUNTIFS('データ貼付け（児童生徒）'!AT$3:AT$279,$D11)","v":0},{"$f":"COUNTIFS('データ貼付け（児童生徒）'!AU$3:AU$279,$D11)","v":0},{"$f":"COUNTIFS('データ貼付け（児童生徒）'!AV$3:AV$279,$D11)","v":0},{"$f":"COUNTIFS('データ貼付け（児童生徒）'!AW$3:AW$279,$D11)","v":0},{"$f":"COUNTIFS('データ貼付け（児童生徒）'!AX$3:AX$279,$D11)","v":0},{"$f":"COUNTIFS('データ貼付け（児童生徒）'!AY$3:AY$279,$D11)","v":0},{"$f":"COUNTIFS('データ貼付け（児童生徒）'!AZ$3:AZ$279,$D11)","v":0},{"$f":"COUNTIFS('データ貼付け（児童生徒）'!BA$3:BA$279,$D11)","v":0},{"$f":"COUNTIFS('データ貼付け（児童生徒）'!BB$3:BB$279,$D11)","v":0},{"$f":"COUNTIFS('データ貼付け（児童生徒）'!BC$3:BC$279,$D11)","v":0},{"$f":"COUNTIFS('データ貼付け（児童生徒）'!BD$3:BD$279,$D11)","v":0},{"$f":"COUNTIFS('データ貼付け（児童生徒）'!BE$3:BE$279,$D11)","v":0},{"$f":"COUNTIFS('データ貼付け（児童生徒）'!BF$3:BF$279,$D11)","v":0},{"$f":"COUNTIFS('データ貼付け（児童生徒）'!BG$3:BG$279,$D11)","v":0},{"$f":"COUNTIFS('データ貼付け（児童生徒）'!BH$3:BH$279,$D11)","v":0},{"$f":"COUNTIFS('データ貼付け（児童生徒）'!BI$3:BI$279,$D11)","v":0},{"$f":"COUNTIFS('データ貼付け（児童生徒）'!BJ$3:BJ$279,$D11)","v":0},{"$f":"COUNTIFS('データ貼付け（児童生徒）'!BK$3:BK$279,$D11)","v":0},{"$f":"COUNTIFS('データ貼付け（児童生徒）'!BL$3:BL$279,$D11)","v":0},{"$f":"COUNTIFS('データ貼付け（児童生徒）'!BM$3:BM$279,$D11)","v":0},{"$f":"COUNTIFS('データ貼付け（児童生徒）'!BN$3:BN$279,$D11)","v":0},{"$f":"COUNTIFS('データ貼付け（児童生徒）'!BO$3:BO$279,$D11)","v":0},{"$f":"COUNTIFS('データ貼付け（児童生徒）'!BP$3:BP$279,$D11)","v":0},{"$f":"COUNTIFS('データ貼付け（児童生徒）'!BQ$3:BQ$279,$D11)","v":0},{"$f":"COUNTIFS('データ貼付け（児童生徒）'!BR$3:BR$279,$D11)","v":0},{"$f":"COUNTIFS('データ貼付け（児童生徒）'!BS$3:BS$279,$D11)","v":0},{"$f":"COUNTIFS('データ貼付け（児童生徒）'!BT$3:BT$279,$D11)","v":0},{"$f":"COUNTIFS('データ貼付け（児童生徒）'!BU$3:BU$279,$D11)","v":0},{"$f":"COUNTIFS('データ貼付け（児童生徒）'!BV$3:BV$279,$D11)","v":0},{"$f":"COUNTIFS('データ貼付け（児童生徒）'!BW$3:BW$279,$D11)","v":0},{"$f":"COUNTIFS('データ貼付け（児童生徒）'!BX$3:BX$279,$D11)","v":0},{"$f":"COUNTIFS('データ貼付け（児童生徒）'!BY$3:BY$279,$D11)","v":0},{"$f":"COUNTIFS('データ貼付け（児童生徒）'!BZ$3:BZ$279,$D11)","v":0},{"$f":"COUNTIFS('データ貼付け（児童生徒）'!CA$3:CA$279,$D11)","v":0},{"$f":"COUNTIFS('データ貼付け（児童生徒）'!CB$3:CB$279,$D11)","v":0}]

{"sheet":"作業（保護者）","index":8,"n_rows":11,"n_cols":80,"rows_kept":11,"cut":false,"hidden":false,"merged":[]}
[null,null,null,null,"基本（きほん）的な生活に関するしつ問です。それぞれあてはまるものをぬりつぶしてください。　あなたは、毎日朝食を食べますか（ときどき食べる場合には「どちらともいえない」を選択してください）選択（せんたく）","基本（きほん）的な生活に関するしつ問です。それぞれあてはまるものをぬりつぶしてください。　あなたは、毎日決まった時間にねていますか（週に２、３回ねる時間が遅くなるときは「どちらともいえない」を選択してください）選択（せんたく）","平日のすいみん時間は何時間くらいですか。あてはまるものを１つぬりつぶしてください。","平日の宿題や塾（じゅく）の時間も含めた家庭学習の時間は何時間くらいですか。あてはまるものを１つぬりつぶしてください。","あなたは自分のスマホを持っていますか。","各機器によるインターネットの利用に関するしつ問です。あてはまるものをぬりつぶしてください。　　　　　　※「インターネットの利用」とはYouTube（ユーチューブ）やホームページを見たり、LINE（ライン）やTwitter（ツ　　イッター）などを使ったりすることです。あなたはスマホでインターネットを使っていますか（タブレットをのぞく）選択","各機器によるインターネットの利用に関するしつ問です。あてはまるものをぬりつぶしてください。　　　　　　※「インターネットの利用」とはYouTube（ユーチューブ）やホームページを見たり、LINE（ライン）やTwitter（ツ　　イッター）などを使ったりすることです。あなたはタブレットやパソコンでインターネットを使っていますか選択","各機器によるインターネットの利用に関するしつ問です。あてはまるものをぬりつぶしてください。　　　　　　※「インターネットの利用」とはYouTube（ユーチューブ）やホームページを見たり、LINE（ライン）やTwitter（ツ　　イッター）などを使ったりすることです。あなたはゲーム機でインターネットを使っていますか選択","以下の各機器をどれくらい使っていますか。平日のへいきん使用時間としてあてはまるものをぬりつぶしてください。（勉強のために使うこともふくむ）　スマホ・タブレット選択","以下の各機器をどれくらい使っていますか。平日のへいきん使用時間としてあてはまるものをぬりつぶしてください。（勉強のために使うこともふくむ）　パソコン選択","以下の各機器をどれくらい使っていますか。平日のへいきん使用時間としてあてはまるものをぬりつぶしてください。（勉強のために使うこともふくむ）　ゲーム機選択","以下の各機器を勉強のために使っている時間はどれくらいですか。平日のへいきん使用時間として、あてはまるものをぬりつぶしてください。　スマホ・タブレット選択","以下の各機器を勉強のために使っている時間はどれくらいですか。平日のへいきん使用時間として、あてはまるものをぬりつぶしてください。　パソコン選択","以下の各機器を勉強のために使っている時間はどれくらいですか。平日のへいきん使用時間として、あてはまるものをぬりつぶしてください。　ゲーム機（学習ソフトなど）選択","あなたの家庭では、各機器を使う場合のルールとして決めていることはありますか。それぞれあてはまるものをぬりつぶしてください。　利用時間（何時間以内など）選択","あなたの家庭では、各機器を使う場合のルールとして決めていることはありますか。それぞれあてはまるものをぬりつぶしてください。　利用してよい時間帯（何時から何時までなど）選択","あなたの家庭では、各機器を使う場合のルールとして決めていることはありますか。それぞれあてはまるものをぬりつぶしてください。　通話やデータ通信などに利用できる金がく選択","あなたの家庭では、各機器を使う場合のルールとして決めていることはありますか。それぞれあてはまるものをぬりつぶしてください。　有料、無料に限らず、アプリをダウンロードすることについて選択","あなたの家庭では、各機器を使う場合のルールとして決めていることはありますか。それぞれあてはまるものをぬりつぶしてください。　お金をはらって有料アプリやゲーム内のアイテムを買うことについて選択","あなたの家庭では、各機器を使う場合のルールとして決めていることはありますか。それぞれあてはまるものをぬりつぶしてください。　ツイッターやラインなど、インターネットへ書きこむことについて選択","あなたの家庭では、各機器を使う場合のルールとして決めていることはありますか。それぞれあてはまるものをぬりつぶしてください。　ユーチューブやホームページなど、インターネットを見ることについて選択","あなたの家庭では、各機器を使う場合のルールとして決めていることはありますか。それぞれあてはまるものをぬりつぶしてください。　家の中では、リビング（家族が集まる部屋）だけで使うこと選択","あなたの家庭では、各機器を使う場合のルールとして決めていることはありますか。それぞれあてはまるものをぬりつぶしてください。　ほご者と一緒（いっしょ）の時にしか使わないこと選択","あなたの家庭では、各機器を使う場合のルールとして決めていることはありますか。それぞれあてはまるものをぬりつぶしてください。　その他のルール選択","ルールはだれが作りましたか。あてはまるものを１つぬりつぶしてください。","各機器を使う場合のルールについてのしつ問です。あてはまるものをぬりつぶしてください。　各機器を使うときのルールは守っていますか選択","あなたの使う機器にはフィルタリングがかけられていますか。あてはまるものをぬりつぶしてください。　　　　　\\n　※フィルタリングとは、子どもに見せたくない内容（ないよう）を、見せないようにブロックするサービスです。　スマホ・タブレット選択","あなたの使う機器にはフィルタリングがかけられていますか。あてはまるものをぬりつぶしてください。　　　　　\\n　※フィルタリングとは、子どもに見せたくない内容（ないよう）を、見せないようにブロックするサービスです。　パソコン選択","あなたの使う機器にはフィルタリングがかけられていますか。あてはまるものをぬりつぶしてください。　　　　　\\n　※フィルタリングとは、子どもに見せたくない内容（ないよう）を、見せないようにブロックするサービスです。　ゲーム機選択","あなたがよく利用するSNSは何ですか。あてはまるもの全てをぬりつぶしてください。","あなたがよく利用するSNSは何ですか。あてはまるもの全てをぬりつぶしてください。","あなたがよく利用するSNSは何ですか。あてはまるもの全てをぬりつぶしてください。","あなたがよく利用するSNSは何ですか。あてはまるもの全てをぬりつぶしてください。","あなたがよく利用するSNSは何ですか。あてはまるもの全てをぬりつぶしてください。","あなたがよく利用するSNSは何ですか。あてはまるもの全てをぬりつぶしてください。","SNSの利用についてのしつ問です。利用しているサービスについて答えてください。また、SNSを利用していない場合は「いいえ」をぬりつぶしてください。　家族以外の知り合いと、無料通話をする選択","SNSの利用についてのしつ問です。利用しているサービスについて答えてください。また、SNSを利用していない場合は「いいえ」をぬりつぶしてください。　家族以外の知り合いと1対1でメッセージのやりとりをする選択","SNSの利用についてのしつ問です。利用しているサービスについて答えてください。また、SNSを利用していない場合は「いいえ」をぬりつぶしてください。　グループを作って、グループ内でメッセージのやりとりをする選択","SNSの利用についてのしつ問です。利用しているサービスについて答えてください。また、SNSを利用していない場合は「いいえ」をぬりつぶしてください。　家族と、無料通話やメッセージのやりとりをする選択","SNSの利用についてのしつ問です。利用しているサービスについて答えてください。また、SNSを利用していない場合は「いいえ」をぬりつぶしてください。　記事を投稿（とうこう）する選択","SNSの利用についてのしつ問です。利用しているサービスについて答えてください。また、SNSを利用していない場合は「いいえ」をぬりつぶしてください。　SNS内のアプリを使う選択","SNSの利用についてのしつ問です。利用しているサービスについて答えてください。また、SNSを利用していない場合は「いいえ」をぬりつぶしてください。　お店からのお知らせを見たり、クーポンをもらったりする。選択","ラインなどを使ってメッセージを送る回数は、へいきんすると一日にどれくらいですか。あてはまるものを１つぬりつぶしてください。","友だちにメールやメッセージを送って返事が返ってこない時、どれくらいでイライラしたり不安になったりしますか。あてはまるものを１つぬりつぶしてください。","やりたいことがあるのにメールやメッセージがきてこまることがありますか。あてはまるものを１つぬりつぶしてください。","SNSで知り合った人はいますか。知り合った人がいる場合は、どのSNSで知り合いましたか。あてはまるものを全てぬりつぶしてください。","SNSで知り合った人はいますか。知り合った人がいる場合は、どのSNSで知り合いましたか。あてはまるものを全てぬりつぶしてください。","SNSで知り合った人はいますか。知り合った人がいる場合は、どのSNSで知り合いましたか。あてはまるものを全てぬりつぶしてください。","SNSで知り合った人はいますか。知り合った人がいる場合は、どのSNSで知り合いましたか。あてはまるものを全てぬりつぶしてください。","SNSで知り合った人はいますか。知り合った人がいる場合は、どのSNSで知り合いましたか。あてはまるものを全てぬりつぶしてください。","SNSで知り合った人はいますか。知り合った人がいる場合は、どのSNSで知り合いましたか。あてはまるものを全てぬりつぶしてください。","SNSで知り合った人に自分の電話番号、またはラインのアカウントなどを教えたことがありますか。あてはまるものをぬりつぶしてください。","SNSで知り合った人と実際（じっさい）に会ったことがありますか。あてはまるものをぬりつぶしてください。","インターネットやラインなどのSNSを利用していて起きたトラブルに関する各しつ問に対し、あてはまるものをぬりつぶしてください。\\n　悪口やいやがらせのメールを送られたり、SNS・ブログ・プロフなどに書きこまれたりしたことがある選択","インターネットやラインなどのSNSを利用していて起きたトラブルに関する各しつ問に対し、あてはまるものをぬりつぶしてください。\\n　悪口やいやがらせのメールを送ったり、SNS・ブログ・プロフなどに書きこんだりしたことがある選択","インターネットやラインなどのSNSを利用していて起きたトラブルに関する各しつ問に対し、あてはまるものをぬりつぶしてください。\\n　迷惑（めいわく）な内よう（アダルトサイトからの通知や、不安になる内ようなど）が送られてきたことがある選択","インターネットやラインなどのSNSを利用していて起きたトラブルに関する各しつ問に対し、あてはまるものをぬりつぶしてください。\\n　下着すがたや裸（はだか）の動画または画像（がぞう）を送るように要求されたことがある選択","インターネットやラインなどのSNSを利用していて起きたトラブルに関する各しつ問に対し、あてはまるものをぬりつぶしてください。\\n　有料サイトの利用料金などについて、身に覚えのない支払（しはら）いを求められたことがある選択","インターネットやラインなどのSNSを利用していて起きたトラブルに関する各しつ問に対し、あてはまるものをぬりつぶしてください。\\n　ほご者に話しにくいサイトを見たことがある選択","インターネットやラインなどのSNSを利用していて起きたトラブルに関する各しつ問に対し、あてはまるものをぬりつぶしてください。\\n　自分のじょうほう（名前や写真など）を書きこんだことがある選択","インターネットやラインなどのSNSを利用していて起きたトラブルに関する各しつ問に対し、あてはまるものをぬりつぶしてください。\\n　他人のじょうほう（名前や写真など）をむだんで書きこんだことがある選択","インターネットやラインなどのSNSを利用していて起きたトラブルに関する各しつ問に対し、あてはまるものをぬりつぶしてください。\\n　他人にいやがらせをしている動画や、物をこわすなどのいたずらをしている動画を投稿（とうこう）したことがある選択","インターネットやラインなどのSNSを利用していて起きたトラブルに関する各しつ問に対し、あてはまるものをぬりつぶしてください。\\n　スマホや携帯（けいたい）電話にのめりこんで勉強に集中できなかったり、睡眠（すいみん）不足になったりしたことがある選択","各しつ問に対し、あてはまるものをぬりつぶしてください。　各機器を使って動画の撮影（さつえい）をしたことがある選択","各しつ問に対し、あてはまるものをぬりつぶしてください。　ユーチューブやツイッター、ティックトックなどに動画を投稿（とうこう）したことがある選択","各しつ問に対し、あなたはどう思いますか。あてはまるものをぬりつぶしてください。　BGM（動画につける音楽)はお店で売っているCDを買えば、自分の動画のBGMとして利用し、ユーチューブなどに投稿（とうこう）してもよい選択","各しつ問に対し、あなたはどう思いますか。あてはまるものをぬりつぶしてください。　ダンス動画は、ユーチューブで使われている音楽を使っておどったものなら、ユーチューブなどに投稿（とうこう）してもよい選択","各しつ問に対し、あなたはどう思いますか。あてはまるものをぬりつぶしてください。　カラオケボックスなどで、自分がカラオケに合わせて歌ったものであれば、ユーチューブなどに投稿（とうこう）してもよい選択","インターネットを利用する上でのきけんなこと（有害サイトやインターネット上でのやりとりのきけんなど）や正しい使い方について、あなたは何によって説明を受けたり学んだりしましたか。あてはまるものを全てをぬりつぶしてください。　","インターネットを利用する上でのきけんなこと（有害サイトやインターネット上でのやりとりのきけんなど）や正しい使い方について、あなたは何によって説明を受けたり学んだりしましたか。あてはまるものを全てをぬりつぶしてください。　","インターネットを利用する上でのきけんなこと（有害サイトやインターネット上でのやりとりのきけんなど）や正しい使い方について、あなたは何によって説明を受けたり学んだりしましたか。あてはまるものを全てをぬりつぶしてください。　","インターネットを利用する上でのきけんなこと（有害サイトやインターネット上でのやりとりのきけんなど）や正しい使い方について、あなたは何によって説明を受けたり学んだりしましたか。あてはまるものを全てをぬりつぶしてください。　","インターネットを利用する上でのきけんなこと（有害サイトやインターネット上でのやりとりのきけんなど）や正しい使い方について、あなたは何によって説明を受けたり学んだりしましたか。あてはまるものを全てをぬりつぶしてください。　","インターネットを利用する上でのきけんなこと（有害サイトやインターネット上でのやりとりのきけんなど）や正しい使い方について、あなたは何によって説明を受けたり学んだりしましたか。あてはまるものを全てをぬりつぶしてください。　","インターネットを利用する上でのきけんなこと（有害サイトやインターネット上でのやりとりのきけんなど）や正しい使い方について、あなたは何によって説明を受けたり学んだりしましたか。あてはまるものを全てをぬりつぶしてください。　","インターネットを利用する上でのきけんなこと（有害サイトやインターネット上でのやりとりのきけんなど）や正しい使い方について、あなたは何によって説明を受けたり学んだりしましたか。あてはまるものを全てをぬりつぶしてください。　"]
["回答数",null,null,null,"はい,どちらともいえない,いいえ","はい,どちらともいえない,いいえ","４時間未満,４時間～６時間未満,６時間～８時間未満,８時間以上","30分未満,30分～１時間未満,１時間～２時間未満,２時間～３時間未満,３時間以上","持っている,持っていない","家にない,自分のもので使っている,家族のもので使っている,家にあるが使っていない","家にない,自分のもので使っている,家族のもので使っている,家にあるが使っていない","家にない,自分のもので使っている,家族のもので使っている,家にあるが使っていない","家にない,0分,30分未満使っている,30分以上1時間未満,1時間以上2時間未満,2時間以上3時間未満,3時間以上4時間未満,4時間以上","家にない,0分,30分未満使っている,30分以上1時間未満,1時間以上2時間未満,2時間以上3時間未満,3時間以上4時間未満,4時間以上","家にない,0分,30分未満使っている,30分以上1時間未満,1時間以上2時間未満,2時間以上3時間未満,3時間以上4時間未満,4時間以上","家にない,0分,30分未満使っている,30分以上1時間未満,1時間以上2時間未満,2時間以上3時間未満,3時間以上4時間未満,4時間以上","家にない,0分,30分未満使っている,30分以上1時間未満,1時間以上2時間未満,2時間以上3時間未満,3時間以上4時間未満,4時間以上","家にない,0分,30分未満使っている,30分以上1時間未満,1時間以上2時間未満,2時間以上3時間未満,3時間以上4時間未満,4時間以上","家にない,決められている,決められていない","家にない,決められている,決められていない","家にない,決められている,決められていない","家にない,決められている,決められていない","家にない,決められている,決められていない","家にない,決められている,決められていない","家にない,決められている,決められていない","家にない,決められている,決められていない","家にない,決められている,決められていない","家にない,決められている,決められていない","各機器を使っていない,ほご者,ほご者と自分,自分,ルールはない,その他","家にない,守っている,だいたい守っている,あまり守っていない,ほとんど守っていない,ルールがない","家にない,かけられている,かけられていない,わからない","家にない,かけられている,かけられていない,わからない","家にない,かけられている,かけられていない,わからない","使っていない","ライン","ツイッター","インスタグラム","ティックトック","その他","はい,いいえ","はい,いいえ","はい,いいえ","はい,いいえ","はい,いいえ","はい,いいえ","はい,いいえ","0回（または使っていない）,1～5回,6～10回,11～30回,31～50回,51回以上","送らない（または使っていない）,3分以内,10分以内,30分以内,60分以内,特にイライラしたり不安になったりしない","使っていない,よくある,ときどきある,ほとんどない,全くない","知り合ったことはない","ライン","ツイッター","インスタグラム","ティックトック","その他","ある,ない,知り合ったことはない","ある,ない,知り合ったことはない","利用していない,はい,いいえ","利用していない,はい,いいえ","利用していない,はい,いいえ","利用していない,はい,いいえ","利用していない,はい,いいえ","利用していない,はい,いいえ","利用していない,はい,いいえ","利用していない,はい,いいえ","利用していない,はい,いいえ","利用していない,はい,いいえ","ある,ない","ある,ない","良いと思う,いけないと思う,わからない","良いと思う,いけないと思う,わからない","良いと思う,いけないと思う,わからない","学校（学校内の先生）","学校（学校以外の人）","ほご者","スマホのはん売店","友だち","テレビや本・ざっし","インターネット","特にない"]
[{"$f":"COUNT('データ貼付け（保護者）'!A3:A296)","v":0},null,null,1,{"$f":"COUNTIFS('データ貼付け（保護者）'!E$3:E$296,$D3)","v":0},{"$f":"COUNTIFS('データ貼付け（保護者）'!F$3:F$296,$D3)","v":0},{"$f":"COUNTIFS('データ貼付け（保護者）'!G$3:G$296,$D3)","v":0},{"$f":"COUNTIFS('データ貼付け（保護者）'!H$3:H$296,$D3)","v":0},{"$f":"COUNTIFS('データ貼付け（保護者）'!I$3:I$296,$D3)","v":0},{"$f":"COUNTIFS('データ貼付け（保護者）'!J$3:J$296,$D3)","v":0},{"$f":"COUNTIFS('データ貼付け（保護者）'!K$3:K$296,$D3)","v":0},{"$f":"COUNTIFS('データ貼付け（保護者）'!L$3:L$296,$D3)","v":0},{"$f":"COUNTIFS('データ貼付け（保護者）'!M$3:M$296,$D3)","v":0},{"$f":"COUNTIFS('データ貼付け（保護者）'!N$3:N$296,$D3)","v":0},{"$f":"COUNTIFS('データ貼付け（保護者）'!O$3:O$296,$D3)","v":0},{"$f":"COUNTIFS('データ貼付け（保護者）'!P$3:P$296,$D3)","v":0},{"$f":"COUNTIFS('データ貼付け（保護者）'!Q$3:Q$296,$D3)","v":0},{"$f":"COUNTIFS('データ貼付け（保護者）'!R$3:R$296,$D3)","v":0},{"$f":"COUNTIFS('データ貼付け（保護者）'!S$3:S$296,$D3)","v":0},{"$f":"COUNTIFS('データ貼付け（保護者）'!T$3:T$296,$D3)","v":0},{"$f":"COUNTIFS('データ貼付け（保護者）'!U$3:U$296,$D3)","v":0},{"$f":"COUNTIFS('データ貼付け（保護者）'!V$3:V$296,$D3)","v":0},{"$f":"COUNTIFS('データ貼付け（保護者）'!W$3:W$296,$D3)","v":0},{"$f":"COUNTIFS('データ貼付け（保護者）'!X$3:X$296,$D3)","v":0},{"$f":"COUNTIFS('データ貼付け（保護者）'!Y$3:Y$296,$D3)","v":0},{"$f":"COUNTIFS('データ貼付け（保護者）'!Z$3:Z$296,$D3)","v":0},{"$f":"COUNTIFS('データ貼付け（保護者）'!AA$3:AA$296,$D3)","v":0},{"$f":"COUNTIFS('データ貼付け（保護者）'!AB$3:AB$296,$D3)","v":0},{"$f":"COUNTIFS('データ貼付け（保護者）'!AC$3:AC$296,$D3)","v":0},{"$f":"COUNTIFS('データ貼付け（保護者）'!AD$3:AD$296,$D3)","v":0},{"$f":"COUNTIFS('データ貼付け（保護者）'!AE$3:AE$296,$D3)","v":0},{"$f":"COUNTIFS('データ貼付け（保護者）'!AF$3:AF$296,$D3)","v":0},{"$f":"COUNTIFS('データ貼付け（保護者）'!AG$3:AG$296,$D3)","v":0},{"$f":"COUNTIFS('データ貼付け（保護者）'!AH$3:AH$296,$D3)","v":0},{"$f":"COUNTIFS('データ貼付け（保護者）'!AI$3:AI$296,$D3)","v":0},{"$f":"COUNTIFS('データ貼付け（保護者）'!AJ$3:AJ$296,$D3)","v":0},{"$f":"COUNTIFS('データ貼付け（保護者）'!AK$3:AK$296,$D3)","v":0},{"$f":"COUNTIFS('データ貼付け（保護者）'!AL$3:AL$296,$D3)","v":0},{"$f":"COUNTIFS('データ貼付け（保護者）'!AM$3:AM$296,$D3)","v":0},{"$f":"COUNTIFS('データ貼付け（保護者）'!AN$3:AN$296,$D3)","v":0},{"$f":"COUNTIFS('データ貼付け（保護者）'!AO$3:AO$296,$D3)","v":0},{"$f":"COUNTIFS('データ貼付け（保護者）'!AP$3:AP$296,$D3)","v":0},{"$f":"COUNTIFS('データ貼付け（保護者）'!AQ$3:AQ$296,$D3)","v":0},{"$f":"COUNTIFS('データ貼付け（保護者）'!AR$3:AR$296,$D3)","v":0},{"$f":"COUNTIFS('データ貼付け（保護者）'!AS$3:AS$296,$D3)","v":0},{"$f":"COUNTIFS('データ貼付け（保護者）'!AT$3:AT$296,$D3)","v":0},{"$f":"COUNTIFS('データ貼付け（保護者）'!AU$3:AU$296,$D3)","v":0},{"$f":"COUNTIFS('データ貼付け（保護者）'!AV$3:AV$296,$D3)","v":0},{"$f":"COUNTIFS('データ貼付け（保護者）'!AW$3:AW$296,$D3)","v":0},{"$f":"COUNTIFS('データ貼付け（保護者）'!AX$3:AX$296,$D3)","v":0},{"$f":"COUNTIFS('データ貼付け（保護者）'!AY$3:AY$296,$D3)","v":0},{"$f":"COUNTIFS('データ貼付け（保護者）'!AZ$3:AZ$296,$D3)","v":0},{"$f":"COUNTIFS('データ貼付け（保護者）'!BA$3:BA$296,$D3)","v":0},{"$f":"COUNTIFS('データ貼付け（保護者）'!BB$3:BB$296,$D3)","v":0},{"$f":"COUNTIFS('データ貼付け（保護者）'!BC$3:BC$296,$D3)","v":0},{"$f":"COUNTIFS('データ貼付け（保護者）'!BD$3:BD$296,$D3)","v":0},{"$f":"COUNTIFS('データ貼付け（保護者）'!BE$3:BE$296,$D3)","v":0},{"$f":"COUNTIFS('データ貼付け（保護者）'!BF$3:BF$296,$D3)","v":0},{"$f":"COUNTIFS('データ貼付け（保護者）'!BG$3:BG$296,$D3)","v":0},{"$f":"COUNTIFS('データ貼付け（保護者）'!BH$3:BH$296,$D3)","v":0},{"$f":"COUNTIFS('データ貼付け（保護者）'!BI$3:BI$296,$D3)","v":0},{"$f":"COUNTIFS('データ貼付け（保護者）'!BJ$3:BJ$296,$D3)","v":0},{"$f":"COUNTIFS('データ貼付け（保護者）'!BK$3:BK$296,$D3)","v":0},{"$f":"COUNTIFS('データ貼付け（保護者）'!BL$3:BL$296,$D3)","v":0},{"$f":"COUNTIFS('データ貼付け（保護者）'!BM$3:BM$296,$D3)","v":0},{"$f":"COUNTIFS('データ貼付け（保護者）'!BN$3:BN$296,$D3)","v":0},{"$f":"COUNTIFS('データ貼付け（保護者）'!BO$3:BO$296,$D3)","v":0},{"$f":"COUNTIFS('データ貼付け（保護者）'!BP$3:BP$296,$D3)","v":0},{"$f":"COUNTIFS('データ貼付け（保護者）'!BQ$3:BQ$296,$D3)","v":0},{"$f":"COUNTIFS('データ貼付け（保護者）'!BR$3:BR$296,$D3)","v":0},{"$f":"COUNTIFS('データ貼付け（保護者）'!BS$3:BS$296,$D3)","v":0},{"$f":"COUNTIFS('データ貼付け（保護者）'!BT$3:BT$296,$D3)","v":0},{"$f":"COUNTIFS('データ貼付け（保護者）'!BU$3:BU$296,$D3)","v":0},{"$f":"COUNTIFS('データ貼付け（保護者）'!BV$3:BV$296,$D3)","v":0},{"$f":"COUNTIFS('データ貼付け（保護者）'!BW$3:BW$296,$D3)","v":0},{"$f":"COUNTIFS('データ貼付け（保護者）'!BX$3:BX$296,$D3)","v":0},{"$f":"COUNTIFS('データ貼付け（保護者）'!BY$3:BY$296,$D3)","v":0},{"$f":"COUNTIFS('データ貼付け（保護者）'!BZ$3:BZ$296,$D3)","v":0},{"$f":"COUNTIFS('データ貼付け（保護者）'!CA$3:CA$296,$D3)","v":0},{"$f":"COUNTIFS('データ貼付け（保護者）'!CB$3:CB$296,$D3)","v":0}]
[null,null,null,2,{"$f":"COUNTIFS('データ貼付け（保護者）'!E$3:E$296,$D4)","v":0},{"$f":"COUNTIFS('データ貼付け（保護者）'!F$3:F$296,$D4)","v":0},{"$f":"COUNTIFS('データ貼付け（保護者）'!G$3:G$296,$D4)","v":0},{"$f":"COUNTIFS('データ貼付け（保護者）'!H$3:H$296,$D4)","v":0},{"$f":"COUNTIFS('データ貼付け（保護者）'!I$3:I$296,$D4)","v":0},{"$f":"COUNTIFS('データ貼付け（保護者）'!J$3:J$296,$D4)","v":0},{"$f":"COUNTIFS('データ貼付け（保護者）'!K$3:K$296,$D4)","v":0},{"$f":"COUNTIFS('データ貼付け（保護者）'!L$3:L$296,$D4)","v":0},{"$f":"COUNTIFS('データ貼付け（保護者）'!M$3:M$296,$D4)","v":0},{"$f":"COUNTIFS('データ貼付け（保護者）'!N$3:N$296,$D4)","v":0},{"$f":"COUNTIFS('データ貼付け（保護者）'!O$3:O$296,$D4)","v":0},{"$f":"COUNTIFS('データ貼付け（保護者）'!P$3:P$296,$D4)","v":0},{"$f":"COUNTIFS('データ貼付け（保護者）'!Q$3:Q$296,$D4)","v":0},{"$f":"COUNTIFS('データ貼付け（保護者）'!R$3:R$296,$D4)","v":0},{"$f":"COUNTIFS('データ貼付け（保護者）'!S$3:S$296,$D4)","v":0},{"$f":"COUNTIFS('データ貼付け（保護者）'!T$3:T$296,$D4)","v":0},{"$f":"COUNTIFS('データ貼付け（保護者）'!U$3:U$296,$D4)","v":0},{"$f":"COUNTIFS('データ貼付け（保護者）'!V$3:V$296,$D4)","v":0},{"$f":"COUNTIFS('データ貼付け（保護者）'!W$3:W$296,$D4)","v":0},{"$f":"COUNTIFS('データ貼付け（保護者）'!X$3:X$296,$D4)","v":0},{"$f":"COUNTIFS('データ貼付け（保護者）'!Y$3:Y$296,$D4)","v":0},{"$f":"COUNTIFS('データ貼付け（保護者）'!Z$3:Z$296,$D4)","v":0},{"$f":"COUNTIFS('データ貼付け（保護者）'!AA$3:AA$296,$D4)","v":0},{"$f":"COUNTIFS('データ貼付け（保護者）'!AB$3:AB$296,$D4)","v":0},{"$f":"COUNTIFS('データ貼付け（保護者）'!AC$3:AC$296,$D4)","v":0},{"$f":"COUNTIFS('データ貼付け（保護者）'!AD$3:AD$296,$D4)","v":0},{"$f":"COUNTIFS('データ貼付け（保護者）'!AE$3:AE$296,$D4)","v":0},{"$f":"COUNTIFS('データ貼付け（保護者）'!AF$3:AF$296,$D4)","v":0},{"$f":"COUNTIFS('データ貼付け（保護者）'!AG$3:AG$296,$D4)","v":0},{"$f":"COUNTIFS('データ貼付け（保護者）'!AH$3:AH$296,$D4)","v":0},{"$f":"COUNTIFS('データ貼付け（保護者）'!AI$3:AI$296,$D4)","v":0},{"$f":"COUNTIFS('データ貼付け（保護者）'!AJ$3:AJ$296,$D4)","v":0},{"$f":"COUNTIFS('データ貼付け（保護者）'!AK$3:AK$296,$D4)","v":0},{"$f":"COUNTIFS('データ貼付け（保護者）'!AL$3:AL$296,$D4)","v":0},{"$f":"COUNTIFS('データ貼付け（保護者）'!AM$3:AM$296,$D4)","v":0},{"$f":"COUNTIFS('データ貼付け（保護者）'!AN$3:AN$296,$D4)","v":0},{"$f":"COUNTIFS('データ貼付け（保護者）'!AO$3:AO$296,$D4)","v":0},{"$f":"COUNTIFS('データ貼付け（保護者）'!AP$3:AP$296,$D4)","v":0},{"$f":"COUNTIFS('データ貼付け（保護者）'!AQ$3:AQ$296,$D4)","v":0},{"$f":"COUNTIFS('データ貼付け（保護者）'!AR$3:AR$296,$D4)","v":0},{"$f":"COUNTIFS('データ貼付け（保護者）'!AS$3:AS$296,$D4)","v":0},{"$f":"COUNTIFS('データ貼付け（保護者）'!AT$3:AT$296,$D4)","v":0},{"$f":"COUNTIFS('データ貼付け（保護者）'!AU$3:AU$296,$D4)","v":0},{"$f":"COUNTIFS('データ貼付け（保護者）'!AV$3:AV$296,$D4)","v":0},{"$f":"COUNTIFS('データ貼付け（保護者）'!AW$3:AW$296,$D4)","v":0},{"$f":"COUNTIFS('データ貼付け（保護者）'!AX$3:AX$296,$D4)","v":0},{"$f":"COUNTIFS('データ貼付け（保護者）'!AY$3:AY$296,$D4)","v":0},{"$f":"COUNTIFS('データ貼付け（保護者）'!AZ$3:AZ$296,$D4)","v":0},{"$f":"COUNTIFS('データ貼付け（保護者）'!BA$3:BA$296,$D4)","v":0},{"$f":"COUNTIFS('データ貼付け（保護者）'!BB$3:BB$296,$D4)","v":0},{"$f":"COUNTIFS('データ貼付け（保護者）'!BC$3:BC$296,$D4)","v":0},{"$f":"COUNTIFS('データ貼付け（保護者）'!BD$3:BD$296,$D4)","v":0},{"$f":"COUNTIFS('データ貼付け（保護者）'!BE$3:BE$296,$D4)","v":0},{"$f":"COUNTIFS('データ貼付け（保護者）'!BF$3:BF$296,$D4)","v":0},{"$f":"COUNTIFS('データ貼付け（保護者）'!BG$3:BG$296,$D4)","v":0},{"$f":"COUNTIFS('データ貼付け（保護者）'!BH$3:BH$296,$D4)","v":0},{"$f":"COUNTIFS('データ貼付け（保護者）'!BI$3:BI$296,$D4)","v":0},{"$f":"COUNTIFS('データ貼付け（保護者）'!BJ$3:BJ$296,$D4)","v":0},{"$f":"COUNTIFS('データ貼付け（保護者）'!BK$3:BK$296,$D4)","v":0},{"$f":"COUNTIFS('データ貼付け（保護者）'!BL$3:BL$296,$D4)","v":0},{"$f":"COUNTIFS('データ貼付け（保護者）'!BM$3:BM$296,$D4)","v":0},{"$f":"COUNTIFS('データ貼付け（保護者）'!BN$3:BN$296,$D4)","v":0},{"$f":"COUNTIFS('データ貼付け（保護者）'!BO$3:BO$296,$D4)","v":0},{"$f":"COUNTIFS('データ貼付け（保護者）'!BP$3:BP$296,$D4)","v":0},{"$f":"COUNTIFS('データ貼付け（保護者）'!BQ$3:BQ$296,$D4)","v":0},{"$f":"COUNTIFS('データ貼付け（保護者）'!BR$3:BR$296,$D4)","v":0},{"$f":"COUNTIFS('データ貼付け（保護者）'!BS$3:BS$296,$D4)","v":0},{"$f":"COUNTIFS('データ貼付け（保護者）'!BT$3:BT$296,$D4)","v":0},{"$f":"COUNTIFS('データ貼付け（保護者）'!BU$3:BU$296,$D4)","v":0},{"$f":"COUNTIFS('データ貼付け（保護者）'!BV$3:BV$296,$D4)","v":0},{"$f":"COUNTIFS('データ貼付け（保護者）'!BW$3:BW$296,$D4)","v":0},{"$f":"COUNTIFS('データ貼付け（保護者）'!BX$3:BX$296,$D4)","v":0},{"$f":"COUNTIFS('データ貼付け（保護者）'!BY$3:BY$296,$D4)","v":0},{"$f":"COUNTIFS('データ貼付け（保護者）'!BZ$3:BZ$296,$D4)","v":0},{"$f":"COUNTIFS('データ貼付け（保護者）'!CA$3:CA$296,$D4)","v":0},{"$f":"COUNTIFS('データ貼付け（保護者）'!CB$3:CB$296,$D4)","v":0}]
[null,null,null,3,{"$f":"COUNTIFS('データ貼付け（保護者）'!E$3:E$296,$D5)","v":0},{"$f":"COUNTIFS('データ貼付け（保護者）'!F$3:F$296,$D5)","v":0},{"$f":"COUNTIFS('データ貼付け（保護者）'!G$3:G$296,$D5)","v":0},{"$f":"COUNTIFS('データ貼付け（保護者）'!H$3:H$296,$D5)","v":0},{"$f":"COUNTIFS('データ貼付け（保護者）'!I$3:I$296,$D5)","v":0},{"$f":"COUNTIFS('データ貼付け（保護者）'!J$3:J$296,$D5)","v":0},{"$f":"COUNTIFS('データ貼付け（保護者）'!K$3:K$296,$D5)","v":0},{"$f":"COUNTIFS('データ貼付け（保護者）'!L$3:L$296,$D5)","v":0},{"$f":"COUNTIFS('データ貼付け（保護者）'!M$3:M$296,$D5)","v":0},{"$f":"COUNTIFS('データ貼付け（保護者）'!N$3:N$296,$D5)","v":0},{"$f":"COUNTIFS('データ貼付け（保護者）'!O$3:O$296,$D5)","v":0},{"$f":"COUNTIFS('データ貼付け（保護者）'!P$3:P$296,$D5)","v":0},{"$f":"COUNTIFS('データ貼付け（保護者）'!Q$3:Q$296,$D5)","v":0},{"$f":"COUNTIFS('データ貼付け（保護者）'!R$3:R$296,$D5)","v":0},{"$f":"COUNTIFS('データ貼付け（保護者）'!S$3:S$296,$D5)","v":0},{"$f":"COUNTIFS('データ貼付け（保護者）'!T$3:T$296,$D5)","v":0},{"$f":"COUNTIFS('データ貼付け（保護者）'!U$3:U$296,$D5)","v":0},{"$f":"COUNTIFS('データ貼付け（保護者）'!V$3:V$296,$D5)","v":0},{"$f":"COUNTIFS('データ貼付け（保護者）'!W$3:W$296,$D5)","v":0},{"$f":"COUNTIFS('データ貼付け（保護者）'!X$3:X$296,$D5)","v":0},{"$f":"COUNTIFS('データ貼付け（保護者）'!Y$3:Y$296,$D5)","v":0},{"$f":"COUNTIFS('データ貼付け（保護者）'!Z$3:Z$296,$D5)","v":0},{"$f":"COUNTIFS('データ貼付け（保護者）'!AA$3:AA$296,$D5)","v":0},{"$f":"COUNTIFS('データ貼付け（保護者）'!AB$3:AB$296,$D5)","v":0},{"$f":"COUNTIFS('データ貼付け（保護者）'!AC$3:AC$296,$D5)","v":0},{"$f":"COUNTIFS('データ貼付け（保護者）'!AD$3:AD$296,$D5)","v":0},{"$f":"COUNTIFS('データ貼付け（保護者）'!AE$3:AE$296,$D5)","v":0},{"$f":"COUNTIFS('データ貼付け（保護者）'!AF$3:AF$296,$D5)","v":0},{"$f":"COUNTIFS('データ貼付け（保護者）'!AG$3:AG$296,$D5)","v":0},{"$f":"COUNTIFS('データ貼付け（保護者）'!AH$3:AH$296,$D5)","v":0},{"$f":"COUNTIFS('データ貼付け（保護者）'!AI$3:AI$296,$D5)","v":0},{"$f":"COUNTIFS('データ貼付け（保護者）'!AJ$3:AJ$296,$D5)","v":0},{"$f":"COUNTIFS('データ貼付け（保護者）'!AK$3:AK$296,$D5)","v":0},{"$f":"COUNTIFS('データ貼付け（保護者）'!AL$3:AL$296,$D5)","v":0},{"$f":"COUNTIFS('データ貼付け（保護者）'!AM$3:AM$296,$D5)","v":0},{"$f":"COUNTIFS('データ貼付け（保護者）'!AN$3:AN$296,$D5)","v":0},{"$f":"COUNTIFS('データ貼付け（保護者）'!AO$3:AO$296,$D5)","v":0},{"$f":"COUNTIFS('データ貼付け（保護者）'!AP$3:AP$296,$D5)","v":0},{"$f":"COUNTIFS('データ貼付け（保護者）'!AQ$3:AQ$296,$D5)","v":0},{"$f":"COUNTIFS('データ貼付け（保護者）'!AR$3:AR$296,$D5)","v":0},{"$f":"COUNTIFS('データ貼付け（保護者）'!AS$3:AS$296,$D5)","v":0},{"$f":"COUNTIFS('データ貼付け（保護者）'!AT$3:AT$296,$D5)","v":0},{"$f":"COUNTIFS('データ貼付け（保護者）'!AU$3:AU$296,$D5)","v":0},{"$f":"COUNTIFS('データ貼付け（保護者）'!AV$3:AV$296,$D5)","v":0},{"$f":"COUNTIFS('データ貼付け（保護者）'!AW$3:AW$296,$D5)","v":0},{"$f":"COUNTIFS('データ貼付け（保護者）'!AX$3:AX$296,$D5)","v":0},{"$f":"COUNTIFS('データ貼付け（保護者）'!AY$3:AY$296,$D5)","v":0},{"$f":"COUNTIFS('データ貼付け（保護者）'!AZ$3:AZ$296,$D5)","v":0},{"$f":"COUNTIFS('データ貼付け（保護者）'!BA$3:BA$296,$D5)","v":0},{"$f":"COUNTIFS('データ貼付け（保護者）'!BB$3:BB$296,$D5)","v":0},{"$f":"COUNTIFS('データ貼付け（保護者）'!BC$3:BC$296,$D5)","v":0},{"$f":"COUNTIFS('データ貼付け（保護者）'!BD$3:BD$296,$D5)","v":0},{"$f":"COUNTIFS('データ貼付け（保護者）'!BE$3:BE$296,$D5)","v":0},{"$f":"COUNTIFS('データ貼付け（保護者）'!BF$3:BF$296,$D5)","v":0},{"$f":"COUNTIFS('データ貼付け（保護者）'!BG$3:BG$296,$D5)","v":0},{"$f":"COUNTIFS('データ貼付け（保護者）'!BH$3:BH$296,$D5)","v":0},{"$f":"COUNTIFS('データ貼付け（保護者）'!BI$3:BI$296,$D5)","v":0},{"$f":"COUNTIFS('データ貼付け（保護者）'!BJ$3:BJ$296,$D5)","v":0},{"$f":"COUNTIFS('データ貼付け（保護者）'!BK$3:BK$296,$D5)","v":0},{"$f":"COUNTIFS('データ貼付け（保護者）'!BL$3:BL$296,$D5)","v":0},{"$f":"COUNTIFS('データ貼付け（保護者）'!BM$3:BM$296,$D5)","v":0},{"$f":"COUNTIFS('データ貼付け（保護者）'!BN$3:BN$296,$D5)","v":0},{"$f":"COUNTIFS('データ貼付け（保護者）'!BO$3:BO$296,$D5)","v":0},{"$f":"COUNTIFS('データ貼付け（保護者）'!BP$3:BP$296,$D5)","v":0},{"$f":"COUNTIFS('データ貼付け（保護者）'!BQ$3:BQ$296,$D5)","v":0},{"$f":"COUNTIFS('データ貼付け（保護者）'!BR$3:BR$296,$D5)","v":0},{"$f":"COUNTIFS('データ貼付け（保護者）'!BS$3:BS$296,$D5)","v":0},{"$f":"COUNTIFS('データ貼付け（保護者）'!BT$3:BT$296,$D5)","v":0},{"$f":"COUNTIFS('データ貼付け（保護者）'!BU$3:BU$296,$D5)","v":0},{"$f":"COUNTIFS('データ貼付け（保護者）'!BV$3:BV$296,$D5)","v":0},{"$f":"COUNTIFS('データ貼付け（保護者）'!BW$3:BW$296,$D5)","v":0},{"$f":"COUNTIFS('データ貼付け（保護者）'!BX$3:BX$296,$D5)","v":0},{"$f":"COUNTIFS('データ貼付け（保護者）'!BY$3:BY$296,$D5)","v":0},{"$f":"COUNTIFS('データ貼付け（保護者）'!BZ$3:BZ$296,$D5)","v":0},{"$f":"COUNTIFS('データ貼付け（保護者）'!CA$3:CA$296,$D5)","v":0},{"$f":"COUNTIFS('データ貼付け（保護者）'!CB$3:CB$296,$D5)","v":0}]
[null,null,null,4,{"$f":"COUNTIFS('データ貼付け（保護者）'!E$3:E$296,$D6)","v":0},{"$f":"COUNTIFS('データ貼付け（保護者）'!F$3:F$296,$D6)","v":0},{"$f":"COUNTIFS('データ貼付け（保護者）'!G$3:G$296,$D6)","v":0},{"$f":"COUNTIFS('データ貼付け（保護者）'!H$3:H$296,$D6)","v":0},{"$f":"COUNTIFS('データ貼付け（保護者）'!I$3:I$296,$D6)","v":0},{"$f":"COUNTIFS('データ貼付け（保護者）'!J$3:J$296,$D6)","v":0},{"$f":"COUNTIFS('データ貼付け（保護者）'!K$3:K$296,$D6)","v":0},{"$f":"COUNTIFS('データ貼付け（保護者）'!L$3:L$296,$D6)","v":0},{"$f":"COUNTIFS('データ貼付け（保護者）'!M$3:M$296,$D6)","v":0},{"$f":"COUNTIFS('データ貼付け（保護者）'!N$3:N$296,$D6)","v":0},{"$f":"COUNTIFS('データ貼付け（保護者）'!O$3:O$296,$D6)","v":0},{"$f":"COUNTIFS('データ貼付け（保護者）'!P$3:P$296,$D6)","v":0},{"$f":"COUNTIFS('データ貼付け（保護者）'!Q$3:Q$296,$D6)","v":0},{"$f":"COUNTIFS('データ貼付け（保護者）'!R$3:R$296,$D6)","v":0},{"$f":"COUNTIFS('データ貼付け（保護者）'!S$3:S$296,$D6)","v":0},{"$f":"COUNTIFS('データ貼付け（保護者）'!T$3:T$296,$D6)","v":0},{"$f":"COUNTIFS('データ貼付け（保護者）'!U$3:U$296,$D6)","v":0},{"$f":"COUNTIFS('データ貼付け（保護者）'!V$3:V$296,$D6)","v":0},{"$f":"COUNTIFS('データ貼付け（保護者）'!W$3:W$296,$D6)","v":0},{"$f":"COUNTIFS('データ貼付け（保護者）'!X$3:X$296,$D6)","v":0},{"$f":"COUNTIFS('データ貼付け（保護者）'!Y$3:Y$296,$D6)","v":0},{"$f":"COUNTIFS('データ貼付け（保護者）'!Z$3:Z$296,$D6)","v":0},{"$f":"COUNTIFS('データ貼付け（保護者）'!AA$3:AA$296,$D6)","v":0},{"$f":"COUNTIFS('データ貼付け（保護者）'!AB$3:AB$296,$D6)","v":0},{"$f":"COUNTIFS('データ貼付け（保護者）'!AC$3:AC$296,$D6)","v":0},{"$f":"COUNTIFS('データ貼付け（保護者）'!AD$3:AD$296,$D6)","v":0},{"$f":"COUNTIFS('データ貼付け（保護者）'!AE$3:AE$296,$D6)","v":0},{"$f":"COUNTIFS('データ貼付け（保護者）'!AF$3:AF$296,$D6)","v":0},{"$f":"COUNTIFS('データ貼付け（保護者）'!AG$3:AG$296,$D6)","v":0},{"$f":"COUNTIFS('データ貼付け（保護者）'!AH$3:AH$296,$D6)","v":0},{"$f":"COUNTIFS('データ貼付け（保護者）'!AI$3:AI$296,$D6)","v":0},{"$f":"COUNTIFS('データ貼付け（保護者）'!AJ$3:AJ$296,$D6)","v":0},{"$f":"COUNTIFS('データ貼付け（保護者）'!AK$3:AK$296,$D6)","v":0},{"$f":"COUNTIFS('データ貼付け（保護者）'!AL$3:AL$296,$D6)","v":0},{"$f":"COUNTIFS('データ貼付け（保護者）'!AM$3:AM$296,$D6)","v":0},{"$f":"COUNTIFS('データ貼付け（保護者）'!AN$3:AN$296,$D6)","v":0},{"$f":"COUNTIFS('データ貼付け（保護者）'!AO$3:AO$296,$D6)","v":0},{"$f":"COUNTIFS('データ貼付け（保護者）'!AP$3:AP$296,$D6)","v":0},{"$f":"COUNTIFS('データ貼付け（保護者）'!AQ$3:AQ$296,$D6)","v":0},{"$f":"COUNTIFS('データ貼付け（保護者）'!AR$3:AR$296,$D6)","v":0},{"$f":"COUNTIFS('データ貼付け（保護者）'!AS$3:AS$296,$D6)","v":0},{"$f":"COUNTIFS('データ貼付け（保護者）'!AT$3:AT$296,$D6)","v":0},{"$f":"COUNTIFS('データ貼付け（保護者）'!AU$3:AU$296,$D6)","v":0},{"$f":"COUNTIFS('データ貼付け（保護者）'!AV$3:AV$296,$D6)","v":0},{"$f":"COUNTIFS('データ貼付け（保護者）'!AW$3:AW$296,$D6)","v":0},{"$f":"COUNTIFS('データ貼付け（保護者）'!AX$3:AX$296,$D6)","v":0},{"$f":"COUNTIFS('データ貼付け（保護者）'!AY$3:AY$296,$D6)","v":0},{"$f":"COUNTIFS('データ貼付け（保護者）'!AZ$3:AZ$296,$D6)","v":0},{"$f":"COUNTIFS('データ貼付け（保護者）'!BA$3:BA$296,$D6)","v":0},{"$f":"COUNTIFS('データ貼付け（保護者）'!BB$3:BB$296,$D6)","v":0},{"$f":"COUNTIFS('データ貼付け（保護者）'!BC$3:BC$296,$D6)","v":0},{"$f":"COUNTIFS('データ貼付け（保護者）'!BD$3:BD$296,$D6)","v":0},{"$f":"COUNTIFS('データ貼付け（保護者）'!BE$3:BE$296,$D6)","v":0},{"$f":"COUNTIFS('データ貼付け（保護者）'!BF$3:BF$296,$D6)","v":0},{"$f":"COUNTIFS('データ貼付け（保護者）'!BG$3:BG$296,$D6)","v":0},{"$f":"COUNTIFS('データ貼付け（保護者）'!BH$3:BH$296,$D6)","v":0},{"$f":"COUNTIFS('データ貼付け（保護者）'!BI$3:BI$296,$D6)","v":0},{"$f":"COUNTIFS('データ貼付け（保護者）'!BJ$3:BJ$296,$D6)","v":0},{"$f":"COUNTIFS('データ貼付け（保護者）'!BK$3:BK$296,$D6)","v":0},{"$f":"COUNTIFS('データ貼付け（保護者）'!BL$3:BL$296,$D6)","v":0},{"$f":"COUNTIFS('データ貼付け（保護者）'!BM$3:BM$296,$D6)","v":0},{"$f":"COUNTIFS('データ貼付け（保護者）'!BN$3:BN$296,$D6)","v":0},{"$f":"COUNTIFS('データ貼付け（保護者）'!BO$3:BO$296,$D6)","v":0},{"$f":"COUNTIFS('データ貼付け（保護者）'!BP$3:BP$296,$D6)","v":0},{"$f":"COUNTIFS('データ貼付け（保護者）'!BQ$3:BQ$296,$D6)","v":0},{"$f":"COUNTIFS('データ貼付け（保護者）'!BR$3:BR$296,$D6)","v":0},{"$f":"COUNTIFS('データ貼付け（保護者）'!BS$3:BS$296,$D6)","v":0},{"$f":"COUNTIFS('データ貼付け（保護者）'!BT$3:BT$296,$D6)","v":0},{"$f":"COUNTIFS('データ貼付け（保護者）'!BU$3:BU$296,$D6)","v":0},{"$f":"COUNTIFS('データ貼付け（保護者）'!BV$3:BV$296,$D6)","v":0},{"$f":"COUNTIFS('データ貼付け（保護者）'!BW$3:BW$296,$D6)","v":0},{"$f":"COUNTIFS('データ貼付け（保護者）'!BX$3:BX$296,$D6)","v":0},{"$f":"COUNTIFS('データ貼付け（保護者）'!BY$3:BY$296,$D6)","v":0},{"$f":"COUNTIFS('データ貼付け（保護者）'!BZ$3:BZ$296,$D6)","v":0},{"$f":"COUNTIFS('データ貼付け（保護者）'!CA$3:CA$296,$D6)","v":0},{"$f":"COUNTIFS('データ貼付け（保護者）'!CB$3:CB$296,$D6)","v":0}]
[null,null,null,5,{"$f":"COUNTIFS('データ貼付け（保護者）'!E$3:E$296,$D7)","v":0},{"$f":"COUNTIFS('データ貼付け（保護者）'!F$3:F$296,$D7)","v":0},{"$f":"COUNTIFS('データ貼付け（保護者）'!G$3:G$296,$D7)","v":0},{"$f":"COUNTIFS('データ貼付け（保護者）'!H$3:H$296,$D7)","v":0},{"$f":"COUNTIFS('データ貼付け（保護者）'!I$3:I$296,$D7)","v":0},{"$f":"COUNTIFS('データ貼付け（保護者）'!J$3:J$296,$D7)","v":0},{"$f":"COUNTIFS('データ貼付け（保護者）'!K$3:K$296,$D7)","v":0},{"$f":"COUNTIFS('データ貼付け（保護者）'!L$3:L$296,$D7)","v":0},{"$f":"COUNTIFS('データ貼付け（保護者）'!M$3:M$296,$D7)","v":0},{"$f":"COUNTIFS('データ貼付け（保護者）'!N$3:N$296,$D7)","v":0},{"$f":"COUNTIFS('データ貼付け（保護者）'!O$3:O$296,$D7)","v":0},{"$f":"COUNTIFS('データ貼付け（保護者）'!P$3:P$296,$D7)","v":0},{"$f":"COUNTIFS('データ貼付け（保護者）'!Q$3:Q$296,$D7)","v":0},{"$f":"COUNTIFS('データ貼付け（保護者）'!R$3:R$296,$D7)","v":0},{"$f":"COUNTIFS('データ貼付け（保護者）'!S$3:S$296,$D7)","v":0},{"$f":"COUNTIFS('データ貼付け（保護者）'!T$3:T$296,$D7)","v":0},{"$f":"COUNTIFS('データ貼付け（保護者）'!U$3:U$296,$D7)","v":0},{"$f":"COUNTIFS('データ貼付け（保護者）'!V$3:V$296,$D7)","v":0},{"$f":"COUNTIFS('データ貼付け（保護者）'!W$3:W$296,$D7)","v":0},{"$f":"COUNTIFS('データ貼付け（保護者）'!X$3:X$296,$D7)","v":0},{"$f":"COUNTIFS('データ貼付け（保護者）'!Y$3:Y$296,$D7)","v":0},{"$f":"COUNTIFS('データ貼付け（保護者）'!Z$3:Z$296,$D7)","v":0},{"$f":"COUNTIFS('データ貼付け（保護者）'!AA$3:AA$296,$D7)","v":0},{"$f":"COUNTIFS('データ貼付け（保護者）'!AB$3:AB$296,$D7)","v":0},{"$f":"COUNTIFS('データ貼付け（保護者）'!AC$3:AC$296,$D7)","v":0},{"$f":"COUNTIFS('データ貼付け（保護者）'!AD$3:AD$296,$D7)","v":0},{"$f":"COUNTIFS('データ貼付け（保護者）'!AE$3:AE$296,$D7)","v":0},{"$f":"COUNTIFS('データ貼付け（保護者）'!AF$3:AF$296,$D7)","v":0},{"$f":"COUNTIFS('データ貼付け（保護者）'!AG$3:AG$296,$D7)","v":0},{"$f":"COUNTIFS('データ貼付け（保護者）'!AH$3:AH$296,$D7)","v":0},{"$f":"COUNTIFS('データ貼付け（保護者）'!AI$3:AI$296,$D7)","v":0},{"$f":"COUNTIFS('データ貼付け（保護者）'!AJ$3:AJ$296,$D7)","v":0},{"$f":"COUNTIFS('データ貼付け（保護者）'!AK$3:AK$296,$D7)","v":0},{"$f":"COUNTIFS('データ貼付け（保護者）'!AL$3:AL$296,$D7)","v":0},{"$f":"COUNTIFS('データ貼付け（保護者）'!AM$3:AM$296,$D7)","v":0},{"$f":"COUNTIFS('データ貼付け（保護者）'!AN$3:AN$296,$D7)","v":0},{"$f":"COUNTIFS('データ貼付け（保護者）'!AO$3:AO$296,$D7)","v":0},{"$f":"COUNTIFS('データ貼付け（保護者）'!AP$3:AP$296,$D7)","v":0},{"$f":"COUNTIFS('データ貼付け（保護者）'!AQ$3:AQ$296,$D7)","v":0},{"$f":"COUNTIFS('データ貼付け（保護者）'!AR$3:AR$296,$D7)","v":0},{"$f":"COUNTIFS('データ貼付け（保護者）'!AS$3:AS$296,$D7)","v":0},{"$f":"COUNTIFS('データ貼付け（保護者）'!AT$3:AT$296,$D7)","v":0},{"$f":"COUNTIFS('データ貼付け（保護者）'!AU$3:AU$296,$D7)","v":0},{"$f":"COUNTIFS('データ貼付け（保護者）'!AV$3:AV$296,$D7)","v":0},{"$f":"COUNTIFS('データ貼付け（保護者）'!AW$3:AW$296,$D7)","v":0},{"$f":"COUNTIFS('データ貼付け（保護者）'!AX$3:AX$296,$D7)","v":0},{"$f":"COUNTIFS('データ貼付け（保護者）'!AY$3:AY$296,$D7)","v":0},{"$f":"COUNTIFS('データ貼付け（保護者）'!AZ$3:AZ$296,$D7)","v":0},{"$f":"COUNTIFS('データ貼付け（保護者）'!BA$3:BA$296,$D7)","v":0},{"$f":"COUNTIFS('データ貼付け（保護者）'!BB$3:BB$296,$D7)","v":0},{"$f":"COUNTIFS('データ貼付け（保護者）'!BC$3:BC$296,$D7)","v":0},{"$f":"COUNTIFS('データ貼付け（保護者）'!BD$3:BD$296,$D7)","v":0},{"$f":"COUNTIFS('データ貼付け（保護者）'!BE$3:BE$296,$D7)","v":0},{"$f":"COUNTIFS('データ貼付け（保護者）'!BF$3:BF$296,$D7)","v":0},{"$f":"COUNTIFS('データ貼付け（保護者）'!BG$3:BG$296,$D7)","v":0},{"$f":"COUNTIFS('データ貼付け（保護者）'!BH$3:BH$296,$D7)","v":0},{"$f":"COUNTIFS('データ貼付け（保護者）'!BI$3:BI$296,$D7)","v":0},{"$f":"COUNTIFS('データ貼付け（保護者）'!BJ$3:BJ$296,$D7)","v":0},{"$f":"COUNTIFS('データ貼付け（保護者）'!BK$3:BK$296,$D7)","v":0},{"$f":"COUNTIFS('データ貼付け（保護者）'!BL$3:BL$296,$D7)","v":0},{"$f":"COUNTIFS('データ貼付け（保護者）'!BM$3:BM$296,$D7)","v":0},{"$f":"COUNTIFS('データ貼付け（保護者）'!BN$3:BN$296,$D7)","v":0},{"$f":"COUNTIFS('データ貼付け（保護者）'!BO$3:BO$296,$D7)","v":0},{"$f":"COUNTIFS('データ貼付け（保護者）'!BP$3:BP$296,$D7)","v":0},{"$f":"COUNTIFS('データ貼付け（保護者）'!BQ$3:BQ$296,$D7)","v":0},{"$f":"COUNTIFS('データ貼付け（保護者）'!BR$3:BR$296,$D7)","v":0},{"$f":"COUNTIFS('データ貼付け（保護者）'!BS$3:BS$296,$D7)","v":0},{"$f":"COUNTIFS('データ貼付け（保護者）'!BT$3:BT$296,$D7)","v":0},{"$f":"COUNTIFS('データ貼付け（保護者）'!BU$3:BU$296,$D7)","v":0},{"$f":"COUNTIFS('データ貼付け（保護者）'!BV$3:BV$296,$D7)","v":0},{"$f":"COUNTIFS('データ貼付け（保護者）'!BW$3:BW$296,$D7)","v":0},{"$f":"COUNTIFS('データ貼付け（保護者）'!BX$3:BX$296,$D7)","v":0},{"$f":"COUNTIFS('データ貼付け（保護者）'!BY$3:BY$296,$D7)","v":0},{"$f":"COUNTIFS('データ貼付け（保護者）'!BZ$3:BZ$296,$D7)","v":0},{"$f":"COUNTIFS('データ貼付け（保護者）'!CA$3:CA$296,$D7)","v":0},{"$f":"COUNTIFS('データ貼付け（保護者）'!CB$3:CB$296,$D7)","v":0}]
[null,null,null,6,{"$f":"COUNTIFS('データ貼付け（保護者）'!E$3:E$296,$D8)","v":0},{"$f":"COUNTIFS('データ貼付け（保護者）'!F$3:F$296,$D8)","v":0},{"$f":"COUNTIFS('データ貼付け（保護者）'!G$3:G$296,$D8)","v":0},{"$f":"COUNTIFS('データ貼付け（保護者）'!H$3:H$296,$D8)","v":0},{"$f":"COUNTIFS('データ貼付け（保護者）'!I$3:I$296,$D8)","v":0},{"$f":"COUNTIFS('データ貼付け（保護者）'!J$3:J$296,$D8)","v":0},{"$f":"COUNTIFS('データ貼付け（保護者）'!K$3:K$296,$D8)","v":0},{"$f":"COUNTIFS('データ貼付け（保護者）'!L$3:L$296,$D8)","v":0},{"$f":"COUNTIFS('データ貼付け（保護者）'!M$3:M$296,$D8)","v":0},{"$f":"COUNTIFS('データ貼付け（保護者）'!N$3:N$296,$D8)","v":0},{"$f":"COUNTIFS('データ貼付け（保護者）'!O$3:O$296,$D8)","v":0},{"$f":"COUNTIFS('データ貼付け（保護者）'!P$3:P$296,$D8)","v":0},{"$f":"COUNTIFS('データ貼付け（保護者）'!Q$3:Q$296,$D8)","v":0},{"$f":"COUNTIFS('データ貼付け（保護者）'!R$3:R$296,$D8)","v":0},{"$f":"COUNTIFS('データ貼付け（保護者）'!S$3:S$296,$D8)","v":0},{"$f":"COUNTIFS('データ貼付け（保護者）'!T$3:T$296,$D8)","v":0},{"$f":"COUNTIFS('データ貼付け（保護者）'!U$3:U$296,$D8)","v":0},{"$f":"COUNTIFS('データ貼付け（保護者）'!V$3:V$296,$D8)","v":0},{"$f":"COUNTIFS('データ貼付け（保護者）'!W$3:W$296,$D8)","v":0},{"$f":"COUNTIFS('データ貼付け（保護者）'!X$3:X$296,$D8)","v":0},{"$f":"COUNTIFS('データ貼付け（保護者）'!Y$3:Y$296,$D8)","v":0},{"$f":"COUNTIFS('データ貼付け（保護者）'!Z$3:Z$296,$D8)","v":0},{"$f":"COUNTIFS('データ貼付け（保護者）'!AA$3:AA$296,$D8)","v":0},{"$f":"COUNTIFS('データ貼付け（保護者）'!AB$3:AB$296,$D8)","v":0},{"$f":"COUNTIFS('データ貼付け（保護者）'!AC$3:AC$296,$D8)","v":0},{"$f":"COUNTIFS('データ貼付け（保護者）'!AD$3:AD$296,$D8)","v":0},{"$f":"COUNTIFS('データ貼付け（保護者）'!AE$3:AE$296,$D8)","v":0},{"$f":"COUNTIFS('データ貼付け（保護者）'!AF$3:AF$296,$D8)","v":0},{"$f":"COUNTIFS('データ貼付け（保護者）'!AG$3:AG$296,$D8)","v":0},{"$f":"COUNTIFS('データ貼付け（保護者）'!AH$3:AH$296,$D8)","v":0},{"$f":"COUNTIFS('データ貼付け（保護者）'!AI$3:AI$296,$D8)","v":0},{"$f":"COUNTIFS('データ貼付け（保護者）'!AJ$3:AJ$296,$D8)","v":0},{"$f":"COUNTIFS('データ貼付け（保護者）'!AK$3:AK$296,$D8)","v":0},{"$f":"COUNTIFS('データ貼付け（保護者）'!AL$3:AL$296,$D8)","v":0},{"$f":"COUNTIFS('データ貼付け（保護者）'!AM$3:AM$296,$D8)","v":0},{"$f":"COUNTIFS('データ貼付け（保護者）'!AN$3:AN$296,$D8)","v":0},{"$f":"COUNTIFS('データ貼付け（保護者）'!AO$3:AO$296,$D8)","v":0},{"$f":"COUNTIFS('データ貼付け（保護者）'!AP$3:AP$296,$D8)","v":0},{"$f":"COUNTIFS('データ貼付け（保護者）'!AQ$3:AQ$296,$D8)","v":0},{"$f":"COUNTIFS('データ貼付け（保護者）'!AR$3:AR$296,$D8)","v":0},{"$f":"COUNTIFS('データ貼付け（保護者）'!AS$3:AS$296,$D8)","v":0},{"$f":"COUNTIFS('データ貼付け（保護者）'!AT$3:AT$296,$D8)","v":0},{"$f":"COUNTIFS('データ貼付け（保護者）'!AU$3:AU$296,$D8)","v":0},{"$f":"COUNTIFS('データ貼付け（保護者）'!AV$3:AV$296,$D8)","v":0},{"$f":"COUNTIFS('データ貼付け（保護者）'!AW$3:AW$296,$D8)","v":0},{"$f":"COUNTIFS('データ貼付け（保護者）'!AX$3:AX$296,$D8)","v":0},{"$f":"COUNTIFS('データ貼付け（保護者）'!AY$3:AY$296,$D8)","v":0},{"$f":"COUNTIFS('データ貼付け（保護者）'!AZ$3:AZ$296,$D8)","v":0},{"$f":"COUNTIFS('データ貼付け（保護者）'!BA$3:BA$296,$D8)","v":0},{"$f":"COUNTIFS('データ貼付け（保護者）'!BB$3:BB$296,$D8)","v":0},{"$f":"COUNTIFS('データ貼付け（保護者）'!BC$3:BC$296,$D8)","v":0},{"$f":"COUNTIFS('データ貼付け（保護者）'!BD$3:BD$296,$D8)","v":0},{"$f":"COUNTIFS('データ貼付け（保護者）'!BE$3:BE$296,$D8)","v":0},{"$f":"COUNTIFS('データ貼付け（保護者）'!BF$3:BF$296,$D8)","v":0},{"$f":"COUNTIFS('データ貼付け（保護者）'!BG$3:BG$296,$D8)","v":0},{"$f":"COUNTIFS('データ貼付け（保護者）'!BH$3:BH$296,$D8)","v":0},{"$f":"COUNTIFS('データ貼付け（保護者）'!BI$3:BI$296,$D8)","v":0},{"$f":"COUNTIFS('データ貼付け（保護者）'!BJ$3:BJ$296,$D8)","v":0},{"$f":"COUNTIFS('データ貼付け（保護者）'!BK$3:BK$296,$D8)","v":0},{"$f":"COUNTIFS('データ貼付け（保護者）'!BL$3:BL$296,$D8)","v":0},{"$f":"COUNTIFS('データ貼付け（保護者）'!BM$3:BM$296,$D8)","v":0},{"$f":"COUNTIFS('データ貼付け（保護者）'!BN$3:BN$296,$D8)","v":0},{"$f":"COUNTIFS('データ貼付け（保護者）'!BO$3:BO$296,$D8)","v":0},{"$f":"COUNTIFS('データ貼付け（保護者）'!BP$3:BP$296,$D8)","v":0},{"$f":"COUNTIFS('データ貼付け（保護者）'!BQ$3:BQ$296,$D8)","v":0},{"$f":"COUNTIFS('データ貼付け（保護者）'!BR$3:BR$296,$D8)","v":0},{"$f":"COUNTIFS('データ貼付け（保護者）'!BS$3:BS$296,$D8)","v":0},{"$f":"COUNTIFS('データ貼付け（保護者）'!BT$3:BT$296,$D8)","v":0},{"$f":"COUNTIFS('データ貼付け（保護者）'!BU$3:BU$296,$D8)","v":0},{"$f":"COUNTIFS('データ貼付け（保護者）'!BV$3:BV$296,$D8)","v":0},{"$f":"COUNTIFS('データ貼付け（保護者）'!BW$3:BW$296,$D8)","v":0},{"$f":"COUNTIFS('データ貼付け（保護者）'!BX$3:BX$296,$D8)","v":0},{"$f":"COUNTIFS('データ貼付け（保護者）'!BY$3:BY$296,$D8)","v":0},{"$f":"COUNTIFS('データ貼付け（保護者）'!BZ$3:BZ$296,$D8)","v":0},{"$f":"COUNTIFS('データ貼付け（保護者）'!CA$3:CA$296,$D8)","v":0},{"$f":"COUNTIFS('データ貼付け（保護者）'!CB$3:CB$296,$D8)","v":0}]
[null,null,null,7,{"$f":"COUNTIFS('データ貼付け（保護者）'!E$3:E$296,$D9)","v":0},{"$f":"COUNTIFS('データ貼付け（保護者）'!F$3:F$296,$D9)","v":0},{"$f":"COUNTIFS('データ貼付け（保護者）'!G$3:G$296,$D9)","v":0},{"$f":"COUNTIFS('データ貼付け（保護者）'!H$3:H$296,$D9)","v":0},{"$f":"COUNTIFS('データ貼付け（保護者）'!I$3:I$296,$D9)","v":0},{"$f":"COUNTIFS('データ貼付け（保護者）'!J$3:J$296,$D9)","v":0},{"$f":"COUNTIFS('データ貼付け（保護者）'!K$3:K$296,$D9)","v":0},{"$f":"COUNTIFS('データ貼付け（保護者）'!L$3:L$296,$D9)","v":0},{"$f":"COUNTIFS('データ貼付け（保護者）'!M$3:M$296,$D9)","v":0},{"$f":"COUNTIFS('データ貼付け（保護者）'!N$3:N$296,$D9)","v":0},{"$f":"COUNTIFS('データ貼付け（保護者）'!O$3:O$296,$D9)","v":0},{"$f":"COUNTIFS('データ貼付け（保護者）'!P$3:P$296,$D9)","v":0},{"$f":"COUNTIFS('データ貼付け（保護者）'!Q$3:Q$296,$D9)","v":0},{"$f":"COUNTIFS('データ貼付け（保護者）'!R$3:R$296,$D9)","v":0},{"$f":"COUNTIFS('データ貼付け（保護者）'!S$3:S$296,$D9)","v":0},{"$f":"COUNTIFS('データ貼付け（保護者）'!T$3:T$296,$D9)","v":0},{"$f":"COUNTIFS('データ貼付け（保護者）'!U$3:U$296,$D9)","v":0},{"$f":"COUNTIFS('データ貼付け（保護者）'!V$3:V$296,$D9)","v":0},{"$f":"COUNTIFS('データ貼付け（保護者）'!W$3:W$296,$D9)","v":0},{"$f":"COUNTIFS('データ貼付け（保護者）'!X$3:X$296,$D9)","v":0},{"$f":"COUNTIFS('データ貼付け（保護者）'!Y$3:Y$296,$D9)","v":0},{"$f":"COUNTIFS('データ貼付け（保護者）'!Z$3:Z$296,$D9)","v":0},{"$f":"COUNTIFS('データ貼付け（保護者）'!AA$3:AA$296,$D9)","v":0},{"$f":"COUNTIFS('データ貼付け（保護者）'!AB$3:AB$296,$D9)","v":0},{"$f":"COUNTIFS('データ貼付け（保護者）'!AC$3:AC$296,$D9)","v":0},{"$f":"COUNTIFS('データ貼付け（保護者）'!AD$3:AD$296,$D9)","v":0},{"$f":"COUNTIFS('データ貼付け（保護者）'!AE$3:AE$296,$D9)","v":0},{"$f":"COUNTIFS('データ貼付け（保護者）'!AF$3:AF$296,$D9)","v":0},{"$f":"COUNTIFS('データ貼付け（保護者）'!AG$3:AG$296,$D9)","v":0},{"$f":"COUNTIFS('データ貼付け（保護者）'!AH$3:AH$296,$D9)","v":0},{"$f":"COUNTIFS('データ貼付け（保護者）'!AI$3:AI$296,$D9)","v":0},{"$f":"COUNTIFS('データ貼付け（保護者）'!AJ$3:AJ$296,$D9)","v":0},{"$f":"COUNTIFS('データ貼付け（保護者）'!AK$3:AK$296,$D9)","v":0},{"$f":"COUNTIFS('データ貼付け（保護者）'!AL$3:AL$296,$D9)","v":0},{"$f":"COUNTIFS('データ貼付け（保護者）'!AM$3:AM$296,$D9)","v":0},{"$f":"COUNTIFS('データ貼付け（保護者）'!AN$3:AN$296,$D9)","v":0},{"$f":"COUNTIFS('データ貼付け（保護者）'!AO$3:AO$296,$D9)","v":0},{"$f":"COUNTIFS('データ貼付け（保護者）'!AP$3:AP$296,$D9)","v":0},{"$f":"COUNTIFS('データ貼付け（保護者）'!AQ$3:AQ$296,$D9)","v":0},{"$f":"COUNTIFS('データ貼付け（保護者）'!AR$3:AR$296,$D9)","v":0},{"$f":"COUNTIFS('データ貼付け（保護者）'!AS$3:AS$296,$D9)","v":0},{"$f":"COUNTIFS('データ貼付け（保護者）'!AT$3:AT$296,$D9)","v":0},{"$f":"COUNTIFS('データ貼付け（保護者）'!AU$3:AU$296,$D9)","v":0},{"$f":"COUNTIFS('データ貼付け（保護者）'!AV$3:AV$296,$D9)","v":0},{"$f":"COUNTIFS('データ貼付け（保護者）'!AW$3:AW$296,$D9)","v":0},{"$f":"COUNTIFS('データ貼付け（保護者）'!AX$3:AX$296,$D9)","v":0},{"$f":"COUNTIFS('データ貼付け（保護者）'!AY$3:AY$296,$D9)","v":0},{"$f":"COUNTIFS('データ貼付け（保護者）'!AZ$3:AZ$296,$D9)","v":0},{"$f":"COUNTIFS('データ貼付け（保護者）'!BA$3:BA$296,$D9)","v":0},{"$f":"COUNTIFS('データ貼付け（保護者）'!BB$3:BB$296,$D9)","v":0},{"$f":"COUNTIFS('データ貼付け（保護者）'!BC$3:BC$296,$D9)","v":0},{"$f":"COUNTIFS('データ貼付け（保護者）'!BD$3:BD$296,$D9)","v":0},{"$f":"COUNTIFS('データ貼付け（保護者）'!BE$3:BE$296,$D9)","v":0},{"$f":"COUNTIFS('データ貼付け（保護者）'!BF$3:BF$296,$D9)","v":0},{"$f":"COUNTIFS('データ貼付け（保護者）'!BG$3:BG$296,$D9)","v":0},{"$f":"COUNTIFS('データ貼付け（保護者）'!BH$3:BH$296,$D9)","v":0},{"$f":"COUNTIFS('データ貼付け（保護者）'!BI$3:BI$296,$D9)","v":0},{"$f":"COUNTIFS('データ貼付け（保護者）'!BJ$3:BJ$296,$D9)","v":0},{"$f":"COUNTIFS('データ貼付け（保護者）'!BK$3:BK$296,$D9)","v":0},{"$f":"COUNTIFS('データ貼付け（保護者）'!BL$3:BL$296,$D9)","v":0},{"$f":"COUNTIFS('データ貼付け（保護者）'!BM$3:BM$296,$D9)","v":0},{"$f":"COUNTIFS('データ貼付け（保護者）'!BN$3:BN$296,$D9)","v":0},{"$f":"COUNTIFS('データ貼付け（保護者）'!BO$3:BO$296,$D9)","v":0},{"$f":"COUNTIFS('データ貼付け（保護者）'!BP$3:BP$296,$D9)","v":0},{"$f":"COUNTIFS('データ貼付け（保護者）'!BQ$3:BQ$296,$D9)","v":0},{"$f":"COUNTIFS('データ貼付け（保護者）'!BR$3:BR$296,$D9)","v":0},{"$f":"COUNTIFS('データ貼付け（保護者）'!BS$3:BS$296,$D9)","v":0},{"$f":"COUNTIFS('データ貼付け（保護者）'!BT$3:BT$296,$D9)","v":0},{"$f":"COUNTIFS('データ貼付け（保護者）'!BU$3:BU$296,$D9)","v":0},{"$f":"COUNTIFS('データ貼付け（保護者）'!BV$3:BV$296,$D9)","v":0},{"$f":"COUNTIFS('データ貼付け（保護者）'!BW$3:BW$296,$D9)","v":0},{"$f":"COUNTIFS('データ貼付け（保護者）'!BX$3:BX$296,$D9)","v":0},{"$f":"COUNTIFS('データ貼付け（保護者）'!BY$3:BY$296,$D9)","v":0},{"$f":"COUNTIFS('データ貼付け（保護者）'!BZ$3:BZ$296,$D9)","v":0},{"$f":"COUNTIFS('データ貼付け（保護者）'!CA$3:CA$296,$D9)","v":0},{"$f":"COUNTIFS('データ貼付け（保護者）'!CB$3:CB$296,$D9)","v":0}]
[null,null,null,8,{"$f":"COUNTIFS('データ貼付け（保護者）'!E$3:E$296,$D10)","v":0},{"$f":"COUNTIFS('データ貼付け（保護者）'!F$3:F$296,$D10)","v":0},{"$f":"COUNTIFS('データ貼付け（保護者）'!G$3:G$296,$D10)","v":0},{"$f":"COUNTIFS('データ貼付け（保護者）'!H$3:H$296,$D10)","v":0},{"$f":"COUNTIFS('データ貼付け（保護者）'!I$3:I$296,$D10)","v":0},{"$f":"COUNTIFS('データ貼付け（保護者）'!J$3:J$296,$D10)","v":0},{"$f":"COUNTIFS('データ貼付け（保護者）'!K$3:K$296,$D10)","v":0},{"$f":"COUNTIFS('データ貼付け（保護者）'!L$3:L$296,$D10)","v":0},{"$f":"COUNTIFS('データ貼付け（保護者）'!M$3:M$296,$D10)","v":0},{"$f":"COUNTIFS('データ貼付け（保護者）'!N$3:N$296,$D10)","v":0},{"$f":"COUNTIFS('データ貼付け（保護者）'!O$3:O$296,$D10)","v":0},{"$f":"COUNTIFS('データ貼付け（保護者）'!P$3:P$296,$D10)","v":0},{"$f":"COUNTIFS('データ貼付け（保護者）'!Q$3:Q$296,$D10)","v":0},{"$f":"COUNTIFS('データ貼付け（保護者）'!R$3:R$296,$D10)","v":0},{"$f":"COUNTIFS('データ貼付け（保護者）'!S$3:S$296,$D10)","v":0},{"$f":"COUNTIFS('データ貼付け（保護者）'!T$3:T$296,$D10)","v":0},{"$f":"COUNTIFS('データ貼付け（保護者）'!U$3:U$296,$D10)","v":0},{"$f":"COUNTIFS('データ貼付け（保護者）'!V$3:V$296,$D10)","v":0},{"$f":"COUNTIFS('データ貼付け（保護者）'!W$3:W$296,$D10)","v":0},{"$f":"COUNTIFS('データ貼付け（保護者）'!X$3:X$296,$D10)","v":0},{"$f":"COUNTIFS('データ貼付け（保護者）'!Y$3:Y$296,$D10)","v":0},{"$f":"COUNTIFS('データ貼付け（保護者）'!Z$3:Z$296,$D10)","v":0},{"$f":"COUNTIFS('データ貼付け（保護者）'!AA$3:AA$296,$D10)","v":0},{"$f":"COUNTIFS('データ貼付け（保護者）'!AB$3:AB$296,$D10)","v":0},{"$f":"COUNTIFS('データ貼付け（保護者）'!AC$3:AC$296,$D10)","v":0},{"$f":"COUNTIFS('データ貼付け（保護者）'!AD$3:AD$296,$D10)","v":0},{"$f":"COUNTIFS('データ貼付け（保護者）'!AE$3:AE$296,$D10)","v":0},{"$f":"COUNTIFS('データ貼付け（保護者）'!AF$3:AF$296,$D10)","v":0},{"$f":"COUNTIFS('データ貼付け（保護者）'!AG$3:AG$296,$D10)","v":0},{"$f":"COUNTIFS('データ貼付け（保護者）'!AH$3:AH$296,$D10)","v":0},{"$f":"COUNTIFS('データ貼付け（保護者）'!AI$3:AI$296,$D10)","v":0},{"$f":"COUNTIFS('データ貼付け（保護者）'!AJ$3:AJ$296,$D10)","v":0},{"$f":"COUNTIFS('データ貼付け（保護者）'!AK$3:AK$296,$D10)","v":0},{"$f":"COUNTIFS('データ貼付け（保護者）'!AL$3:AL$296,$D10)","v":0},{"$f":"COUNTIFS('データ貼付け（保護者）'!AM$3:AM$296,$D10)","v":0},{"$f":"COUNTIFS('データ貼付け（保護者）'!AN$3:AN$296,$D10)","v":0},{"$f":"COUNTIFS('データ貼付け（保護者）'!AO$3:AO$296,$D10)","v":0},{"$f":"COUNTIFS('データ貼付け（保護者）'!AP$3:AP$296,$D10)","v":0},{"$f":"COUNTIFS('データ貼付け（保護者）'!AQ$3:AQ$296,$D10)","v":0},{"$f":"COUNTIFS('データ貼付け（保護者）'!AR$3:AR$296,$D10)","v":0},{"$f":"COUNTIFS('データ貼付け（保護者）'!AS$3:AS$296,$D10)","v":0},{"$f":"COUNTIFS('データ貼付け（保護者）'!AT$3:AT$296,$D10)","v":0},{"$f":"COUNTIFS('データ貼付け（保護者）'!AU$3:AU$296,$D10)","v":0},{"$f":"COUNTIFS('データ貼付け（保護者）'!AV$3:AV$296,$D10)","v":0},{"$f":"COUNTIFS('データ貼付け（保護者）'!AW$3:AW$296,$D10)","v":0},{"$f":"COUNTIFS('データ貼付け（保護者）'!AX$3:AX$296,$D10)","v":0},{"$f":"COUNTIFS('データ貼付け（保護者）'!AY$3:AY$296,$D10)","v":0},{"$f":"COUNTIFS('データ貼付け（保護者）'!AZ$3:AZ$296,$D10)","v":0},{"$f":"COUNTIFS('データ貼付け（保護者）'!BA$3:BA$296,$D10)","v":0},{"$f":"COUNTIFS('データ貼付け（保護者）'!BB$3:BB$296,$D10)","v":0},{"$f":"COUNTIFS('データ貼付け（保護者）'!BC$3:BC$296,$D10)","v":0},{"$f":"COUNTIFS('データ貼付け（保護者）'!BD$3:BD$296,$D10)","v":0},{"$f":"COUNTIFS('データ貼付け（保護者）'!BE$3:BE$296,$D10)","v":0},{"$f":"COUNTIFS('データ貼付け（保護者）'!BF$3:BF$296,$D10)","v":0},{"$f":"COUNTIFS('データ貼付け（保護者）'!BG$3:BG$296,$D10)","v":0},{"$f":"COUNTIFS('データ貼付け（保護者）'!BH$3:BH$296,$D10)","v":0},{"$f":"COUNTIFS('データ貼付け（保護者）'!BI$3:BI$296,$D10)","v":0},{"$f":"COUNTIFS('データ貼付け（保護者）'!BJ$3:BJ$296,$D10)","v":0},{"$f":"COUNTIFS('データ貼付け（保護者）'!BK$3:BK$296,$D10)","v":0},{"$f":"COUNTIFS('データ貼付け（保護者）'!BL$3:BL$296,$D10)","v":0},{"$f":"COUNTIFS('データ貼付け（保護者）'!BM$3:BM$296,$D10)","v":0},{"$f":"COUNTIFS('データ貼付け（保護者）'!BN$3:BN$296,$D10)","v":0},{"$f":"COUNTIFS('データ貼付け（保護者）'!BO$3:BO$296,$D10)","v":0},{"$f":"COUNTIFS('データ貼付け（保護者）'!BP$3:BP$296,$D10)","v":0},{"$f":"COUNTIFS('データ貼付け（保護者）'!BQ$3:BQ$296,$D10)","v":0},{"$f":"COUNTIFS('データ貼付け（保護者）'!BR$3:BR$296,$D10)","v":0},{"$f":"COUNTIFS('データ貼付け（保護者）'!BS$3:BS$296,$D10)","v":0},{"$f":"COUNTIFS('データ貼付け（保護者）'!BT$3:BT$296,$D10)","v":0},{"$f":"COUNTIFS('データ貼付け（保護者）'!BU$3:BU$296,$D10)","v":0},{"$f":"COUNTIFS('データ貼付け（保護者）'!BV$3:BV$296,$D10)","v":0},{"$f":"COUNTIFS('データ貼付け（保護者）'!BW$3:BW$296,$D10)","v":0},{"$f":"COUNTIFS('データ貼付け（保護者）'!BX$3:BX$296,$D10)","v":0},{"$f":"COUNTIFS('データ貼付け（保護者）'!BY$3:BY$296,$D10)","v":0},{"$f":"COUNTIFS('データ貼付け（保護者）'!BZ$3:BZ$296,$D10)","v":0},{"$f":"COUNTIFS('データ貼付け（保護者）'!CA$3:CA$296,$D10)","v":0},{"$f":"COUNTIFS('データ貼付け（保護者）'!CB$3:CB$296,$D10)","v":0}]
[null,null,null,9,{"$f":"COUNTIFS('データ貼付け（保護者）'!E$3:E$296,$D11)","v":0},{"$f":"COUNTIFS('データ貼付け（保護者）'!F$3:F$296,$D11)","v":0},{"$f":"COUNTIFS('データ貼付け（保護者）'!G$3:G$296,$D11)","v":0},{"$f":"COUNTIFS('データ貼付け（保護者）'!H$3:H$296,$D11)","v":0},{"$f":"COUNTIFS('データ貼付け（保護者）'!I$3:I$296,$D11)","v":0},{"$f":"COUNTIFS('データ貼付け（保護者）'!J$3:J$296,$D11)","v":0},{"$f":"COUNTIFS('データ貼付け（保護者）'!K$3:K$296,$D11)","v":0},{"$f":"COUNTIFS('データ貼付け（保護者）'!L$3:L$296,$D11)","v":0},{"$f":"COUNTIFS('データ貼付け（保護者）'!M$3:M$296,$D11)","v":0},{"$f":"COUNTIFS('データ貼付け（保護者）'!N$3:N$296,$D11)","v":0},{"$f":"COUNTIFS('データ貼付け（保護者）'!O$3:O$296,$D11)","v":0},{"$f":"COUNTIFS('データ貼付け（保護者）'!P$3:P$296,$D11)","v":0},{"$f":"COUNTIFS('データ貼付け（保護者）'!Q$3:Q$296,$D11)","v":0},{"$f":"COUNTIFS('データ貼付け（保護者）'!R$3:R$296,$D11)","v":0},{"$f":"COUNTIFS('データ貼付け（保護者）'!S$3:S$296,$D11)","v":0},{"$f":"COUNTIFS('データ貼付け（保護者）'!T$3:T$296,$D11)","v":0},{"$f":"COUNTIFS('データ貼付け（保護者）'!U$3:U$296,$D11)","v":0},{"$f":"COUNTIFS('データ貼付け（保護者）'!V$3:V$296,$D11)","v":0},{"$f":"COUNTIFS('データ貼付け（保護者）'!W$3:W$296,$D11)","v":0},{"$f":"COUNTIFS('データ貼付け（保護者）'!X$3:X$296,$D11)","v":0},{"$f":"COUNTIFS('データ貼付け（保護者）'!Y$3:Y$296,$D11)","v":0},{"$f":"COUNTIFS('データ貼付け（保護者）'!Z$3:Z$296,$D11)","v":0},{"$f":"COUNTIFS('データ貼付け（保護者）'!AA$3:AA$296,$D11)","v":0},{"$f":"COUNTIFS('データ貼付け（保護者）'!AB$3:AB$296,$D11)","v":0},{"$f":"COUNTIFS('データ貼付け（保護者）'!AC$3:AC$296,$D11)","v":0},{"$f":"COUNTIFS('データ貼付け（保護者）'!AD$3:AD$296,$D11)","v":0},{"$f":"COUNTIFS('データ貼付け（保護者）'!AE$3:AE$296,$D11)","v":0},{"$f":"COUNTIFS('データ貼付け（保護者）'!AF$3:AF$296,$D11)","v":0},{"$f":"COUNTIFS('データ貼付け（保護者）'!AG$3:AG$296,$D11)","v":0},{"$f":"COUNTIFS('データ貼付け（保護者）'!AH$3:AH$296,$D11)","v":0},{"$f":"COUNTIFS('データ貼付け（保護者）'!AI$3:AI$296,$D11)","v":0},{"$f":"COUNTIFS('データ貼付け（保護者）'!AJ$3:AJ$296,$D11)","v":0},{"$f":"COUNTIFS('データ貼付け（保護者）'!AK$3:AK$296,$D11)","v":0},{"$f":"COUNTIFS('データ貼付け（保護者）'!AL$3:AL$296,$D11)","v":0},{"$f":"COUNTIFS('データ貼付け（保護者）'!AM$3:AM$296,$D11)","v":0},{"$f":"COUNTIFS('データ貼付け（保護者）'!AN$3:AN$296,$D11)","v":0},{"$f":"COUNTIFS('データ貼付け（保護者）'!AO$3:AO$296,$D11)","v":0},{"$f":"COUNTIFS('データ貼付け（保護者）'!AP$3:AP$296,$D11)","v":0},{"$f":"COUNTIFS('データ貼付け（保護者）'!AQ$3:AQ$296,$D11)","v":0},{"$f":"COUNTIFS('データ貼付け（保護者）'!AR$3:AR$296,$D11)","v":0},{"$f":"COUNTIFS('データ貼付け（保護者）'!AS$3:AS$296,$D11)","v":0},{"$f":"COUNTIFS('データ貼付け（保護者）'!AT$3:AT$296,$D11)","v":0},{"$f":"COUNTIFS('データ貼付け（保護者）'!AU$3:AU$296,$D11)","v":0},{"$f":"COUNTIFS('データ貼付け（保護者）'!AV$3:AV$296,$D11)","v":0},{"$f":"COUNTIFS('データ貼付け（保護者）'!AW$3:AW$296,$D11)","v":0},{"$f":"COUNTIFS('データ貼付け（保護者）'!AX$3:AX$296,$D11)","v":0},{"$f":"COUNTIFS('データ貼付け（保護者）'!AY$3:AY$296,$D11)","v":0},{"$f":"COUNTIFS('データ貼付け（保護者）'!AZ$3:AZ$296,$D11)","v":0},{"$f":"COUNTIFS('データ貼付け（保護者）'!BA$3:BA$296,$D11)","v":0},{"$f":"COUNTIFS('データ貼付け（保護者）'!BB$3:BB$296,$D11)","v":0},{"$f":"COUNTIFS('データ貼付け（保護者）'!BC$3:BC$296,$D11)","v":0},{"$f":"COUNTIFS('データ貼付け（保護者）'!BD$3:BD$296,$D11)","v":0},{"$f":"COUNTIFS('データ貼付け（保護者）'!BE$3:BE$296,$D11)","v":0},{"$f":"COUNTIFS('データ貼付け（保護者）'!BF$3:BF$296,$D11)","v":0},{"$f":"COUNTIFS('データ貼付け（保護者）'!BG$3:BG$296,$D11)","v":0},{"$f":"COUNTIFS('データ貼付け（保護者）'!BH$3:BH$296,$D11)","v":0},{"$f":"COUNTIFS('データ貼付け（保護者）'!BI$3:BI$296,$D11)","v":0},{"$f":"COUNTIFS('データ貼付け（保護者）'!BJ$3:BJ$296,$D11)","v":0},{"$f":"COUNTIFS('データ貼付け（保護者）'!BK$3:BK$296,$D11)","v":0},{"$f":"COUNTIFS('データ貼付け（保護者）'!BL$3:BL$296,$D11)","v":0},{"$f":"COUNTIFS('データ貼付け（保護者）'!BM$3:BM$296,$D11)","v":0},{"$f":"COUNTIFS('データ貼付け（保護者）'!BN$3:BN$296,$D11)","v":0},{"$f":"COUNTIFS('データ貼付け（保護者）'!BO$3:BO$296,$D11)","v":0},{"$f":"COUNTIFS('データ貼付け（保護者）'!BP$3:BP$296,$D11)","v":0},{"$f":"COUNTIFS('データ貼付け（保護者）'!BQ$3:BQ$296,$D11)","v":0},{"$f":"COUNTIFS('データ貼付け（保護者）'!BR$3:BR$296,$D11)","v":0},{"$f":"COUNTIFS('データ貼付け（保護者）'!BS$3:BS$296,$D11)","v":0},{"$f":"COUNTIFS('データ貼付け（保護者）'!BT$3:BT$296,$D11)","v":0},{"$f":"COUNTIFS('データ貼付け（保護者）'!BU$3:BU$296,$D11)","v":0},{"$f":"COUNTIFS('データ貼付け（保護者）'!BV$3:BV$296,$D11)","v":0},{"$f":"COUNTIFS('データ貼付け（保護者）'!BW$3:BW$296,$D11)","v":0},{"$f":"COUNTIFS('データ貼付け（保護者）'!BX$3:BX$296,$D11)","v":0},{"$f":"COUNTIFS('データ貼付け（保護者）'!BY$3:BY$296,$D11)","v":0},{"$f":"COUNTIFS('データ貼付け（保護者）'!BZ$3:BZ$296,$D11)","v":0},{"$f":"COUNTIFS('データ貼付け（保護者）'!CA$3:CA$296,$D11)","v":0},{"$f":"COUNTIFS('データ貼付け（保護者）'!CB$3:CB$296,$D11)","v":0}]